BEGIN:VCALENDAR
VERSION:2.0
PRODID:-//Squatch Brewing - ECPv6.15.20//NONSGML v1.0//EN
CALSCALE:GREGORIAN
METHOD:PUBLISH
X-WR-CALNAME:Squatch Brewing
X-ORIGINAL-URL:https://squatch-brewing.com
X-WR-CALDESC:Events for Squatch Brewing
REFRESH-INTERVAL;VALUE=DURATION:PT1H
X-Robots-Tag:noindex
X-PUBLISHED-TTL:PT1H
BEGIN:VTIMEZONE
TZID:America/New_York
BEGIN:DAYLIGHT
TZOFFSETFROM:-0500
TZOFFSETTO:-0400
TZNAME:EDT
DTSTART:20230312T070000
END:DAYLIGHT
BEGIN:STANDARD
TZOFFSETFROM:-0400
TZOFFSETTO:-0500
TZNAME:EST
DTSTART:20231105T060000
END:STANDARD
BEGIN:DAYLIGHT
TZOFFSETFROM:-0500
TZOFFSETTO:-0400
TZNAME:EDT
DTSTART:20240310T070000
END:DAYLIGHT
BEGIN:STANDARD
TZOFFSETFROM:-0400
TZOFFSETTO:-0500
TZNAME:EST
DTSTART:20241103T060000
END:STANDARD
BEGIN:DAYLIGHT
TZOFFSETFROM:-0500
TZOFFSETTO:-0400
TZNAME:EDT
DTSTART:20250309T070000
END:DAYLIGHT
BEGIN:STANDARD
TZOFFSETFROM:-0400
TZOFFSETTO:-0500
TZNAME:EST
DTSTART:20251102T060000
END:STANDARD
BEGIN:DAYLIGHT
TZOFFSETFROM:-0500
TZOFFSETTO:-0400
TZNAME:EDT
DTSTART:20260308T070000
END:DAYLIGHT
BEGIN:STANDARD
TZOFFSETFROM:-0400
TZOFFSETTO:-0500
TZNAME:EST
DTSTART:20261101T060000
END:STANDARD
END:VTIMEZONE
BEGIN:VEVENT
DTSTART;TZID=America/New_York:20241204T080000
DTEND;TZID=America/New_York:20241204T170000
DTSTAMP:20260420T110832
CREATED:20241204T172352Z
LAST-MODIFIED:20241204T172352Z
UID:10000659-1733299200-1733331600@squatch-brewing.com
SUMMARY:Brad Wagner
DESCRIPTION:
URL:https://squatch-brewing.com/event/brad-wagner-17/
LOCATION:Squatch Brewing\, 203 Townsend Drive\, Monroeville\, PA\, 15146\, United States
CATEGORIES:Entertainment
END:VEVENT
BEGIN:VEVENT
DTSTART;TZID=America/New_York:20241205T180000
DTEND;TZID=America/New_York:20241205T200000
DTSTAMP:20260420T110832
CREATED:20240513T171530Z
LAST-MODIFIED:20240719T113016Z
UID:10000303-1733421600-1733428800@squatch-brewing.com
SUMMARY:Trivia Night with Trivia Time
DESCRIPTION:Free to play and win prizes!
URL:https://squatch-brewing.com/event/trivia-night/2024-12-05/
LOCATION:Squatch Brewing\, 203 Townsend Drive\, Monroeville\, PA\, 15146\, United States
CATEGORIES:Entertainment
ATTACH;FMTTYPE=image/png:https://squatch-brewing.com/wp-content/uploads/2024/05/Screenshot-2024-07-19-072926.png
END:VEVENT
BEGIN:VEVENT
DTSTART;TZID=America/New_York:20241206T170000
DTEND;TZID=America/New_York:20241206T200000
DTSTAMP:20260420T110832
CREATED:20240529T175523Z
LAST-MODIFIED:20250108T194028Z
UID:10000610-1733504400-1733515200@squatch-brewing.com
SUMMARY:Dennis Crawford Acoustic
DESCRIPTION:https://www.facebook.com/profile.php?id=100089759963609
URL:https://squatch-brewing.com/event/dennis-crawford-acoustic/2024-12-06/
LOCATION:Squatch Brewing\, 203 Townsend Drive\, Monroeville\, PA\, 15146\, United States
CATEGORIES:Entertainment
ATTACH;FMTTYPE=image/jpeg:https://squatch-brewing.com/wp-content/uploads/2024/05/432013458_313119748454204_7396773995717001633_n-e1730916703391.jpg
END:VEVENT
BEGIN:VEVENT
DTSTART;TZID=America/New_York:20241207T170000
DTEND;TZID=America/New_York:20241207T200000
DTSTAMP:20260420T110832
CREATED:20241107T190348Z
LAST-MODIFIED:20241107T190514Z
UID:10000577-1733590800-1733601600@squatch-brewing.com
SUMMARY:Bare Bonez Acoustic
DESCRIPTION:
URL:https://squatch-brewing.com/event/bare-bonez-acoustic-2-2-3/2024-12-07/
LOCATION:Squatch Brewing\, 203 Townsend Drive\, Monroeville\, PA\, 15146\, United States
CATEGORIES:Entertainment
ATTACH;FMTTYPE=image/jpeg:https://squatch-brewing.com/wp-content/uploads/2024/05/Cropped-logo-1-e1730923138758.jpg
END:VEVENT
BEGIN:VEVENT
DTSTART;TZID=America/New_York:20241212T180000
DTEND;TZID=America/New_York:20241212T210000
DTSTAMP:20260420T110832
CREATED:20240905T185847Z
LAST-MODIFIED:20241104T180119Z
UID:10000406-1734026400-1734037200@squatch-brewing.com
SUMMARY:Puzzles & Pints
DESCRIPTION:Casually assemble your jigsaw puzzle or compete as a team to be the fastest to put it together! All while sampling and enjoying craft beer from Squatch Brewing.\n\n$10 per person.\nPizza will be provided.\n\nCheck-in and food service begins at 6:00 pm.Race starts at 6:30pm.\n– – –\n\nCompetition Details*Teams of up to 4 people can register to compete for speed assembling a jigsaw puzzle. Limited to 8 teams.* Events typically feature only one to three puzzle designs spread evenly across all teams.* Puzzles will be randomly drawn upon the start of the competition.* Prizes are awarded to the fastest finishing teams per design. Prizes include 60 Minute Missions gift cards\, beers and merchandise.– – –No outside drink is permitted.\nPlayers must be at least 21 years old\n– – –\nTo Register: 60 Minute Missions Escape Room – Booking (bookeo.com)
URL:https://squatch-brewing.com/event/puzzles-pints-3/
LOCATION:Squatch Brewing\, 203 Townsend Drive\, Monroeville\, PA\, 15146\, United States
CATEGORIES:Entertainment
ATTACH;FMTTYPE=image/png:https://squatch-brewing.com/wp-content/uploads/2024/09/puzzles-sold-out.png
END:VEVENT
BEGIN:VEVENT
DTSTART;TZID=America/New_York:20241213T170000
DTEND;TZID=America/New_York:20241213T200000
DTSTAMP:20260420T110832
CREATED:20240516T171618Z
LAST-MODIFIED:20240528T130500Z
UID:10000176-1734109200-1734120000@squatch-brewing.com
SUMMARY:Jellybean Boom
DESCRIPTION:https://www.facebook.com/jellybeanboom15610
URL:https://squatch-brewing.com/event/jellybean-boom/2024-12-13/
LOCATION:Squatch Brewing\, 203 Townsend Drive\, Monroeville\, PA\, 15146\, United States
CATEGORIES:Entertainment
ATTACH;FMTTYPE=image/jpeg:https://squatch-brewing.com/wp-content/uploads/2024/05/photo-1.jpg
END:VEVENT
BEGIN:VEVENT
DTSTART;TZID=America/New_York:20241214T170000
DTEND;TZID=America/New_York:20241214T200000
DTSTAMP:20260420T110832
CREATED:20241011T171248Z
LAST-MODIFIED:20250108T191634Z
UID:10000482-1734195600-1734206400@squatch-brewing.com
SUMMARY:Two Man Martian
DESCRIPTION:https://www.facebook.com/people/Twomanmartian/100063439552748/
URL:https://squatch-brewing.com/event/two-man-martian-3/2024-12-14/
LOCATION:Squatch Brewing\, 203 Townsend Drive\, Monroeville\, PA\, 15146\, United States
CATEGORIES:Entertainment
ATTACH;FMTTYPE=image/png:https://squatch-brewing.com/wp-content/uploads/2024/04/tmm-1.png
END:VEVENT
BEGIN:VEVENT
DTSTART;TZID=America/New_York:20241215T130000
DTEND;TZID=America/New_York:20241215T160000
DTSTAMP:20260420T110832
CREATED:20241007T120805Z
LAST-MODIFIED:20241007T120856Z
UID:10000434-1734267600-1734278400@squatch-brewing.com
SUMMARY:Music By Mark Anthony
DESCRIPTION:https://www.facebook.com/theOriginalMarkAnthony?mibextid=ZbWKwL
URL:https://squatch-brewing.com/event/music-by-mark-anthony-2/2024-12-15/
LOCATION:Squatch Brewing\, 203 Townsend Drive\, Monroeville\, PA\, 15146\, United States
CATEGORIES:Entertainment
ATTACH;FMTTYPE=image/jpeg:https://squatch-brewing.com/wp-content/uploads/2024/04/photo-1.jpg
END:VEVENT
BEGIN:VEVENT
DTSTART;TZID=America/New_York:20241220T170000
DTEND;TZID=America/New_York:20241220T200000
DTSTAMP:20260420T110832
CREATED:20241204T162323Z
LAST-MODIFIED:20241204T162402Z
UID:10000636-1734714000-1734724800@squatch-brewing.com
SUMMARY:Brad Wagner
DESCRIPTION:
URL:https://squatch-brewing.com/event/brad-wagner-3/2024-12-20/
LOCATION:Squatch Brewing\, 203 Townsend Drive\, Monroeville\, PA\, 15146\, United States
CATEGORIES:Entertainment
END:VEVENT
BEGIN:VEVENT
DTSTART;TZID=America/New_York:20241220T170000
DTEND;TZID=America/New_York:20241220T200000
DTSTAMP:20260420T110832
CREATED:20241204T162506Z
LAST-MODIFIED:20241204T163721Z
UID:10000690-1734714000-1734724800@squatch-brewing.com
SUMMARY:Brad Wagner
DESCRIPTION:
URL:https://squatch-brewing.com/event/brad-wagner-2-2/2024-12-20/
LOCATION:Squatch Brewing\, 203 Townsend Drive\, Monroeville\, PA\, 15146\, United States
CATEGORIES:Entertainment
END:VEVENT
BEGIN:VEVENT
DTSTART;TZID=America/New_York:20241227T170000
DTEND;TZID=America/New_York:20241227T200000
DTSTAMP:20260420T110832
CREATED:20240529T175523Z
LAST-MODIFIED:20250108T194028Z
UID:10000221-1735318800-1735329600@squatch-brewing.com
SUMMARY:Dennis Crawford Acoustic
DESCRIPTION:https://www.facebook.com/profile.php?id=100089759963609
URL:https://squatch-brewing.com/event/dennis-crawford-acoustic/2024-12-27/
LOCATION:Squatch Brewing\, 203 Townsend Drive\, Monroeville\, PA\, 15146\, United States
CATEGORIES:Entertainment
ATTACH;FMTTYPE=image/jpeg:https://squatch-brewing.com/wp-content/uploads/2024/05/432013458_313119748454204_7396773995717001633_n-e1730916703391.jpg
END:VEVENT
BEGIN:VEVENT
DTSTART;TZID=America/New_York:20241228T170000
DTEND;TZID=America/New_York:20241228T200000
DTSTAMP:20260420T110832
CREATED:20240416T164841Z
LAST-MODIFIED:20250825T180442Z
UID:10000187-1735405200-1735416000@squatch-brewing.com
SUMMARY:Music by Jay Wiley
DESCRIPTION:Jay Wiley brings heartfelt lyrics and soulful melodies straight from the Steel City. With a voice that blends grit and warmth\, he delivers original songs and reimagined favorites that strike every chord. A true Pittsburgh talent you won’t want to miss live \nhttp://facebook.com/jaywiley
URL:https://squatch-brewing.com/event/music-by-jay-wiley/2024-12-28/
LOCATION:Squatch Brewing\, 203 Townsend Drive\, Monroeville\, PA\, 15146\, United States
CATEGORIES:Entertainment
ATTACH;FMTTYPE=image/jpeg:https://squatch-brewing.com/wp-content/uploads/2024/04/13412172_10154349751764887_2016367248474105281_o-1-e1730914029570.jpg
END:VEVENT
BEGIN:VEVENT
DTSTART;TZID=America/New_York:20250102T180000
DTEND;TZID=America/New_York:20250102T200000
DTSTAMP:20260420T110832
CREATED:20241029T144151Z
LAST-MODIFIED:20241029T144151Z
UID:10000507-1735840800-1735848000@squatch-brewing.com
SUMMARY:Trivia Night with Trivia Time
DESCRIPTION:Free to play and win prizes!
URL:https://squatch-brewing.com/event/trivia-night-with-trivia-time/2025-01-02/
LOCATION:Squatch Brewing\, 203 Townsend Drive\, Monroeville\, PA\, 15146\, United States
CATEGORIES:Entertainment
ATTACH;FMTTYPE=image/png:https://squatch-brewing.com/wp-content/uploads/2024/05/Screenshot-2024-07-19-072926.png
END:VEVENT
BEGIN:VEVENT
DTSTART;TZID=America/New_York:20250109T180000
DTEND;TZID=America/New_York:20250109T210000
DTSTAMP:20260420T110832
CREATED:20241127T131637Z
LAST-MODIFIED:20241203T134857Z
UID:10000612-1736445600-1736456400@squatch-brewing.com
SUMMARY:Puzzles & Pints
DESCRIPTION:Casually assemble your jigsaw puzzle or compete as a team to be the fastest to put it together! All while sampling and enjoying craft beer from Squatch Brewing. \n$10 per person. \nPizza will be provided. \nCheck-in and food service begins at 6:00 pm.\nRace starts at 6:30pm. \n– – – \nCompetition Details\n*Teams of up to 4 people can register to compete for speed assembling a jigsaw puzzle. Limited to 10 teams.\n* Events typically feature only one to three puzzle designs spread evenly across all teams.\n* Puzzles will be randomly drawn upon the start of the competition.\n* Prizes are awarded to the fastest finishing teams per design. Prizes include 60 Minute Missions gift cards\, beers and merchandise.\n– – –\nNo outside drink is permitted. \nPlayers must be at least 21 years old \n 
URL:https://squatch-brewing.com/event/4437/
LOCATION:Squatch Brewing\, 203 Townsend Drive\, Monroeville\, PA\, 15146\, United States
CATEGORIES:Entertainment
ATTACH;FMTTYPE=image/png:https://squatch-brewing.com/wp-content/uploads/2024/11/Puzzles-Pints-event-cover-1.png
END:VEVENT
BEGIN:VEVENT
DTSTART;TZID=America/New_York:20250110T180000
DTEND;TZID=America/New_York:20250110T210000
DTSTAMP:20260420T110832
CREATED:20241209T190817Z
LAST-MODIFIED:20241212T193702Z
UID:10000669-1736532000-1736542800@squatch-brewing.com
SUMMARY:Michael Christopher
DESCRIPTION:Home
URL:https://squatch-brewing.com/event/michael-christopher/
LOCATION:Squatch Brewing\, 203 Townsend Drive\, Monroeville\, PA\, 15146\, United States
CATEGORIES:Entertainment
ATTACH;FMTTYPE=image/png:https://squatch-brewing.com/wp-content/uploads/2024/12/Facebook-event-cover.png
END:VEVENT
BEGIN:VEVENT
DTSTART;TZID=America/New_York:20250130T180000
DTEND;TZID=America/New_York:20250130T200000
DTSTAMP:20260420T110832
CREATED:20241029T144151Z
LAST-MODIFIED:20241029T144151Z
UID:10000508-1738260000-1738267200@squatch-brewing.com
SUMMARY:Trivia Night with Trivia Time
DESCRIPTION:Free to play and win prizes!
URL:https://squatch-brewing.com/event/trivia-night-with-trivia-time/2025-01-30/
LOCATION:Squatch Brewing\, 203 Townsend Drive\, Monroeville\, PA\, 15146\, United States
CATEGORIES:Entertainment
ATTACH;FMTTYPE=image/png:https://squatch-brewing.com/wp-content/uploads/2024/05/Screenshot-2024-07-19-072926.png
END:VEVENT
BEGIN:VEVENT
DTSTART;TZID=America/New_York:20250201T180000
DTEND;TZID=America/New_York:20250201T210000
DTSTAMP:20260420T110832
CREATED:20240709T133601Z
LAST-MODIFIED:20251002T133537Z
UID:10000704-1738432800-1738443600@squatch-brewing.com
SUMMARY:Michelle LoFaso Acoustic
DESCRIPTION:🎶 “Grab a drink\, tap your feet\, and let Michelle LoFaso rock your night! \nhttps://www.facebook.com/profile.php?id=61561876293155
URL:https://squatch-brewing.com/event/michelle-lofaso-acoustic/2025-02-01/
LOCATION:Squatch Brewing\, 203 Townsend Drive\, Monroeville\, PA\, 15146\, United States
CATEGORIES:Entertainment
ATTACH;FMTTYPE=image/png:https://squatch-brewing.com/wp-content/uploads/2025/10/FB_website-1.png
END:VEVENT
BEGIN:VEVENT
DTSTART;TZID=America/New_York:20250208T180000
DTEND;TZID=America/New_York:20250208T210000
DTSTAMP:20260420T110832
CREATED:20240529T175523Z
LAST-MODIFIED:20250108T194028Z
UID:10000705-1739037600-1739048400@squatch-brewing.com
SUMMARY:Dennis Crawford Acoustic
DESCRIPTION:https://www.facebook.com/profile.php?id=100089759963609
URL:https://squatch-brewing.com/event/dennis-crawford-acoustic/2025-02-08/
LOCATION:Squatch Brewing\, 203 Townsend Drive\, Monroeville\, PA\, 15146\, United States
CATEGORIES:Entertainment
ATTACH;FMTTYPE=image/jpeg:https://squatch-brewing.com/wp-content/uploads/2024/05/432013458_313119748454204_7396773995717001633_n-e1730916703391.jpg
END:VEVENT
BEGIN:VEVENT
DTSTART;TZID=America/New_York:20250213T180000
DTEND;TZID=America/New_York:20250213T210000
DTSTAMP:20260420T110832
CREATED:20241127T134422Z
LAST-MODIFIED:20250102T193029Z
UID:10000615-1739469600-1739480400@squatch-brewing.com
SUMMARY:Puzzles & Pints
DESCRIPTION:Casually assemble your jigsaw puzzle or compete as a team to be the fastest to put it together! All while sampling and enjoying craft beer from Squatch Brewing. \n$10 per person. \nPizza will be provided. \nCheck-in and food service begins at 6:00 pm.\nRace starts at 6:30pm. \n– – – \nCompetition Details\n*Teams of up to 4 people can register to compete for speed assembling a jigsaw puzzle. Limited to 10 teams.\n* Events typically feature only one to three puzzle designs spread evenly across all teams.\n* Puzzles will be randomly drawn upon the start of the competition.\n* Prizes are awarded to the fastest finishing teams per design. Prizes include 60 Minute Missions gift cards\, beers and merchandise.\n– – –\nNo outside drink is permitted. \nPlayers must be at least 21 years old \n 
URL:https://squatch-brewing.com/event/puzzles-pints-6/
LOCATION:Squatch Brewing\, 203 Townsend Drive\, Monroeville\, PA\, 15146\, United States
CATEGORIES:Entertainment
ATTACH;FMTTYPE=image/png:https://squatch-brewing.com/wp-content/uploads/2024/11/Puzzles-Pints-event-cover-1.png
END:VEVENT
BEGIN:VEVENT
DTSTART;TZID=America/New_York:20250214T180000
DTEND;TZID=America/New_York:20250214T210000
DTSTAMP:20260420T110832
CREATED:20250212T162415Z
LAST-MODIFIED:20250212T162415Z
UID:10000800-1739556000-1739566800@squatch-brewing.com
SUMMARY:Music By Detention
DESCRIPTION:https://detentionjaneandmandi.weebly.com/ \nhttps://www.facebook.com/detention.janeandmandi
URL:https://squatch-brewing.com/event/music-by-detention-3/2025-02-14/
LOCATION:Squatch Brewing\, 203 Townsend Drive\, Monroeville\, PA\, 15146\, United States
CATEGORIES:Entertainment
ATTACH;FMTTYPE=image/jpeg:https://squatch-brewing.com/wp-content/uploads/2024/03/Logo-3-e1730920092377.jpg
END:VEVENT
BEGIN:VEVENT
DTSTART;TZID=America/New_York:20250215T180000
DTEND;TZID=America/New_York:20250215T210000
DTSTAMP:20260420T110832
CREATED:20241205T185142Z
LAST-MODIFIED:20241206T192829Z
UID:10000661-1739642400-1739653200@squatch-brewing.com
SUMMARY:Greg Riordan
DESCRIPTION:A true original artist\, the talent and passion Greg exudes from the stage is as honest and genuine as you will find in a live performer.
URL:https://squatch-brewing.com/event/greg-riordan/
LOCATION:Squatch Brewing\, 203 Townsend Drive\, Monroeville\, PA\, 15146\, United States
CATEGORIES:Entertainment
END:VEVENT
BEGIN:VEVENT
DTSTART;TZID=America/New_York:20250220T180000
DTEND;TZID=America/New_York:20250220T200000
DTSTAMP:20260420T110832
CREATED:20241029T144151Z
LAST-MODIFIED:20241029T144151Z
UID:10000509-1740074400-1740081600@squatch-brewing.com
SUMMARY:Trivia Night with Trivia Time
DESCRIPTION:Free to play and win prizes!
URL:https://squatch-brewing.com/event/trivia-night-with-trivia-time/2025-02-20/
LOCATION:Squatch Brewing\, 203 Townsend Drive\, Monroeville\, PA\, 15146\, United States
CATEGORIES:Entertainment
ATTACH;FMTTYPE=image/png:https://squatch-brewing.com/wp-content/uploads/2024/05/Screenshot-2024-07-19-072926.png
END:VEVENT
BEGIN:VEVENT
DTSTART;TZID=America/New_York:20250221T180000
DTEND;TZID=America/New_York:20250221T210000
DTSTAMP:20260420T110832
CREATED:20240311T133138Z
LAST-MODIFIED:20250523T135319Z
UID:10000699-1740160800-1740171600@squatch-brewing.com
SUMMARY:The Ripped Jeans
DESCRIPTION:
URL:https://squatch-brewing.com/event/the-ripped-jeans-vocalist-duo/2025-02-21/
LOCATION:Squatch Brewing\, 203 Townsend Drive\, Monroeville\, PA\, 15146\, United States
CATEGORIES:Entertainment
ATTACH;FMTTYPE=image/jpeg:https://squatch-brewing.com/wp-content/uploads/2024/03/Logo-5-e1730917966556.jpg
END:VEVENT
BEGIN:VEVENT
DTSTART;TZID=America/New_York:20250221T180000
DTEND;TZID=America/New_York:20250221T210000
DTSTAMP:20260420T110832
CREATED:20250821T175220Z
LAST-MODIFIED:20250825T181022Z
UID:10000918-1740160800-1740171600@squatch-brewing.com
SUMMARY:The Ripped Jeans
DESCRIPTION:💥 Two voices\, one keyboard\, endless hits. The Ripped Jeans deliver contemporary and classic songs with style\, energy\, and just the right amount of fun. \nhttps://www.facebook.com/profile.php?id=61555756767581
URL:https://squatch-brewing.com/event/the-ripped-jeans-vocalist-duo-2/2025-02-21/
LOCATION:Squatch Brewing\, 203 Townsend Drive\, Monroeville\, PA\, 15146\, United States
CATEGORIES:Entertainment
ATTACH;FMTTYPE=image/jpeg:https://squatch-brewing.com/wp-content/uploads/2024/03/Logo-5-e1730917966556.jpg
END:VEVENT
BEGIN:VEVENT
DTSTART;TZID=America/New_York:20250228T180000
DTEND;TZID=America/New_York:20250228T210000
DTSTAMP:20260420T110832
CREATED:20241209T190935Z
LAST-MODIFIED:20241209T190935Z
UID:10000670-1740765600-1740776400@squatch-brewing.com
SUMMARY:Michael Christopher
DESCRIPTION:Home
URL:https://squatch-brewing.com/event/michael-christopher-2/
LOCATION:Squatch Brewing\, 203 Townsend Drive\, Monroeville\, PA\, 15146\, United States
CATEGORIES:Entertainment
END:VEVENT
BEGIN:VEVENT
DTSTART;TZID=America/New_York:20250301T180000
DTEND;TZID=America/New_York:20250301T210000
DTSTAMP:20260420T110832
CREATED:20250109T193515Z
LAST-MODIFIED:20250116T175545Z
UID:10000757-1740852000-1740862800@squatch-brewing.com
SUMMARY:Jay Wiley
DESCRIPTION:Jay Wiley covers artists such as Tom Petty\, Chris Stapleton\, Bruce Springsteen\, The Beatles and many more.
URL:https://squatch-brewing.com/event/jay-wiley/
LOCATION:Squatch Brewing\, 203 Townsend Drive\, Monroeville\, PA\, 15146\, United States
CATEGORIES:Entertainment
ATTACH;FMTTYPE=image/png:https://squatch-brewing.com/wp-content/uploads/2025/01/website-2.png
END:VEVENT
BEGIN:VEVENT
DTSTART;TZID=America/New_York:20250308T180000
DTEND;TZID=America/New_York:20250308T210000
DTSTAMP:20260420T110832
CREATED:20241110T154831Z
LAST-MODIFIED:20250108T193517Z
UID:10000706-1741456800-1741467600@squatch-brewing.com
SUMMARY:JS Project
DESCRIPTION:Acoustic Rock\, Folk\, Blues cover songs as well as original music.
URL:https://squatch-brewing.com/event/js-project-2/2025-03-08/
LOCATION:Squatch Brewing\, 203 Townsend Drive\, Monroeville\, PA\, 15146\, United States
CATEGORIES:Entertainment
ATTACH;FMTTYPE=image/jpeg:https://squatch-brewing.com/wp-content/uploads/2024/11/JS-Project-photo2-e1731253334431.jpg
END:VEVENT
BEGIN:VEVENT
DTSTART;TZID=America/New_York:20250313T180000
DTEND;TZID=America/New_York:20250313T210000
DTSTAMP:20260420T110832
CREATED:20241127T134512Z
LAST-MODIFIED:20250206T200911Z
UID:10000616-1741888800-1741899600@squatch-brewing.com
SUMMARY:Puzzles & Pints
DESCRIPTION:Casually assemble your jigsaw puzzle or compete as a team to be the fastest to put it together! All while sampling and enjoying craft beer from Squatch Brewing. \n$10 per person. \nPizza will be provided. \nCheck-in and food service begins at 6:00 pm.\nRace starts at 6:30pm. \n– – – \nCompetition Details\n*Teams of up to 4 people can register to compete for speed assembling a jigsaw puzzle. Limited to 10 teams.\n* Events typically feature only one to three puzzle designs spread evenly across all teams.\n* Puzzles will be randomly drawn upon the start of the competition.\n* Prizes are awarded to the fastest finishing teams per design. Prizes include 60 Minute Missions gift cards\, beers and merchandise.\n– – –\nNo outside drink is permitted. \nPlayers must be at least 21 years old \n 
URL:https://squatch-brewing.com/event/puzzles-pints-7/
LOCATION:Squatch Brewing\, 203 Townsend Drive\, Monroeville\, PA\, 15146\, United States
CATEGORIES:Entertainment
ATTACH;FMTTYPE=image/png:https://squatch-brewing.com/wp-content/uploads/2024/11/Puzzles-Pints-event-cover-1.png
END:VEVENT
BEGIN:VEVENT
DTSTART;TZID=America/New_York:20250315T090000
DTEND;TZID=America/New_York:20250315T220000
DTSTAMP:20260420T110832
CREATED:20250221T172043Z
LAST-MODIFIED:20250221T172043Z
UID:10000807-1742029200-1742076000@squatch-brewing.com
SUMMARY:St. Patrick's Day Party
DESCRIPTION:Taproom is open at 9am watch the parade here. River Monster Pizza will be serving up pies 11am-9pm. Bill Young Acoustics 6pm-9pm.
URL:https://squatch-brewing.com/event/st-patricks-day-party/
LOCATION:Squatch Brewing\, 203 Townsend Drive\, Monroeville\, PA\, 15146\, United States
CATEGORIES:Entertainment,Food Truck
ATTACH;FMTTYPE=image/png:https://squatch-brewing.com/wp-content/uploads/2025/02/250315-St-Pats-Day-party-website_FB-event.png
END:VEVENT
BEGIN:VEVENT
DTSTART;TZID=America/New_York:20250315T180000
DTEND;TZID=America/New_York:20250315T210000
DTSTAMP:20260420T110832
CREATED:20241107T195158Z
LAST-MODIFIED:20251119T141050Z
UID:10000711-1742061600-1742072400@squatch-brewing.com
SUMMARY:Bill Young Acoustic Sounds
DESCRIPTION:Kick back with a craft beer and the acoustic magic of Bill Young.
URL:https://squatch-brewing.com/event/bill-young-acoustic-sounds-3/2025-03-15/
LOCATION:Squatch Brewing\, 203 Townsend Drive\, Monroeville\, PA\, 15146\, United States
CATEGORIES:Entertainment
ATTACH;FMTTYPE=image/jpeg:https://squatch-brewing.com/wp-content/uploads/2024/03/IMG_1702cropped-e1731009195773.jpg
END:VEVENT
END:VCALENDAR