BEGIN:VCALENDAR
VERSION:2.0
PRODID:-//Squatch Brewing - ECPv6.15.20//NONSGML v1.0//EN
CALSCALE:GREGORIAN
METHOD:PUBLISH
X-ORIGINAL-URL:https://squatch-brewing.com
X-WR-CALDESC:Events for Squatch Brewing
REFRESH-INTERVAL;VALUE=DURATION:PT1H
X-Robots-Tag:noindex
X-PUBLISHED-TTL:PT1H
BEGIN:VTIMEZONE
TZID:America/New_York
BEGIN:DAYLIGHT
TZOFFSETFROM:-0500
TZOFFSETTO:-0400
TZNAME:EDT
DTSTART:20230312T070000
END:DAYLIGHT
BEGIN:STANDARD
TZOFFSETFROM:-0400
TZOFFSETTO:-0500
TZNAME:EST
DTSTART:20231105T060000
END:STANDARD
BEGIN:DAYLIGHT
TZOFFSETFROM:-0500
TZOFFSETTO:-0400
TZNAME:EDT
DTSTART:20240310T070000
END:DAYLIGHT
BEGIN:STANDARD
TZOFFSETFROM:-0400
TZOFFSETTO:-0500
TZNAME:EST
DTSTART:20241103T060000
END:STANDARD
BEGIN:DAYLIGHT
TZOFFSETFROM:-0500
TZOFFSETTO:-0400
TZNAME:EDT
DTSTART:20250309T070000
END:DAYLIGHT
BEGIN:STANDARD
TZOFFSETFROM:-0400
TZOFFSETTO:-0500
TZNAME:EST
DTSTART:20251102T060000
END:STANDARD
END:VTIMEZONE
BEGIN:VEVENT
DTSTART;TZID=America/New_York:20240517T180000
DTEND;TZID=America/New_York:20240517T210000
DTSTAMP:20260419T135344
CREATED:20240319T135359Z
LAST-MODIFIED:20250108T193816Z
UID:10000024-1715968800-1715979600@squatch-brewing.com
SUMMARY:Music By Detention
DESCRIPTION:https://detentionjaneandmandi.weebly.com/ \nhttps://www.facebook.com/detention.janeandmandi
URL:https://squatch-brewing.com/event/music-by-detention/2024-05-17/
LOCATION:Squatch Brewing\, 203 Townsend Drive\, Monroeville\, PA\, 15146\, United States
CATEGORIES:Entertainment
ATTACH;FMTTYPE=image/jpeg:https://squatch-brewing.com/wp-content/uploads/2024/03/Logo-3-e1730920092377.jpg
END:VEVENT
BEGIN:VEVENT
DTSTART;TZID=America/New_York:20240517T180000
DTEND;TZID=America/New_York:20240517T210000
DTSTAMP:20260419T135344
CREATED:20250212T162415Z
LAST-MODIFIED:20250212T162415Z
UID:10000791-1715968800-1715979600@squatch-brewing.com
SUMMARY:Music By Detention
DESCRIPTION:https://detentionjaneandmandi.weebly.com/ \nhttps://www.facebook.com/detention.janeandmandi
URL:https://squatch-brewing.com/event/music-by-detention-3/2024-05-17/2/
LOCATION:Squatch Brewing\, 203 Townsend Drive\, Monroeville\, PA\, 15146\, United States
CATEGORIES:Entertainment
ATTACH;FMTTYPE=image/jpeg:https://squatch-brewing.com/wp-content/uploads/2024/03/Logo-3-e1730920092377.jpg
END:VEVENT
BEGIN:VEVENT
DTSTART;TZID=America/New_York:20240518T170000
DTEND;TZID=America/New_York:20240518T200000
DTSTAMP:20260419T135344
CREATED:20240515T171535Z
LAST-MODIFIED:20250108T192614Z
UID:10000080-1716051600-1716062400@squatch-brewing.com
SUMMARY:Two Man Martian
DESCRIPTION:https://www.facebook.com/people/Twomanmartian/100063439552748/
URL:https://squatch-brewing.com/event/two-man-martian-2/2024-05-18/
LOCATION:Squatch Brewing\, 203 Townsend Drive\, Monroeville\, PA\, 15146\, United States
CATEGORIES:Entertainment
ATTACH;FMTTYPE=image/png:https://squatch-brewing.com/wp-content/uploads/2024/04/tmm-1.png
END:VEVENT
BEGIN:VEVENT
DTSTART;TZID=America/New_York:20240518T170000
DTEND;TZID=America/New_York:20240518T200000
DTSTAMP:20260419T135344
CREATED:20241011T171248Z
LAST-MODIFIED:20250108T191634Z
UID:10000476-1716051600-1716062400@squatch-brewing.com
SUMMARY:Two Man Martian
DESCRIPTION:https://www.facebook.com/people/Twomanmartian/100063439552748/
URL:https://squatch-brewing.com/event/two-man-martian-3/2024-05-18/
LOCATION:Squatch Brewing\, 203 Townsend Drive\, Monroeville\, PA\, 15146\, United States
CATEGORIES:Entertainment
ATTACH;FMTTYPE=image/png:https://squatch-brewing.com/wp-content/uploads/2024/04/tmm-1.png
END:VEVENT
BEGIN:VEVENT
DTSTART;TZID=America/New_York:20240519T140000
DTEND;TZID=America/New_York:20240519T170000
DTSTAMP:20260419T135344
CREATED:20240415T123449Z
LAST-MODIFIED:20250108T192823Z
UID:10000082-1716127200-1716138000@squatch-brewing.com
SUMMARY:Allison Borek Acoustic
DESCRIPTION:
URL:https://squatch-brewing.com/event/allison-borek-accoustic/2024-05-19/
LOCATION:Squatch Brewing\, 203 Townsend Drive\, Monroeville\, PA\, 15146\, United States
CATEGORIES:Entertainment
ATTACH;FMTTYPE=image/jpeg:https://squatch-brewing.com/wp-content/uploads/2024/04/photo.jpg
END:VEVENT
BEGIN:VEVENT
DTSTART;TZID=America/New_York:20240522T180000
DTEND;TZID=America/New_York:20240522T200000
DTSTAMP:20260419T135344
CREATED:20240418T171159Z
LAST-MODIFIED:20240506T161102Z
UID:10000113-1716400800-1716408000@squatch-brewing.com
SUMMARY:Charcuterie Board Workshop
DESCRIPTION:Pre-Registration is Required!\nLearn how to expertly build a beautiful Red\, White\, and Blue Charcuterie Board that you each can take home and share with your loved ones!\n\nClass is $65 per person. Price includes EVERYTHING you’ll need for class!\n\nReserve your spot by texting “brewery” to 724-433-8720.  Reserve By Monday\, May 20th\n\nAlso\, The Lunch Lady on Wheels will be here with her homemade food to purchase from 6-8pm.\n\nhttps://www.facebook.com/events/644870784483956/?ref=newsfeed\nhttps://www.facebook.com/fye
URL:https://squatch-brewing.com/event/fye-charcuterie-board-class/
LOCATION:Squatch Brewing\, 203 Townsend Drive\, Monroeville\, PA\, 15146\, United States
CATEGORIES:Entertainment
ATTACH;FMTTYPE=image/png:https://squatch-brewing.com/wp-content/uploads/2024/04/Screenshot-2024-05-06-120944.png
END:VEVENT
BEGIN:VEVENT
DTSTART;TZID=America/New_York:20240524T180000
DTEND;TZID=America/New_York:20240524T210000
DTSTAMP:20260419T135344
CREATED:20240311T133138Z
LAST-MODIFIED:20250523T135319Z
UID:10000020-1716573600-1716584400@squatch-brewing.com
SUMMARY:The Ripped Jeans
DESCRIPTION:
URL:https://squatch-brewing.com/event/the-ripped-jeans-vocalist-duo/2024-05-24/
LOCATION:Squatch Brewing\, 203 Townsend Drive\, Monroeville\, PA\, 15146\, United States
CATEGORIES:Entertainment
ATTACH;FMTTYPE=image/jpeg:https://squatch-brewing.com/wp-content/uploads/2024/03/Logo-5-e1730917966556.jpg
END:VEVENT
BEGIN:VEVENT
DTSTART;TZID=America/New_York:20240531T170000
DTEND;TZID=America/New_York:20240531T200000
DTSTAMP:20260419T135344
CREATED:20240513T142900Z
LAST-MODIFIED:20240513T143408Z
UID:10000153-1717174800-1717185600@squatch-brewing.com
SUMMARY:Yukon John
DESCRIPTION:
URL:https://squatch-brewing.com/event/yukon-john/
LOCATION:Squatch Brewing\, 203 Townsend Drive\, Monroeville\, PA\, 15146\, United States
CATEGORIES:Entertainment
ATTACH;FMTTYPE=image/jpeg:https://squatch-brewing.com/wp-content/uploads/2024/05/photo.jpg
END:VEVENT
BEGIN:VEVENT
DTSTART;TZID=America/New_York:20240601T170000
DTEND;TZID=America/New_York:20240601T200000
DTSTAMP:20260419T135344
CREATED:20240415T131230Z
LAST-MODIFIED:20240723T111301Z
UID:10000084-1717261200-1717272000@squatch-brewing.com
SUMMARY:Music By Mark Anthony
DESCRIPTION:https://www.facebook.com/theOriginalMarkAnthony?mibextid=ZbWKwL
URL:https://squatch-brewing.com/event/music-by-mark-anthony/2024-06-01/
LOCATION:Squatch Brewing\, 203 Townsend Drive\, Monroeville\, PA\, 15146\, United States
CATEGORIES:Entertainment
ATTACH;FMTTYPE=image/jpeg:https://squatch-brewing.com/wp-content/uploads/2024/04/photo-1.jpg
END:VEVENT
BEGIN:VEVENT
DTSTART;TZID=America/New_York:20240601T170000
DTEND;TZID=America/New_York:20240601T200000
DTSTAMP:20260419T135344
CREATED:20241007T120805Z
LAST-MODIFIED:20241007T120856Z
UID:10000430-1717261200-1717272000@squatch-brewing.com
SUMMARY:Music By Mark Anthony
DESCRIPTION:https://www.facebook.com/theOriginalMarkAnthony?mibextid=ZbWKwL
URL:https://squatch-brewing.com/event/music-by-mark-anthony-2/2024-06-01/
LOCATION:Squatch Brewing\, 203 Townsend Drive\, Monroeville\, PA\, 15146\, United States
CATEGORIES:Entertainment
ATTACH;FMTTYPE=image/jpeg:https://squatch-brewing.com/wp-content/uploads/2024/04/photo-1.jpg
END:VEVENT
BEGIN:VEVENT
DTSTART;TZID=America/New_York:20240607T170000
DTEND;TZID=America/New_York:20240607T200000
DTSTAMP:20260419T135344
CREATED:20240412T120131Z
LAST-MODIFIED:20240813T151715Z
UID:10000079-1717779600-1717790400@squatch-brewing.com
SUMMARY:Dave Stout Music
DESCRIPTION:https://www.facebook.com/profile.php?id=100027309563729
URL:https://squatch-brewing.com/event/dave-stout-music/2024-06-07/
LOCATION:Squatch Brewing\, 203 Townsend Drive\, Monroeville\, PA\, 15146\, United States
CATEGORIES:Entertainment
ATTACH;FMTTYPE=image/jpeg:https://squatch-brewing.com/wp-content/uploads/2024/04/logo-2.jpg
END:VEVENT
BEGIN:VEVENT
DTSTART;TZID=America/New_York:20240608T170000
DTEND;TZID=America/New_York:20240608T200000
DTSTAMP:20260419T135344
CREATED:20240304T194537Z
LAST-MODIFIED:20241107T193711Z
UID:10000078-1717866000-1717876800@squatch-brewing.com
SUMMARY:Bill Young Acoustic Sounds
DESCRIPTION:
URL:https://squatch-brewing.com/event/bill-young-acoustic-sounds/2024-06-08/
LOCATION:Squatch Brewing\, 203 Townsend Drive\, Monroeville\, PA\, 15146\, United States
CATEGORIES:Entertainment
END:VEVENT
BEGIN:VEVENT
DTSTART;TZID=America/New_York:20240609T140000
DTEND;TZID=America/New_York:20240609T170000
DTSTAMP:20260419T135344
CREATED:20240311T133138Z
LAST-MODIFIED:20250523T135319Z
UID:10000223-1717941600-1717952400@squatch-brewing.com
SUMMARY:The Ripped Jeans
DESCRIPTION:
URL:https://squatch-brewing.com/event/the-ripped-jeans-vocalist-duo/2024-06-09/
LOCATION:Squatch Brewing\, 203 Townsend Drive\, Monroeville\, PA\, 15146\, United States
CATEGORIES:Entertainment
ATTACH;FMTTYPE=image/jpeg:https://squatch-brewing.com/wp-content/uploads/2024/03/Logo-5-e1730917966556.jpg
END:VEVENT
BEGIN:VEVENT
DTSTART;TZID=America/New_York:20240609T140000
DTEND;TZID=America/New_York:20240609T170000
DTSTAMP:20260419T135344
CREATED:20250821T175220Z
LAST-MODIFIED:20250825T181022Z
UID:10000913-1717941600-1717952400@squatch-brewing.com
SUMMARY:The Ripped Jeans
DESCRIPTION:💥 Two voices\, one keyboard\, endless hits. The Ripped Jeans deliver contemporary and classic songs with style\, energy\, and just the right amount of fun. \nhttps://www.facebook.com/profile.php?id=61555756767581
URL:https://squatch-brewing.com/event/the-ripped-jeans-vocalist-duo-2/2024-06-09/
LOCATION:Squatch Brewing\, 203 Townsend Drive\, Monroeville\, PA\, 15146\, United States
CATEGORIES:Entertainment
ATTACH;FMTTYPE=image/jpeg:https://squatch-brewing.com/wp-content/uploads/2024/03/Logo-5-e1730917966556.jpg
END:VEVENT
BEGIN:VEVENT
DTSTART;TZID=America/New_York:20240612T180000
DTEND;TZID=America/New_York:20240612T200000
DTSTAMP:20260419T135344
CREATED:20240426T133406Z
LAST-MODIFIED:20240522T161422Z
UID:10000118-1718215200-1718222400@squatch-brewing.com
SUMMARY:UV Resin Jewelry Workshop with Lili Jean Art Creations
DESCRIPTION:NOTE: Tickets Must Be Purchased in Advance. \nCome join us for a fun and creative workshop where you can learn how to make your own unique UV resin jewelry pieces! Our talented instructors will guide you through the process step by step. You’ll leave with Necklace/earrings\, necklace/bracelet or bracelet/earrings combo! No experience necessary\, just bring your creativity and enthusiasm.  Don’t miss out on this exciting opportunity to craft beautiful jewelry with us. Drinks available to purchase. Food is allowed to be brought in or delivered to the venue. If time allows you can create more jewelry for $10 per item. Lots of charms to choose from as well as 100s of items to add into your own creations! \nPurchase tickets $55 at link below: \nhttps://www.eventbrite.com/e/squatch-brewing-uv-resin-jewelry-workshop-tickets-890988780427?aff=oddtdtcreator&fbclid=IwZXh0bgNhZW0CMTAAAR12q2jEioGsMXGRF-zDFY2CPAZeLiJKv39xrEjw5sLvT2vo2CfuILghRF0_aem_AcVHhJMhxBv_mUiHczJ0t1QPJjtc8RSEKdv5CsKb2BEE32Bp7QBxk_67kNhry_wYuidMHaI3mvQZB_ACTS0J93G9
URL:https://squatch-brewing.com/event/uv-resin-jewelry-workshop-with-lili-jean-art-creations/
LOCATION:Squatch Brewing\, 203 Townsend Drive\, Monroeville\, PA\, 15146\, United States
CATEGORIES:Entertainment
ATTACH;FMTTYPE=image/png:https://squatch-brewing.com/wp-content/uploads/2024/04/Screenshot-2024-05-22-103925.png
END:VEVENT
BEGIN:VEVENT
DTSTART;TZID=America/New_York:20240614T170000
DTEND;TZID=America/New_York:20240614T200000
DTSTAMP:20260419T135344
CREATED:20240516T171942Z
LAST-MODIFIED:20241106T193132Z
UID:10000208-1718384400-1718395200@squatch-brewing.com
SUMMARY:Bare Bonez Acoustic
DESCRIPTION:https://www.facebook.com/barebonezacoustic/
URL:https://squatch-brewing.com/event/bare-bonez-acoustic-2/2024-06-14/
LOCATION:Squatch Brewing\, 203 Townsend Drive\, Monroeville\, PA\, 15146\, United States
CATEGORIES:Entertainment
END:VEVENT
BEGIN:VEVENT
DTSTART;TZID=America/New_York:20240620T080000
DTEND;TZID=America/New_York:20240620T170000
DTSTAMP:20260419T135344
CREATED:20241029T144151Z
LAST-MODIFIED:20241029T144151Z
UID:10000506-1718870400-1718902800@squatch-brewing.com
SUMMARY:Trivia Night with Trivia Time
DESCRIPTION:Free to play and win prizes!
URL:https://squatch-brewing.com/event/trivia-night-with-trivia-time/2024-06-20/1/
LOCATION:Squatch Brewing\, 203 Townsend Drive\, Monroeville\, PA\, 15146\, United States
CATEGORIES:Entertainment
ATTACH;FMTTYPE=image/png:https://squatch-brewing.com/wp-content/uploads/2024/05/Screenshot-2024-07-19-072926.png
END:VEVENT
BEGIN:VEVENT
DTSTART;TZID=America/New_York:20240620T180000
DTEND;TZID=America/New_York:20240620T200000
DTSTAMP:20260419T135344
CREATED:20240513T171530Z
LAST-MODIFIED:20240719T113016Z
UID:10000155-1718906400-1718913600@squatch-brewing.com
SUMMARY:Trivia Night with Trivia Time
DESCRIPTION:Free to play and win prizes!
URL:https://squatch-brewing.com/event/trivia-night/2024-06-20/
LOCATION:Squatch Brewing\, 203 Townsend Drive\, Monroeville\, PA\, 15146\, United States
CATEGORIES:Entertainment
ATTACH;FMTTYPE=image/png:https://squatch-brewing.com/wp-content/uploads/2024/05/Screenshot-2024-07-19-072926.png
END:VEVENT
BEGIN:VEVENT
DTSTART;TZID=America/New_York:20240620T180000
DTEND;TZID=America/New_York:20240620T200000
DTSTAMP:20260419T135344
CREATED:20241029T144151Z
LAST-MODIFIED:20241029T144151Z
UID:10000501-1718906400-1718913600@squatch-brewing.com
SUMMARY:Trivia Night with Trivia Time
DESCRIPTION:Free to play and win prizes!
URL:https://squatch-brewing.com/event/trivia-night-with-trivia-time/2024-06-20/2/
LOCATION:Squatch Brewing\, 203 Townsend Drive\, Monroeville\, PA\, 15146\, United States
CATEGORIES:Entertainment
ATTACH;FMTTYPE=image/png:https://squatch-brewing.com/wp-content/uploads/2024/05/Screenshot-2024-07-19-072926.png
END:VEVENT
BEGIN:VEVENT
DTSTART;TZID=America/New_York:20240621T170000
DTEND;TZID=America/New_York:20240621T200000
DTSTAMP:20260419T135344
CREATED:20240530T184853Z
LAST-MODIFIED:20240809T150255Z
UID:10000241-1718989200-1719000000@squatch-brewing.com
SUMMARY:Bobby VFive
DESCRIPTION:http://www.bobby5.com/
URL:https://squatch-brewing.com/event/bobby-5-vs/2024-06-21/
LOCATION:Squatch Brewing\, 203 Townsend Drive\, Monroeville\, PA\, 15146\, United States
CATEGORIES:Entertainment
ATTACH;FMTTYPE=image/png:https://squatch-brewing.com/wp-content/uploads/2024/05/Screenshot-2024-05-30-143429.png
END:VEVENT
BEGIN:VEVENT
DTSTART;TZID=America/New_York:20240622T170000
DTEND;TZID=America/New_York:20240622T200000
DTSTAMP:20260419T135344
CREATED:20240412T173048Z
LAST-MODIFIED:20240524T134713Z
UID:10000081-1719075600-1719086400@squatch-brewing.com
SUMMARY:Two Man Martian
DESCRIPTION:https://www.facebook.com/people/Twomanmartian/100063439552748/
URL:https://squatch-brewing.com/event/two-man-martian/2024-06-22/
LOCATION:Squatch Brewing\, 203 Townsend Drive\, Monroeville\, PA\, 15146\, United States
CATEGORIES:Entertainment
ATTACH;FMTTYPE=image/png:https://squatch-brewing.com/wp-content/uploads/2024/04/tmm-1.png
END:VEVENT
BEGIN:VEVENT
DTSTART;TZID=America/New_York:20240623T020000
DTEND;TZID=America/New_York:20240623T050000
DTSTAMP:20260419T135344
CREATED:20240529T175523Z
LAST-MODIFIED:20250108T194028Z
UID:10000559-1719108000-1719118800@squatch-brewing.com
SUMMARY:Dennis Crawford Acoustic
DESCRIPTION:https://www.facebook.com/profile.php?id=100089759963609
URL:https://squatch-brewing.com/event/dennis-crawford-acoustic/2024-06-23/
LOCATION:Squatch Brewing\, 203 Townsend Drive\, Monroeville\, PA\, 15146\, United States
CATEGORIES:Entertainment
ATTACH;FMTTYPE=image/jpeg:https://squatch-brewing.com/wp-content/uploads/2024/05/432013458_313119748454204_7396773995717001633_n-e1730916703391.jpg
END:VEVENT
BEGIN:VEVENT
DTSTART;TZID=America/New_York:20240629T180000
DTEND;TZID=America/New_York:20240629T210000
DTSTAMP:20260419T135344
CREATED:20240229T195516Z
LAST-MODIFIED:20240530T181052Z
UID:10000160-1719684000-1719694800@squatch-brewing.com
SUMMARY:The Licks Acoustic Duo
DESCRIPTION:https://www.thelickspgh.com/
URL:https://squatch-brewing.com/event/licks-acoustick/2024-06-29/
LOCATION:Squatch Brewing\, 203 Townsend Drive\, Monroeville\, PA\, 15146\, United States
CATEGORIES:Entertainment
ATTACH;FMTTYPE=image/jpeg:https://squatch-brewing.com/wp-content/uploads/2024/03/420419038_122126636690219128_4728999699578990858_n.jpg
END:VEVENT
BEGIN:VEVENT
DTSTART;TZID=America/New_York:20240630T140000
DTEND;TZID=America/New_York:20240630T170000
DTSTAMP:20260419T135344
CREATED:20240630T162553Z
LAST-MODIFIED:20240630T162554Z
UID:10000244-1719756000-1719766800@squatch-brewing.com
SUMMARY:Dave Stout Music
DESCRIPTION:https://www.facebook.com/profile.php?id=100027309563729
URL:https://squatch-brewing.com/event/dave-stout-music-2/
LOCATION:Squatch Brewing\, 203 Townsend Drive\, Monroeville\, PA\, 15146\, United States
CATEGORIES:Entertainment
ATTACH;FMTTYPE=image/jpeg:https://squatch-brewing.com/wp-content/uploads/2024/04/logo-2.jpg
END:VEVENT
BEGIN:VEVENT
DTSTART;TZID=America/New_York:20240706T173000
DTEND;TZID=America/New_York:20240706T210000
DTSTAMP:20260419T135344
CREATED:20240516T162537Z
LAST-MODIFIED:20240809T132417Z
UID:10000170-1720287000-1720299600@squatch-brewing.com
SUMMARY:Greg Riordan Music
DESCRIPTION:https://www.facebook.com/jgriordan
URL:https://squatch-brewing.com/event/greg-riordan-music-2/2024-07-06/
LOCATION:Squatch Brewing\, 203 Townsend Drive\, Monroeville\, PA\, 15146\, United States
CATEGORIES:Entertainment
ATTACH;FMTTYPE=image/png:https://squatch-brewing.com/wp-content/uploads/2024/02/tr.png
END:VEVENT
BEGIN:VEVENT
DTSTART;TZID=America/New_York:20240707T130000
DTEND;TZID=America/New_York:20240707T170000
DTSTAMP:20260419T135344
CREATED:20240516T162537Z
LAST-MODIFIED:20240809T132417Z
UID:10000171-1720357200-1720371600@squatch-brewing.com
SUMMARY:Greg Riordan Music
DESCRIPTION:https://www.facebook.com/jgriordan
URL:https://squatch-brewing.com/event/greg-riordan-music-2/2024-07-07/
LOCATION:Squatch Brewing\, 203 Townsend Drive\, Monroeville\, PA\, 15146\, United States
CATEGORIES:Entertainment
ATTACH;FMTTYPE=image/png:https://squatch-brewing.com/wp-content/uploads/2024/02/tr.png
END:VEVENT
BEGIN:VEVENT
DTSTART;TZID=America/New_York:20240707T183000
DTEND;TZID=America/New_York:20240707T203000
DTSTAMP:20260419T135344
CREATED:20240515T155742Z
LAST-MODIFIED:20240515T155742Z
UID:10000163-1720377000-1720384200@squatch-brewing.com
SUMMARY:Monroeville Concert Series
DESCRIPTION:Where Squatch Brewing’s Big Hazy Bastard meets Bastard Bearded Irishmen for Irish Rock.
URL:https://squatch-brewing.com/event/monroeville-concert-series/
LOCATION:Tall Trees Amphitheater\, 2447 Tilbrook Rd.\, Monroeville\, PA\, 15146
CATEGORIES:Entertainment
ATTACH;FMTTYPE=image/jpeg:https://squatch-brewing.com/wp-content/uploads/2024/05/Monroeville-Concert-Bastard-Bearded-Irishmen_July-7.jpg
END:VEVENT
BEGIN:VEVENT
DTSTART;VALUE=DATE:20240710
DTEND;VALUE=DATE:20240711
DTSTAMP:20260419T135344
CREATED:20240628T112140Z
LAST-MODIFIED:20240628T112349Z
UID:10000283-1720569600-1720655999@squatch-brewing.com
SUMMARY:Flower Centerpiece Workshop-Rescheduled to July 24th
DESCRIPTION:This event has been rescheduled to Thursday\, July 24th
URL:https://squatch-brewing.com/event/flower-centerpiece-workshop-2/
LOCATION:Squatch Brewing\, 203 Townsend Drive\, Monroeville\, PA\, 15146\, United States
CATEGORIES:Entertainment
ATTACH;FMTTYPE=image/png:https://squatch-brewing.com/wp-content/uploads/2024/06/Flower-Workshop-8.5x11.png
END:VEVENT
BEGIN:VEVENT
DTSTART;TZID=America/New_York:20240713T170000
DTEND;TZID=America/New_York:20240713T200000
DTSTAMP:20260419T135344
CREATED:20240510T173412Z
LAST-MODIFIED:20240510T173513Z
UID:10000148-1720890000-1720900800@squatch-brewing.com
SUMMARY:Music By JS Project
DESCRIPTION:https://www.bandsintown.com/e/105518029-js-project-at-squatch-brewing
URL:https://squatch-brewing.com/event/music-by-js-project/
LOCATION:Squatch Brewing\, 203 Townsend Drive\, Monroeville\, PA\, 15146\, United States
CATEGORIES:Entertainment
ATTACH;FMTTYPE=image/jpeg:https://squatch-brewing.com/wp-content/uploads/2024/03/JS-Project-photo2.jpg
END:VEVENT
BEGIN:VEVENT
DTSTART;TZID=America/New_York:20240714T140000
DTEND;TZID=America/New_York:20240714T170000
DTSTAMP:20260419T135344
CREATED:20240530T184853Z
LAST-MODIFIED:20240809T150255Z
UID:10000243-1720965600-1720976400@squatch-brewing.com
SUMMARY:Bobby VFive
DESCRIPTION:http://www.bobby5.com/
URL:https://squatch-brewing.com/event/bobby-5-vs/2024-07-14/
LOCATION:Squatch Brewing\, 203 Townsend Drive\, Monroeville\, PA\, 15146\, United States
CATEGORIES:Entertainment
ATTACH;FMTTYPE=image/png:https://squatch-brewing.com/wp-content/uploads/2024/05/Screenshot-2024-05-30-143429.png
END:VEVENT
END:VCALENDAR