BEGIN:VCALENDAR
VERSION:2.0
PRODID:-//Squatch Brewing - ECPv6.15.20//NONSGML v1.0//EN
CALSCALE:GREGORIAN
METHOD:PUBLISH
X-WR-CALNAME:Squatch Brewing
X-ORIGINAL-URL:https://squatch-brewing.com
X-WR-CALDESC:Events for Squatch Brewing
REFRESH-INTERVAL;VALUE=DURATION:PT1H
X-Robots-Tag:noindex
X-PUBLISHED-TTL:PT1H
BEGIN:VTIMEZONE
TZID:America/New_York
BEGIN:DAYLIGHT
TZOFFSETFROM:-0500
TZOFFSETTO:-0400
TZNAME:EDT
DTSTART:20250309T070000
END:DAYLIGHT
BEGIN:STANDARD
TZOFFSETFROM:-0400
TZOFFSETTO:-0500
TZNAME:EST
DTSTART:20251102T060000
END:STANDARD
BEGIN:DAYLIGHT
TZOFFSETFROM:-0500
TZOFFSETTO:-0400
TZNAME:EDT
DTSTART:20260308T070000
END:DAYLIGHT
BEGIN:STANDARD
TZOFFSETFROM:-0400
TZOFFSETTO:-0500
TZNAME:EST
DTSTART:20261101T060000
END:STANDARD
BEGIN:DAYLIGHT
TZOFFSETFROM:-0500
TZOFFSETTO:-0400
TZNAME:EDT
DTSTART:20270314T070000
END:DAYLIGHT
BEGIN:STANDARD
TZOFFSETFROM:-0400
TZOFFSETTO:-0500
TZNAME:EST
DTSTART:20271107T060000
END:STANDARD
END:VTIMEZONE
BEGIN:VEVENT
DTSTART;TZID=America/New_York:20260806T180000
DTEND;TZID=America/New_York:20260806T200000
DTSTAMP:20260423T044754
CREATED:20251124T190800Z
LAST-MODIFIED:20251124T190800Z
UID:10001088-1786039200-1786046400@squatch-brewing.com
SUMMARY:Music Bingo
DESCRIPTION: Music Bingo – Old School Style! We’re kicking it back with classic paper cards for a night of free-to-play Music Bingo! Awesome prizes up for grabs Great music\, craft beer\, good vibes\, and tons of funCome early\, grab a beer and a card\, and get ready to sing (and dab) your way to victory!
URL:https://squatch-brewing.com/event/music-bingo-16/
LOCATION:Squatch Brewing\, 203 Townsend Drive\, Monroeville\, PA\, 15146\, United States
CATEGORIES:Entertainment
ATTACH;FMTTYPE=image/png:https://squatch-brewing.com/wp-content/uploads/2025/11/Music-Bingo-website.png
END:VEVENT
BEGIN:VEVENT
DTSTART;TZID=America/New_York:20260807T180000
DTEND;TZID=America/New_York:20260807T210000
DTSTAMP:20260423T044754
CREATED:20251017T143442Z
LAST-MODIFIED:20251017T144646Z
UID:10001013-1786125600-1786136400@squatch-brewing.com
SUMMARY:80's Night Music
DESCRIPTION:🎶 Back to the 80’s Night 🎶\nGet ready to break out the neon and tease that hair—Friday\, August 7th is 80’s Night! \n🕕 DJ spinning nothing but the best 80’s hits from 6–9PM\n🍻 Cold craft brews flowing all night \nCome relive the raddest decade with great music\, and even better beer. Totally tubular vibes guaranteed!
URL:https://squatch-brewing.com/event/80s-night-music/
LOCATION:Squatch Brewing\, 203 Townsend Drive\, Monroeville\, PA\, 15146\, United States
CATEGORIES:Entertainment
ATTACH;FMTTYPE=image/png:https://squatch-brewing.com/wp-content/uploads/2025/08/FB_Website-4.png
END:VEVENT
BEGIN:VEVENT
DTSTART;TZID=America/New_York:20260813T180000
DTEND;TZID=America/New_York:20260813T210000
DTSTAMP:20260423T044754
CREATED:20251013T162343Z
LAST-MODIFIED:20251119T142141Z
UID:10000993-1786644000-1786654800@squatch-brewing.com
SUMMARY:Puzzles and Pints
DESCRIPTION:Casually assemble your jigsaw puzzle or compete as a team to be the fastest to put it together! All while enjoying craft beer. \n$10 per person. \nPizza will be provided. \nCheck-in and food service begins at 6:00 pm.\nRace starts at 6:30pm. \n– – – \nCompetition Details\n*Teams of up to 4 people can register to compete for speed assembling a jigsaw puzzle. Limited to 10 teams.\n* Events typically feature only one to three puzzle designs spread evenly across all teams.\n* Puzzles will be randomly drawn upon the start of the competition.\n* Prizes are awarded to the fastest finishing teams per design. Prizes include 60 Minute Missions gift cards\, beers and merchandise.\n– – –\nNo outside drink is permitted. \nPlayers must be at least 21 years old
URL:https://squatch-brewing.com/event/puzzles-and-pints-13/
LOCATION:Squatch Brewing\, 203 Townsend Drive\, Monroeville\, PA\, 15146\, United States
CATEGORIES:Entertainment
END:VEVENT
BEGIN:VEVENT
DTSTART;TZID=America/New_York:20260814T180000
DTEND;TZID=America/New_York:20260814T200000
DTSTAMP:20260423T044754
CREATED:20251007T185313Z
LAST-MODIFIED:20251007T185313Z
UID:10000972-1786730400-1786737600@squatch-brewing.com
SUMMARY:Brad Wagner
DESCRIPTION:At first glance\, one might cast Brad Wagner in with the lot of singer/songwriters that rushed onto the musical scene in the 90‘s. One listen though and you will reconsider. There is an edge-alternately tipped with humor and times cut with fire that sets him apart. \nhttps://bradwagnerbarfly.com/
URL:https://squatch-brewing.com/event/brad-wagner-21/
LOCATION:Squatch Brewing\, 203 Townsend Drive\, Monroeville\, PA\, 15146\, United States
CATEGORIES:Entertainment
ATTACH;FMTTYPE=image/png:https://squatch-brewing.com/wp-content/uploads/2025/09/FB-Website.png
END:VEVENT
BEGIN:VEVENT
DTSTART;TZID=America/New_York:20260820T180000
DTEND;TZID=America/New_York:20260820T200000
DTSTAMP:20260423T044754
CREATED:20251120T193122Z
LAST-MODIFIED:20251120T193122Z
UID:10001075-1787248800-1787256000@squatch-brewing.com
SUMMARY:Trivia Night
DESCRIPTION:🧠🍻 Trivia Night at Squatch! It’s free to play\, wildly fun\, and you could walk away with awesome Squatch prizes. Bring your crew and flex those big brains!
URL:https://squatch-brewing.com/event/trivia-night-9/
LOCATION:Squatch Brewing\, 203 Townsend Drive\, Monroeville\, PA\, 15146\, United States
CATEGORIES:Entertainment
ATTACH;FMTTYPE=image/png:https://squatch-brewing.com/wp-content/uploads/2025/11/FB_website-1-1.png
END:VEVENT
BEGIN:VEVENT
DTSTART;TZID=America/New_York:20260822T180000
DTEND;TZID=America/New_York:20260822T210000
DTSTAMP:20260423T044754
CREATED:20251010T170214Z
LAST-MODIFIED:20251010T170214Z
UID:10000983-1787421600-1787432400@squatch-brewing.com
SUMMARY:Detention
DESCRIPTION:🎶 Get Ready to Be “Detained” by Great Music! 🎶\nJoin Detention for an unforgettable acoustic experience! From timeless classics to your favorite hits from the 80s and 90s\, and today\, these two local powerhouses will have you singing\, swaying\, and smiling all night long. Perfect for cozy nights out\, food trucks\, craft brews\, and good vibes! \nhttps://www.facebook.com/detention.janeandmandi
URL:https://squatch-brewing.com/event/detention-4/
LOCATION:Squatch Brewing\, 203 Townsend Drive\, Monroeville\, PA\, 15146\, United States
CATEGORIES:Entertainment
ATTACH;FMTTYPE=image/png:https://squatch-brewing.com/wp-content/uploads/2025/10/FB-event_website.png
END:VEVENT
BEGIN:VEVENT
DTSTART;TZID=America/New_York:20260828T180000
DTEND;TZID=America/New_York:20260828T210000
DTSTAMP:20260423T044754
CREATED:20251010T132147Z
LAST-MODIFIED:20251010T132147Z
UID:10000978-1787940000-1787950800@squatch-brewing.com
SUMMARY:JS Project
DESCRIPTION:JS Project brings the vibes! 🎶Delivering a soulful mix of acoustic rock\, blues\, and folk favorites — plus originals that hit just right. Get ready for great tunes\, good energy\, and a night that’ll have you singing along. \nhttps://www.bandsintown.com/a/15506990-js-project?came_from=257&utm_medium=web&utm_source=home&utm_campaign=search_bar
URL:https://squatch-brewing.com/event/js-project-6/
LOCATION:Squatch Brewing\, 203 Townsend Drive\, Monroeville\, PA\, 15146\, United States
CATEGORIES:Entertainment
ATTACH;FMTTYPE=image/png:https://squatch-brewing.com/wp-content/uploads/2025/10/JS-Project-FB-event-photo.png
END:VEVENT
BEGIN:VEVENT
DTSTART;TZID=America/New_York:20260829T180000
DTEND;TZID=America/New_York:20260829T210000
DTSTAMP:20260423T044754
CREATED:20250929T181811Z
LAST-MODIFIED:20250929T181811Z
UID:10000950-1788026400-1788037200@squatch-brewing.com
SUMMARY:Jay Wiley
DESCRIPTION:Jay Wiley takes the stage with a mix of rock\, folk\, and country influences — the kind of music that pairs perfectly with a fresh pour at Squatch Brewing. Don’t miss this one! \nhttps://www.facebook.com/jaywiley
URL:https://squatch-brewing.com/event/jay-wiley-4/
LOCATION:Squatch Brewing\, 203 Townsend Drive\, Monroeville\, PA\, 15146\, United States
CATEGORIES:Entertainment
ATTACH;FMTTYPE=image/jpeg:https://squatch-brewing.com/wp-content/uploads/2025/09/400.jpg
END:VEVENT
BEGIN:VEVENT
DTSTART;TZID=America/New_York:20260903T180000
DTEND;TZID=America/New_York:20260903T200000
DTSTAMP:20260423T044754
CREATED:20251124T190905Z
LAST-MODIFIED:20251124T190905Z
UID:10001089-1788458400-1788465600@squatch-brewing.com
SUMMARY:Music Bingo
DESCRIPTION: Music Bingo – Old School Style! We’re kicking it back with classic paper cards for a night of free-to-play Music Bingo! Awesome prizes up for grabs Great music\, craft beer\, good vibes\, and tons of funCome early\, grab a beer and a card\, and get ready to sing (and dab) your way to victory!
URL:https://squatch-brewing.com/event/music-bingo-17/
LOCATION:Squatch Brewing\, 203 Townsend Drive\, Monroeville\, PA\, 15146\, United States
CATEGORIES:Entertainment
ATTACH;FMTTYPE=image/png:https://squatch-brewing.com/wp-content/uploads/2025/11/Music-Bingo-website.png
END:VEVENT
BEGIN:VEVENT
DTSTART;TZID=America/New_York:20260904T180000
DTEND;TZID=America/New_York:20260904T210000
DTSTAMP:20260423T044754
CREATED:20251007T185428Z
LAST-MODIFIED:20251007T185428Z
UID:10000973-1788544800-1788555600@squatch-brewing.com
SUMMARY:Brad Wagner
DESCRIPTION:At first glance\, one might cast Brad Wagner in with the lot of singer/songwriters that rushed onto the musical scene in the 90‘s. One listen though and you will reconsider. There is an edge-alternately tipped with humor and times cut with fire that sets him apart. \nhttps://bradwagnerbarfly.com/
URL:https://squatch-brewing.com/event/brad-wagner-22/
LOCATION:Squatch Brewing\, 203 Townsend Drive\, Monroeville\, PA\, 15146\, United States
CATEGORIES:Entertainment
ATTACH;FMTTYPE=image/png:https://squatch-brewing.com/wp-content/uploads/2025/09/FB-Website.png
END:VEVENT
BEGIN:VEVENT
DTSTART;TZID=America/New_York:20260905T180000
DTEND;TZID=America/New_York:20260905T210000
DTSTAMP:20260423T044754
CREATED:20251027T165221Z
LAST-MODIFIED:20251027T165221Z
UID:10001031-1788631200-1788642000@squatch-brewing.com
SUMMARY:Bill Young Acoustics
DESCRIPTION:Grab a pint\, grab your friends\, and settle in for an evening with Bill Young Acoustics live at Squatch. \nhttps://www.facebook.com/BillYoungAcousticsounds
URL:https://squatch-brewing.com/event/bill-young-acoustics-4/
LOCATION:Squatch Brewing\, 203 Townsend Drive\, Monroeville\, PA\, 15146\, United States
CATEGORIES:Entertainment
ATTACH;FMTTYPE=image/png:https://squatch-brewing.com/wp-content/uploads/2025/02/Bill-Young-FB-event-photo.png
END:VEVENT
BEGIN:VEVENT
DTSTART;TZID=America/New_York:20260910T180000
DTEND;TZID=America/New_York:20260910T210000
DTSTAMP:20260423T044754
CREATED:20251013T162515Z
LAST-MODIFIED:20251119T142219Z
UID:10000994-1789063200-1789074000@squatch-brewing.com
SUMMARY:Puzzles and Pints
DESCRIPTION:Casually assemble your jigsaw puzzle or compete as a team to be the fastest to put it together! All while enjoying craft beer. \n$10 per person. \nPizza will be provided. \nCheck-in and food service begins at 6:00 pm.\nRace starts at 6:30pm. \n– – – \nCompetition Details\n*Teams of up to 4 people can register to compete for speed assembling a jigsaw puzzle. Limited to 10 teams.\n* Events typically feature only one to three puzzle designs spread evenly across all teams.\n* Puzzles will be randomly drawn upon the start of the competition.\n* Prizes are awarded to the fastest finishing teams per design. Prizes include 60 Minute Missions gift cards\, beers and merchandise.\n– – –\nNo outside drink is permitted. \nPlayers must be at least 21 years old
URL:https://squatch-brewing.com/event/puzzles-and-pints-14/
LOCATION:Squatch Brewing\, 203 Townsend Drive\, Monroeville\, PA\, 15146\, United States
CATEGORIES:Entertainment
ATTACH;FMTTYPE=image/png:https://squatch-brewing.com/wp-content/uploads/2025/04/Puzzles-Pints-event-cover-1-1.png
END:VEVENT
BEGIN:VEVENT
DTSTART;TZID=America/New_York:20260912T180000
DTEND;TZID=America/New_York:20260912T210000
DTSTAMP:20260423T044754
CREATED:20251002T134039Z
LAST-MODIFIED:20251002T134039Z
UID:10000965-1789236000-1789246800@squatch-brewing.com
SUMMARY:Michelle Lofaso
DESCRIPTION:🎶 “Grab a drink\, tap your feet\, and let Michelle LoFaso rock your night! \nhttps://www.facebook.com/profile.php?id=61561876293155
URL:https://squatch-brewing.com/event/michelle-lofaso-4/
LOCATION:Squatch Brewing\, 203 Townsend Drive\, Monroeville\, PA\, 15146\, United States
CATEGORIES:Entertainment
ATTACH;FMTTYPE=image/png:https://squatch-brewing.com/wp-content/uploads/2025/10/FB_website-1.png
END:VEVENT
BEGIN:VEVENT
DTSTART;TZID=America/New_York:20260917T180000
DTEND;TZID=America/New_York:20260917T200000
DTSTAMP:20260423T044754
CREATED:20251120T193215Z
LAST-MODIFIED:20251120T193215Z
UID:10001076-1789668000-1789675200@squatch-brewing.com
SUMMARY:Trivia Night
DESCRIPTION:🧠🍻 Trivia Night at Squatch! It’s free to play\, wildly fun\, and you could walk away with awesome Squatch prizes. Bring your crew and flex those big brains!
URL:https://squatch-brewing.com/event/trivia-night-10/
LOCATION:Squatch Brewing\, 203 Townsend Drive\, Monroeville\, PA\, 15146\, United States
CATEGORIES:Entertainment
ATTACH;FMTTYPE=image/png:https://squatch-brewing.com/wp-content/uploads/2025/11/FB_website-1-1.png
END:VEVENT
BEGIN:VEVENT
DTSTART;TZID=America/New_York:20260918T180000
DTEND;TZID=America/New_York:20260918T210000
DTSTAMP:20260423T044754
CREATED:20250930T161042Z
LAST-MODIFIED:20250930T161042Z
UID:10000959-1789754400-1789765200@squatch-brewing.com
SUMMARY:Jay Constable
DESCRIPTION:Energetic solo performer\, playing a wide variety of Pop\, Rock\, Reggae\, Soul\, R&B\, Country\, and crowd favorites from the 60s to today! \nhttps://www.facebook.com/jayconstablepgh
URL:https://squatch-brewing.com/event/jay-constable-7/
LOCATION:Squatch Brewing\, 203 Townsend Drive\, Monroeville\, PA\, 15146\, United States
CATEGORIES:Entertainment
ATTACH;FMTTYPE=image/png:https://squatch-brewing.com/wp-content/uploads/2025/09/website-FB.png
END:VEVENT
BEGIN:VEVENT
DTSTART;TZID=America/New_York:20260926T180000
DTEND;TZID=America/New_York:20260926T210000
DTSTAMP:20260423T044754
CREATED:20250929T182646Z
LAST-MODIFIED:20250929T182646Z
UID:10000951-1790445600-1790456400@squatch-brewing.com
SUMMARY:Jay Wiley
DESCRIPTION:Jay Wiley takes the stage with a mix of rock\, folk\, and country influences — the kind of music that pairs perfectly with a fresh pour at Squatch Brewing. Don’t miss this one! \nhttps://www.facebook.com/jaywiley
URL:https://squatch-brewing.com/event/jay-wiley-5/
LOCATION:Squatch Brewing\, 203 Townsend Drive\, Monroeville\, PA\, 15146\, United States
CATEGORIES:Entertainment
ATTACH;FMTTYPE=image/jpeg:https://squatch-brewing.com/wp-content/uploads/2025/09/400.jpg
END:VEVENT
BEGIN:VEVENT
DTSTART;TZID=America/New_York:20261001T180000
DTEND;TZID=America/New_York:20261001T200000
DTSTAMP:20260423T044754
CREATED:20251124T191000Z
LAST-MODIFIED:20251124T191000Z
UID:10001090-1790877600-1790884800@squatch-brewing.com
SUMMARY:Music Bingo
DESCRIPTION: Music Bingo – Old School Style! We’re kicking it back with classic paper cards for a night of free-to-play Music Bingo! Awesome prizes up for grabs Great music\, craft beer\, good vibes\, and tons of funCome early\, grab a beer and a card\, and get ready to sing (and dab) your way to victory!
URL:https://squatch-brewing.com/event/music-bingo-18/
LOCATION:Squatch Brewing\, 203 Townsend Drive\, Monroeville\, PA\, 15146\, United States
CATEGORIES:Entertainment
ATTACH;FMTTYPE=image/png:https://squatch-brewing.com/wp-content/uploads/2025/11/Music-Bingo-website.png
END:VEVENT
BEGIN:VEVENT
DTSTART;TZID=America/New_York:20261002T180000
DTEND;TZID=America/New_York:20261002T210000
DTSTAMP:20260423T044754
CREATED:20251010T132240Z
LAST-MODIFIED:20251010T132240Z
UID:10000979-1790964000-1790974800@squatch-brewing.com
SUMMARY:JS Project
DESCRIPTION:JS Project brings the vibes! 🎶Delivering a soulful mix of acoustic rock\, blues\, and folk favorites — plus originals that hit just right. Get ready for great tunes\, good energy\, and a night that’ll have you singing along. \nhttps://www.bandsintown.com/a/15506990-js-project?came_from=257&utm_medium=web&utm_source=home&utm_campaign=search_bar
URL:https://squatch-brewing.com/event/js-project-7/
LOCATION:Squatch Brewing\, 203 Townsend Drive\, Monroeville\, PA\, 15146\, United States
CATEGORIES:Entertainment
ATTACH;FMTTYPE=image/png:https://squatch-brewing.com/wp-content/uploads/2025/10/JS-Project-FB-event-photo.png
END:VEVENT
BEGIN:VEVENT
DTSTART;TZID=America/New_York:20261008T180000
DTEND;TZID=America/New_York:20261008T210000
DTSTAMP:20260423T044754
CREATED:20251013T162631Z
LAST-MODIFIED:20251119T142257Z
UID:10000995-1791482400-1791493200@squatch-brewing.com
SUMMARY:Puzzles and Pints
DESCRIPTION:Casually assemble your jigsaw puzzle or compete as a team to be the fastest to put it together! All while enjoying craft beer. \n$10 per person. \nPizza will be provided. \nCheck-in and food service begins at 6:00 pm.\nRace starts at 6:30pm. \n– – – \nCompetition Details\n*Teams of up to 4 people can register to compete for speed assembling a jigsaw puzzle. Limited to 10 teams.\n* Events typically feature only one to three puzzle designs spread evenly across all teams.\n* Puzzles will be randomly drawn upon the start of the competition.\n* Prizes are awarded to the fastest finishing teams per design. Prizes include 60 Minute Missions gift cards\, beers and merchandise.\n– – –\nNo outside drink is permitted. \nPlayers must be at least 21 years old
URL:https://squatch-brewing.com/event/puzzles-and-pints-15/
LOCATION:Squatch Brewing\, 203 Townsend Drive\, Monroeville\, PA\, 15146\, United States
CATEGORIES:Entertainment
ATTACH;FMTTYPE=image/png:https://squatch-brewing.com/wp-content/uploads/2025/04/Puzzles-Pints-event-cover-1-1.png
END:VEVENT
BEGIN:VEVENT
DTSTART;TZID=America/New_York:20261015T180000
DTEND;TZID=America/New_York:20261015T200000
DTSTAMP:20260423T044754
CREATED:20251120T195327Z
LAST-MODIFIED:20251120T195327Z
UID:10001077-1792087200-1792094400@squatch-brewing.com
SUMMARY:Trivia Night
DESCRIPTION:🧠🍻 Trivia Night at Squatch! It’s free to play\, wildly fun\, and you could walk away with awesome Squatch prizes. Bring your crew and flex those big brains!
URL:https://squatch-brewing.com/event/trivia-night-11/
LOCATION:Squatch Brewing\, 203 Townsend Drive\, Monroeville\, PA\, 15146\, United States
CATEGORIES:Entertainment
ATTACH;FMTTYPE=image/png:https://squatch-brewing.com/wp-content/uploads/2025/11/FB_website-1-1.png
END:VEVENT
BEGIN:VEVENT
DTSTART;TZID=America/New_York:20261017T180000
DTEND;TZID=America/New_York:20261017T210000
DTSTAMP:20260423T044754
CREATED:20251002T134121Z
LAST-MODIFIED:20251002T134121Z
UID:10000966-1792260000-1792270800@squatch-brewing.com
SUMMARY:Michelle Lofaso
DESCRIPTION:🎶 “Grab a drink\, tap your feet\, and let Michelle LoFaso rock your night! \nhttps://www.facebook.com/profile.php?id=61561876293155
URL:https://squatch-brewing.com/event/michelle-lofaso-5/
LOCATION:Squatch Brewing\, 203 Townsend Drive\, Monroeville\, PA\, 15146\, United States
CATEGORIES:Entertainment
ATTACH;FMTTYPE=image/png:https://squatch-brewing.com/wp-content/uploads/2025/10/FB_website-1.png
END:VEVENT
BEGIN:VEVENT
DTSTART;TZID=America/New_York:20261023T180000
DTEND;TZID=America/New_York:20261023T210000
DTSTAMP:20260423T044754
CREATED:20251027T170159Z
LAST-MODIFIED:20251027T170159Z
UID:10001033-1792778400-1792789200@squatch-brewing.com
SUMMARY:Bill Young Acoustics
DESCRIPTION:Grab a pint\, grab your friends\, and settle in for an evening with Bill Young Acoustics live at Squatch. \nhttps://www.facebook.com/BillYoungAcousticsounds
URL:https://squatch-brewing.com/event/bill-young-acoustics-6/
LOCATION:Squatch Brewing\, 203 Townsend Drive\, Monroeville\, PA\, 15146\, United States
CATEGORIES:Entertainment
ATTACH;FMTTYPE=image/png:https://squatch-brewing.com/wp-content/uploads/2025/02/Bill-Young-FB-event-photo.png
END:VEVENT
BEGIN:VEVENT
DTSTART;TZID=America/New_York:20261024T180000
DTEND;TZID=America/New_York:20261024T210000
DTSTAMP:20260423T044754
CREATED:20250929T184452Z
LAST-MODIFIED:20250929T184452Z
UID:10000952-1792864800-1792875600@squatch-brewing.com
SUMMARY:Jay Wiley
DESCRIPTION:Jay Wiley takes the stage with a mix of rock\, folk\, and country influences — the kind of music that pairs perfectly with a fresh pour at Squatch Brewing. Don’t miss this one! \nhttps://www.facebook.com/jaywiley
URL:https://squatch-brewing.com/event/jay-wiley-6/
LOCATION:Squatch Brewing\, 203 Townsend Drive\, Monroeville\, PA\, 15146\, United States
CATEGORIES:Entertainment
ATTACH;FMTTYPE=image/jpeg:https://squatch-brewing.com/wp-content/uploads/2025/09/400.jpg
END:VEVENT
BEGIN:VEVENT
DTSTART;TZID=America/New_York:20261105T180000
DTEND;TZID=America/New_York:20261105T200000
DTSTAMP:20260423T044754
CREATED:20251124T191235Z
LAST-MODIFIED:20251124T191235Z
UID:10001091-1793901600-1793908800@squatch-brewing.com
SUMMARY:Music Bingo
DESCRIPTION: Music Bingo – Old School Style! We’re kicking it back with classic paper cards for a night of free-to-play Music Bingo! Awesome prizes up for grabs Great music\, craft beer\, good vibes\, and tons of funCome early\, grab a beer and a card\, and get ready to sing (and dab) your way to victory!
URL:https://squatch-brewing.com/event/music-bingo-19/
LOCATION:Squatch Brewing\, 203 Townsend Drive\, Monroeville\, PA\, 15146\, United States
CATEGORIES:Entertainment
ATTACH;FMTTYPE=image/png:https://squatch-brewing.com/wp-content/uploads/2025/11/Music-Bingo-website.png
END:VEVENT
BEGIN:VEVENT
DTSTART;TZID=America/New_York:20261106T180000
DTEND;TZID=America/New_York:20261106T210000
DTSTAMP:20260423T044754
CREATED:20251007T185549Z
LAST-MODIFIED:20251007T185549Z
UID:10000974-1793988000-1793998800@squatch-brewing.com
SUMMARY:Brad Wagner
DESCRIPTION:At first glance\, one might cast Brad Wagner in with the lot of singer/songwriters that rushed onto the musical scene in the 90‘s. One listen though and you will reconsider. There is an edge-alternately tipped with humor and times cut with fire that sets him apart. \nhttps://bradwagnerbarfly.com/
URL:https://squatch-brewing.com/event/brad-wagner-23/
LOCATION:Squatch Brewing\, 203 Townsend Drive\, Monroeville\, PA\, 15146\, United States
CATEGORIES:Entertainment
ATTACH;FMTTYPE=image/png:https://squatch-brewing.com/wp-content/uploads/2025/09/FB-Website.png
END:VEVENT
BEGIN:VEVENT
DTSTART;TZID=America/New_York:20261107T180000
DTEND;TZID=America/New_York:20261107T210000
DTSTAMP:20260423T044754
CREATED:20260327T183505Z
LAST-MODIFIED:20260327T183505Z
UID:10001213-1794074400-1794085200@squatch-brewing.com
SUMMARY:Leah K Music
DESCRIPTION:Leah brings a dynamic mix of rock classics and modern favorites—from The Rolling Stones and Tom Petty to Maroon 5 and Matchbox Twenty. With a splash of pop\, a dash of country\, and plenty of her own original songs\, Leah delivers a sound that’s both timeless and totally her own. \nCome for the music\, stay for the vibes. 🍻🎤
URL:https://squatch-brewing.com/event/leah-k-music-2/
LOCATION:Squatch Brewing\, 203 Townsend Drive\, Monroeville\, PA\, 15146\, United States
CATEGORIES:Entertainment
ATTACH;FMTTYPE=image/png:https://squatch-brewing.com/wp-content/uploads/2026/03/website-FB.png
END:VEVENT
BEGIN:VEVENT
DTSTART;TZID=America/New_York:20261112T180000
DTEND;TZID=America/New_York:20261112T210000
DTSTAMP:20260423T044754
CREATED:20251013T162738Z
LAST-MODIFIED:20251119T142334Z
UID:10000996-1794506400-1794517200@squatch-brewing.com
SUMMARY:Puzzles and Pints
DESCRIPTION:Casually assemble your jigsaw puzzle or compete as a team to be the fastest to put it together! All while enjoying craft beer. \n$10 per person. \nPizza will be provided. \nCheck-in and food service begins at 6:00 pm.\nRace starts at 6:30pm. \n– – – \nCompetition Details\n*Teams of up to 4 people can register to compete for speed assembling a jigsaw puzzle. Limited to 10 teams.\n* Events typically feature only one to three puzzle designs spread evenly across all teams.\n* Puzzles will be randomly drawn upon the start of the competition.\n* Prizes are awarded to the fastest finishing teams per design. Prizes include 60 Minute Missions gift cards\, beers and merchandise.\n– – –\nNo outside drink is permitted. \nPlayers must be at least 21 years old
URL:https://squatch-brewing.com/event/puzzles-and-pints-16/
LOCATION:Squatch Brewing\, 203 Townsend Drive\, Monroeville\, PA\, 15146\, United States
CATEGORIES:Entertainment
ATTACH;FMTTYPE=image/png:https://squatch-brewing.com/wp-content/uploads/2025/04/Puzzles-Pints-event-cover-1-1.png
END:VEVENT
BEGIN:VEVENT
DTSTART;TZID=America/New_York:20261113T180000
DTEND;TZID=America/New_York:20261113T210000
DTSTAMP:20260423T044754
CREATED:20250930T165722Z
LAST-MODIFIED:20250930T165722Z
UID:10000960-1794592800-1794603600@squatch-brewing.com
SUMMARY:Jay Constable
DESCRIPTION:Energetic solo performer\, playing a wide variety of Pop\, Rock\, Reggae\, Soul\, R&B\, Country\, and crowd favorites from the 60s to today!\nhttps://www.facebook.com/jayconstablepgh
URL:https://squatch-brewing.com/event/jay-constable-8/
LOCATION:Squatch Brewing\, 203 Townsend Drive\, Monroeville\, PA\, 15146\, United States
CATEGORIES:Entertainment
ATTACH;FMTTYPE=image/png:https://squatch-brewing.com/wp-content/uploads/2025/09/website-FB.png
END:VEVENT
BEGIN:VEVENT
DTSTART;TZID=America/New_York:20261119T180000
DTEND;TZID=America/New_York:20261119T200000
DTSTAMP:20260423T044754
CREATED:20251121T185956Z
LAST-MODIFIED:20251121T185956Z
UID:10001078-1795111200-1795118400@squatch-brewing.com
SUMMARY:Trivia
DESCRIPTION:🧠🍻 Trivia Night at Squatch! It’s free to play\, wildly fun\, and you could walk away with awesome Squatch prizes. Bring your crew and flex those big brains!
URL:https://squatch-brewing.com/event/trivia/
LOCATION:Squatch Brewing\, 203 Townsend Drive\, Monroeville\, PA\, 15146\, United States
CATEGORIES:Entertainment
ATTACH;FMTTYPE=image/png:https://squatch-brewing.com/wp-content/uploads/2025/11/FB_website-1-1.png
END:VEVENT
BEGIN:VEVENT
DTSTART;TZID=America/New_York:20261120T180000
DTEND;TZID=America/New_York:20261120T210000
DTSTAMP:20260423T044754
CREATED:20251010T132342Z
LAST-MODIFIED:20251010T132342Z
UID:10000980-1795197600-1795208400@squatch-brewing.com
SUMMARY:JS Project
DESCRIPTION:JS Project brings the vibes! 🎶Delivering a soulful mix of acoustic rock\, blues\, and folk favorites — plus originals that hit just right. Get ready for great tunes\, good energy\, and a night that’ll have you singing along. \nhttps://www.bandsintown.com/a/15506990-js-project?came_from=257&utm_medium=web&utm_source=home&utm_campaign=search_bar
URL:https://squatch-brewing.com/event/js-project-8/
LOCATION:Squatch Brewing\, 203 Townsend Drive\, Monroeville\, PA\, 15146\, United States
CATEGORIES:Entertainment
ATTACH;FMTTYPE=image/png:https://squatch-brewing.com/wp-content/uploads/2025/10/JS-Project-FB-event-photo.png
END:VEVENT
END:VCALENDAR