BEGIN:VCALENDAR
VERSION:2.0
PRODID:-//Squatch Brewing - ECPv6.15.20//NONSGML v1.0//EN
CALSCALE:GREGORIAN
METHOD:PUBLISH
X-WR-CALNAME:Squatch Brewing
X-ORIGINAL-URL:https://squatch-brewing.com
X-WR-CALDESC:Events for Squatch Brewing
REFRESH-INTERVAL;VALUE=DURATION:PT1H
X-Robots-Tag:noindex
X-PUBLISHED-TTL:PT1H
BEGIN:VTIMEZONE
TZID:America/New_York
BEGIN:DAYLIGHT
TZOFFSETFROM:-0500
TZOFFSETTO:-0400
TZNAME:EDT
DTSTART:20240310T070000
END:DAYLIGHT
BEGIN:STANDARD
TZOFFSETFROM:-0400
TZOFFSETTO:-0500
TZNAME:EST
DTSTART:20241103T060000
END:STANDARD
BEGIN:DAYLIGHT
TZOFFSETFROM:-0500
TZOFFSETTO:-0400
TZNAME:EDT
DTSTART:20250309T070000
END:DAYLIGHT
BEGIN:STANDARD
TZOFFSETFROM:-0400
TZOFFSETTO:-0500
TZNAME:EST
DTSTART:20251102T060000
END:STANDARD
BEGIN:DAYLIGHT
TZOFFSETFROM:-0500
TZOFFSETTO:-0400
TZNAME:EDT
DTSTART:20260308T070000
END:DAYLIGHT
BEGIN:STANDARD
TZOFFSETFROM:-0400
TZOFFSETTO:-0500
TZNAME:EST
DTSTART:20261101T060000
END:STANDARD
END:VTIMEZONE
BEGIN:VEVENT
DTSTART;TZID=America/New_York:20251107T180000
DTEND;TZID=America/New_York:20251107T210000
DTSTAMP:20260419T101746
CREATED:20250821T175220Z
LAST-MODIFIED:20250825T181022Z
UID:10000921-1762538400-1762549200@squatch-brewing.com
SUMMARY:The Ripped Jeans
DESCRIPTION:💥 Two voices\, one keyboard\, endless hits. The Ripped Jeans deliver contemporary and classic songs with style\, energy\, and just the right amount of fun. \nhttps://www.facebook.com/profile.php?id=61555756767581
URL:https://squatch-brewing.com/event/the-ripped-jeans-vocalist-duo-2/2025-11-07/
LOCATION:Squatch Brewing\, 203 Townsend Drive\, Monroeville\, PA\, 15146\, United States
CATEGORIES:Entertainment
ATTACH;FMTTYPE=image/jpeg:https://squatch-brewing.com/wp-content/uploads/2024/03/Logo-5-e1730917966556.jpg
END:VEVENT
BEGIN:VEVENT
DTSTART;TZID=America/New_York:20251106T180000
DTEND;TZID=America/New_York:20251106T200000
DTSTAMP:20260419T101746
CREATED:20241029T144151Z
LAST-MODIFIED:20241029T144151Z
UID:10000519-1762452000-1762459200@squatch-brewing.com
SUMMARY:Trivia Night with Trivia Time
DESCRIPTION:Free to play and win prizes!
URL:https://squatch-brewing.com/event/trivia-night-with-trivia-time/2025-11-06/
LOCATION:Squatch Brewing\, 203 Townsend Drive\, Monroeville\, PA\, 15146\, United States
CATEGORIES:Entertainment
ATTACH;FMTTYPE=image/png:https://squatch-brewing.com/wp-content/uploads/2024/05/Screenshot-2024-07-19-072926.png
END:VEVENT
BEGIN:VEVENT
DTSTART;TZID=America/New_York:20251101T180000
DTEND;TZID=America/New_York:20251101T210000
DTSTAMP:20260419T101746
CREATED:20240709T133601Z
LAST-MODIFIED:20251002T133537Z
UID:10000746-1762020000-1762030800@squatch-brewing.com
SUMMARY:Michelle LoFaso Acoustic
DESCRIPTION:🎶 “Grab a drink\, tap your feet\, and let Michelle LoFaso rock your night! \nhttps://www.facebook.com/profile.php?id=61561876293155
URL:https://squatch-brewing.com/event/michelle-lofaso-acoustic/2025-11-01/
LOCATION:Squatch Brewing\, 203 Townsend Drive\, Monroeville\, PA\, 15146\, United States
CATEGORIES:Entertainment
ATTACH;FMTTYPE=image/png:https://squatch-brewing.com/wp-content/uploads/2025/10/FB_website-1.png
END:VEVENT
BEGIN:VEVENT
DTSTART;TZID=America/New_York:20251030T180000
DTEND;TZID=America/New_York:20251030T200000
DTSTAMP:20260419T101746
CREATED:20250523T155831Z
LAST-MODIFIED:20250523T155831Z
UID:10000859-1761847200-1761854400@squatch-brewing.com
SUMMARY:Music Bingo
DESCRIPTION: Music Bingo – Old School Style! We’re kicking it back with classic paper cards for a night of free-to-play Music Bingo! Awesome prizes up for grabs Great music\, craft beer\, good vibes\, and tons of funCome early\, grab a beer and a card\, and get ready to sing (and dab) your way to victory!
URL:https://squatch-brewing.com/event/music-bingo-7/
LOCATION:Squatch Brewing\, 203 Townsend Drive\, Monroeville\, PA\, 15146\, United States
CATEGORIES:Entertainment
ATTACH;FMTTYPE=image/png:https://squatch-brewing.com/wp-content/uploads/2025/05/FB-website-1-1.png
END:VEVENT
BEGIN:VEVENT
DTSTART;TZID=America/New_York:20251025T180000
DTEND;TZID=America/New_York:20251025T210000
DTSTAMP:20260419T101746
CREATED:20241107T195158Z
LAST-MODIFIED:20251119T141050Z
UID:10000745-1761415200-1761426000@squatch-brewing.com
SUMMARY:Bill Young Acoustic Sounds
DESCRIPTION:Kick back with a craft beer and the acoustic magic of Bill Young.
URL:https://squatch-brewing.com/event/bill-young-acoustic-sounds-3/2025-10-25/
LOCATION:Squatch Brewing\, 203 Townsend Drive\, Monroeville\, PA\, 15146\, United States
CATEGORIES:Entertainment
ATTACH;FMTTYPE=image/jpeg:https://squatch-brewing.com/wp-content/uploads/2024/03/IMG_1702cropped-e1731009195773.jpg
END:VEVENT
BEGIN:VEVENT
DTSTART;TZID=America/New_York:20251024T180000
DTEND;TZID=America/New_York:20251024T210000
DTSTAMP:20260419T101746
CREATED:20241204T171139Z
LAST-MODIFIED:20250108T193552Z
UID:10000648-1761328800-1761339600@squatch-brewing.com
SUMMARY:Brad Wagner
DESCRIPTION:At first glance one might cast Brad Wagner in with the lot of singer/songwriters that rushed onto the musical scene in the 90‘s.  One listen though and you will reconsider. There is an edge-alternately tipped with humor and times cut with fire that sets him apart.  He sings and writes passionately-about personal hardship\, private triumph and the larger public consequence. \nCalling on a world musical influences-ranging from Americana roots rock and country (Elvis\, Buddy Holly) to working class icons (Dylan\, Petty\, Springsteen\, Mellencamp) to first generation punk (The Clash and the other Elvis) Wagner offers a sound that is brash and humble\, joyful and romantic. \nOn stage Wagner deftly mixes words and music\, a knowing glance with an ebullient hook to move the audience through the range of human emotion; from righteous anger to infectious laughter with countless stops in between reminding the listener that a song can go pop without losing its punch and a writer can listen to his heart and still manage to rock the boat.
URL:https://squatch-brewing.com/event/brad-wagner-10/
LOCATION:Squatch Brewing\, 203 Townsend Drive\, Monroeville\, PA\, 15146\, United States
CATEGORIES:Entertainment
END:VEVENT
BEGIN:VEVENT
DTSTART;TZID=America/New_York:20251018T180000
DTEND;TZID=America/New_York:20251018T210000
DTSTAMP:20260419T101746
CREATED:20241110T154831Z
LAST-MODIFIED:20250108T193517Z
UID:10000744-1760810400-1760821200@squatch-brewing.com
SUMMARY:JS Project
DESCRIPTION:Acoustic Rock\, Folk\, Blues cover songs as well as original music.
URL:https://squatch-brewing.com/event/js-project-2/2025-10-18/
LOCATION:Squatch Brewing\, 203 Townsend Drive\, Monroeville\, PA\, 15146\, United States
CATEGORIES:Entertainment
ATTACH;FMTTYPE=image/jpeg:https://squatch-brewing.com/wp-content/uploads/2024/11/JS-Project-photo2-e1731253334431.jpg
END:VEVENT
BEGIN:VEVENT
DTSTART;TZID=America/New_York:20251016T180000
DTEND;TZID=America/New_York:20251016T200000
DTSTAMP:20260419T101746
CREATED:20241029T144151Z
LAST-MODIFIED:20241029T144151Z
UID:10000518-1760637600-1760644800@squatch-brewing.com
SUMMARY:Trivia Night with Trivia Time
DESCRIPTION:Free to play and win prizes!
URL:https://squatch-brewing.com/event/trivia-night-with-trivia-time/2025-10-16/
LOCATION:Squatch Brewing\, 203 Townsend Drive\, Monroeville\, PA\, 15146\, United States
CATEGORIES:Entertainment
ATTACH;FMTTYPE=image/png:https://squatch-brewing.com/wp-content/uploads/2024/05/Screenshot-2024-07-19-072926.png
END:VEVENT
BEGIN:VEVENT
DTSTART;TZID=America/New_York:20251013T080000
DTEND;TZID=America/New_York:20251013T170000
DTSTAMP:20260419T101746
CREATED:20251013T160415Z
LAST-MODIFIED:20251013T160415Z
UID:10000987-1760342400-1760374800@squatch-brewing.com
SUMMARY:Puzzles and Pints
DESCRIPTION:Casually assemble your jigsaw puzzle or compete as a team to be the fastest to put it together! All while sampling and enjoying craft beer from Squatch Brewing. \n$10 per person. \nPizza will be provided. \nCheck-in and food service begins at 6:00 pm.\nRace starts at 6:30pm. \n– – – \nCompetition Details\n*Teams of up to 4 people can register to compete for speed assembling a jigsaw puzzle. Limited to 10 teams.\n* Events typically feature only one to three puzzle designs spread evenly across all teams.\n* Puzzles will be randomly drawn upon the start of the competition.\n* Prizes are awarded to the fastest finishing teams per design. Prizes include 60 Minute Missions gift cards\, beers and merchandise.\n– – –\nNo outside drink is permitted. \nPlayers must be at least 21 years old
URL:https://squatch-brewing.com/event/puzzles-and-pints-7/
LOCATION:Squatch Brewing\, 203 Townsend Drive\, Monroeville\, PA\, 15146\, United States
CATEGORIES:Entertainment
ATTACH;FMTTYPE=image/png:https://squatch-brewing.com/wp-content/uploads/2025/04/Puzzles-Pints-event-cover-1.png
END:VEVENT
BEGIN:VEVENT
DTSTART;TZID=America/New_York:20251011T180000
DTEND;TZID=America/New_York:20251011T210000
DTSTAMP:20260419T101746
CREATED:20240529T175523Z
LAST-MODIFIED:20250108T194028Z
UID:10000743-1760205600-1760216400@squatch-brewing.com
SUMMARY:Dennis Crawford Acoustic
DESCRIPTION:https://www.facebook.com/profile.php?id=100089759963609
URL:https://squatch-brewing.com/event/dennis-crawford-acoustic/2025-10-11/
LOCATION:Squatch Brewing\, 203 Townsend Drive\, Monroeville\, PA\, 15146\, United States
CATEGORIES:Entertainment
ATTACH;FMTTYPE=image/jpeg:https://squatch-brewing.com/wp-content/uploads/2024/05/432013458_313119748454204_7396773995717001633_n-e1730916703391.jpg
END:VEVENT
BEGIN:VEVENT
DTSTART;TZID=America/New_York:20251004T180000
DTEND;TZID=America/New_York:20251004T210000
DTSTAMP:20260419T101746
CREATED:20240319T135359Z
LAST-MODIFIED:20250108T193816Z
UID:10000742-1759600800-1759611600@squatch-brewing.com
SUMMARY:Music By Detention
DESCRIPTION:https://detentionjaneandmandi.weebly.com/ \nhttps://www.facebook.com/detention.janeandmandi
URL:https://squatch-brewing.com/event/music-by-detention/2025-10-04/
LOCATION:Squatch Brewing\, 203 Townsend Drive\, Monroeville\, PA\, 15146\, United States
CATEGORIES:Entertainment
ATTACH;FMTTYPE=image/jpeg:https://squatch-brewing.com/wp-content/uploads/2024/03/Logo-3-e1730920092377.jpg
END:VEVENT
BEGIN:VEVENT
DTSTART;TZID=America/New_York:20251002T180000
DTEND;TZID=America/New_York:20251002T200000
DTSTAMP:20260419T101746
CREATED:20250523T155736Z
LAST-MODIFIED:20250523T155736Z
UID:10000858-1759428000-1759435200@squatch-brewing.com
SUMMARY:Music Bingo
DESCRIPTION: Music Bingo – Old School Style! We’re kicking it back with classic paper cards for a night of free-to-play Music Bingo! Awesome prizes up for grabs Great music\, craft beer\, good vibes\, and tons of funCome early\, grab a beer and a card\, and get ready to sing (and dab) your way to victory!
URL:https://squatch-brewing.com/event/music-bingo-6/
LOCATION:Squatch Brewing\, 203 Townsend Drive\, Monroeville\, PA\, 15146\, United States
CATEGORIES:Entertainment
ATTACH;FMTTYPE=image/png:https://squatch-brewing.com/wp-content/uploads/2025/05/FB-website-1-1.png
END:VEVENT
BEGIN:VEVENT
DTSTART;TZID=America/New_York:20250927T180000
DTEND;TZID=America/New_York:20250927T210000
DTSTAMP:20260419T101746
CREATED:20240709T133601Z
LAST-MODIFIED:20251002T133537Z
UID:10000756-1758996000-1759006800@squatch-brewing.com
SUMMARY:Michelle LoFaso Acoustic
DESCRIPTION:🎶 “Grab a drink\, tap your feet\, and let Michelle LoFaso rock your night! \nhttps://www.facebook.com/profile.php?id=61561876293155
URL:https://squatch-brewing.com/event/michelle-lofaso-acoustic/2025-09-27/
LOCATION:Squatch Brewing\, 203 Townsend Drive\, Monroeville\, PA\, 15146\, United States
CATEGORIES:Entertainment
ATTACH;FMTTYPE=image/png:https://squatch-brewing.com/wp-content/uploads/2025/10/FB_website-1.png
END:VEVENT
BEGIN:VEVENT
DTSTART;TZID=America/New_York:20250925T180000
DTEND;TZID=America/New_York:20250925T210000
DTSTAMP:20260419T101746
CREATED:20250403T163309Z
LAST-MODIFIED:20250923T190226Z
UID:10000832-1758823200-1758834000@squatch-brewing.com
SUMMARY:Puzzles & Pints
DESCRIPTION:Casually assemble your jigsaw puzzle or compete as a team to be the fastest to put it together! All while sampling and enjoying craft beer from Squatch Brewing. \n$10 per person. \nPizza will be provided. \nCheck-in and food service begins at 6:00 pm.\nRace starts at 6:30pm. \n– – – \nCompetition Details\n*Teams of up to 4 people can register to compete for speed assembling a jigsaw puzzle. Limited to 10 teams.\n* Events typically feature only one to three puzzle designs spread evenly across all teams.\n* Puzzles will be randomly drawn upon the start of the competition.\n* Prizes are awarded to the fastest finishing teams per design. Prizes include 60 Minute Missions gift cards\, beers and merchandise.\n– – –\nNo outside drink is permitted. \nPlayers must be at least 21 years old
URL:https://squatch-brewing.com/event/puzzles-pints-12/
LOCATION:Squatch Brewing\, 203 Townsend Drive\, Monroeville\, PA\, 15146\, United States
CATEGORIES:Entertainment
END:VEVENT
BEGIN:VEVENT
DTSTART;TZID=America/New_York:20250919T180000
DTEND;TZID=America/New_York:20250919T210000
DTSTAMP:20260419T101746
CREATED:20241110T154831Z
LAST-MODIFIED:20250108T193517Z
UID:10000738-1758304800-1758315600@squatch-brewing.com
SUMMARY:JS Project
DESCRIPTION:Acoustic Rock\, Folk\, Blues cover songs as well as original music.
URL:https://squatch-brewing.com/event/js-project-2/2025-09-19/
LOCATION:Squatch Brewing\, 203 Townsend Drive\, Monroeville\, PA\, 15146\, United States
CATEGORIES:Entertainment
ATTACH;FMTTYPE=image/jpeg:https://squatch-brewing.com/wp-content/uploads/2024/11/JS-Project-photo2-e1731253334431.jpg
END:VEVENT
BEGIN:VEVENT
DTSTART;TZID=America/New_York:20250918T180000
DTEND;TZID=America/New_York:20250918T200000
DTSTAMP:20260419T101746
CREATED:20241029T144151Z
LAST-MODIFIED:20241029T144151Z
UID:10000517-1758218400-1758225600@squatch-brewing.com
SUMMARY:Trivia Night with Trivia Time
DESCRIPTION:Free to play and win prizes!
URL:https://squatch-brewing.com/event/trivia-night-with-trivia-time/2025-09-18/
LOCATION:Squatch Brewing\, 203 Townsend Drive\, Monroeville\, PA\, 15146\, United States
CATEGORIES:Entertainment
ATTACH;FMTTYPE=image/png:https://squatch-brewing.com/wp-content/uploads/2024/05/Screenshot-2024-07-19-072926.png
END:VEVENT
BEGIN:VEVENT
DTSTART;TZID=America/New_York:20250912T180000
DTEND;TZID=America/New_York:20250912T210000
DTSTAMP:20260419T101746
CREATED:20241217T194941Z
LAST-MODIFIED:20250825T180756Z
UID:10000354-1757700000-1757710800@squatch-brewing.com
SUMMARY:Brad Wagner
DESCRIPTION:Calling on a world musical influences-ranging from Americana roots rock and country (Elvis\, Buddy Holly)\, to working class icons (Dylan\, Petty\, Springsteen\, Mellencamp) to first generation punk (The Clash and the other Elvis) Wagner offers a sound that is  brash and humble\, joyful and romantic. \nhttps://bradwagnerbarfly.com/home-page
URL:https://squatch-brewing.com/event/brad-wagner-2-2-3/
LOCATION:Squatch Brewing\, 203 Townsend Drive\, Monroeville\, PA\, 15146\, United States
CATEGORIES:Entertainment
END:VEVENT
BEGIN:VEVENT
DTSTART;TZID=America/New_York:20250906T180000
DTEND;TZID=America/New_York:20250906T210000
DTSTAMP:20260419T101746
CREATED:20240416T164841Z
LAST-MODIFIED:20250825T180442Z
UID:10000737-1757181600-1757192400@squatch-brewing.com
SUMMARY:Music by Jay Wiley
DESCRIPTION:Jay Wiley brings heartfelt lyrics and soulful melodies straight from the Steel City. With a voice that blends grit and warmth\, he delivers original songs and reimagined favorites that strike every chord. A true Pittsburgh talent you won’t want to miss live \nhttp://facebook.com/jaywiley
URL:https://squatch-brewing.com/event/music-by-jay-wiley/2025-09-06/
LOCATION:Squatch Brewing\, 203 Townsend Drive\, Monroeville\, PA\, 15146\, United States
CATEGORIES:Entertainment
ATTACH;FMTTYPE=image/jpeg:https://squatch-brewing.com/wp-content/uploads/2024/04/13412172_10154349751764887_2016367248474105281_o-1-e1730914029570.jpg
END:VEVENT
BEGIN:VEVENT
DTSTART;TZID=America/New_York:20250905T180000
DTEND;TZID=America/New_York:20250905T200000
DTSTAMP:20260419T101746
CREATED:20250805T184209Z
LAST-MODIFIED:20250805T184209Z
UID:10000905-1757095200-1757102400@squatch-brewing.com
SUMMARY:80's Night
DESCRIPTION:🎶 Back to the 80’s Night 🎶\nGet ready to break out the neon and tease that hair—Friday\, September 5th is 80’s Night! \n🕕 DJ spinning nothing but the best 80’s hits from 6–9PM\n🍗 WPF Food Truck on site from 5–8PM\n🍻 Cold craft brews flowing all night \nCome relive the raddest decade with great music\, great food\, and even better beer. Totally tubular vibes guaranteed!
URL:https://squatch-brewing.com/event/80s-night/
LOCATION:Squatch Brewing\, 203 Townsend Drive\, Monroeville\, PA\, 15146\, United States
CATEGORIES:Entertainment
ATTACH;FMTTYPE=image/png:https://squatch-brewing.com/wp-content/uploads/2025/08/FB_Website-4.png
END:VEVENT
BEGIN:VEVENT
DTSTART;TZID=America/New_York:20250904T180000
DTEND;TZID=America/New_York:20250904T200000
DTSTAMP:20260419T101746
CREATED:20250523T155641Z
LAST-MODIFIED:20250523T155641Z
UID:10000857-1757008800-1757016000@squatch-brewing.com
SUMMARY:Music Bingo
DESCRIPTION: Music Bingo – Old School Style! We’re kicking it back with classic paper cards for a night of free-to-play Music Bingo! Awesome prizes up for grabs Great music\, craft beer\, good vibes\, and tons of funCome early\, grab a beer and a card\, and get ready to sing (and dab) your way to victory!
URL:https://squatch-brewing.com/event/music-bingo-5/
LOCATION:Squatch Brewing\, 203 Townsend Drive\, Monroeville\, PA\, 15146\, United States
CATEGORIES:Entertainment
ATTACH;FMTTYPE=image/png:https://squatch-brewing.com/wp-content/uploads/2025/05/FB-website-1-1.png
END:VEVENT
BEGIN:VEVENT
DTSTART;TZID=America/New_York:20250830T180000
DTEND;TZID=America/New_York:20250830T210000
DTSTAMP:20260419T101746
CREATED:20250821T175220Z
LAST-MODIFIED:20250825T181022Z
UID:10000702-1756576800-1756587600@squatch-brewing.com
SUMMARY:The Ripped Jeans
DESCRIPTION:💥 Two voices\, one keyboard\, endless hits. The Ripped Jeans deliver contemporary and classic songs with style\, energy\, and just the right amount of fun. \nhttps://www.facebook.com/profile.php?id=61555756767581
URL:https://squatch-brewing.com/event/the-ripped-jeans-vocalist-duo-2/2025-08-30/
LOCATION:Squatch Brewing\, 203 Townsend Drive\, Monroeville\, PA\, 15146\, United States
CATEGORIES:Entertainment
ATTACH;FMTTYPE=image/jpeg:https://squatch-brewing.com/wp-content/uploads/2024/03/Logo-5-e1730917966556.jpg
END:VEVENT
BEGIN:VEVENT
DTSTART;TZID=America/New_York:20250828T180000
DTEND;TZID=America/New_York:20250828T210000
DTSTAMP:20260419T101746
CREATED:20250401T130808Z
LAST-MODIFIED:20250813T150335Z
UID:10000826-1756404000-1756414800@squatch-brewing.com
SUMMARY:Puzzles & Pints
DESCRIPTION:Casually assemble your jigsaw puzzle or compete as a team to be the fastest to put it together! All while sampling and enjoying craft beer from Squatch Brewing. \n$10 per person. \nPizza will be provided. \nCheck-in and food service begins at 6:00 pm.\nRace starts at 6:30pm. \n– – – \nCompetition Details\n*Teams of up to 4 people can register to compete for speed assembling a jigsaw puzzle. Limited to 10 teams.\n* Events typically feature only one to three puzzle designs spread evenly across all teams.\n* Puzzles will be randomly drawn upon the start of the competition.\n* Prizes are awarded to the fastest finishing teams per design. Prizes include 60 Minute Missions gift cards\, beers and merchandise.\n– – –\nNo outside drink is permitted. \nPlayers must be at least 21 years old
URL:https://squatch-brewing.com/event/puzzles-pints-11/
LOCATION:Squatch Brewing\, 203 Townsend Drive\, Monroeville\, PA\, 15146\, United States
CATEGORIES:Entertainment
ATTACH;FMTTYPE=image/png:https://squatch-brewing.com/wp-content/uploads/2025/04/Puzzles-Pints-event-cover-1.png
END:VEVENT
BEGIN:VEVENT
DTSTART;TZID=America/New_York:20250823T180000
DTEND;TZID=America/New_York:20250823T210000
DTSTAMP:20260419T101746
CREATED:20250821T171215Z
LAST-MODIFIED:20250821T171217Z
UID:10000734-1755972000-1755982800@squatch-brewing.com
SUMMARY:Michelle LoFaso Acoustic
DESCRIPTION:🎸 Turn Up the Night!From acoustic classic rock to country\, the stage is set.  Bring your friends\, grab a drink & make it a night to remember! \n  \nhttps://www.facebook.com/profile.php?id=61561876293155
URL:https://squatch-brewing.com/event/michelle-lofaso-acoustic-2/
LOCATION:Squatch Brewing\, 203 Townsend Drive\, Monroeville\, PA\, 15146\, United States
CATEGORIES:Entertainment
ATTACH;FMTTYPE=image/jpeg:https://squatch-brewing.com/wp-content/uploads/2024/07/449744648_122100947894395876_4936668660915475920_n.jpg
END:VEVENT
BEGIN:VEVENT
DTSTART;TZID=America/New_York:20250823T180000
DTEND;TZID=America/New_York:20250823T210000
DTSTAMP:20260419T101746
CREATED:20240709T133601Z
LAST-MODIFIED:20251002T133537Z
UID:10000930-1755972000-1755982800@squatch-brewing.com
SUMMARY:Michelle LoFaso Acoustic
DESCRIPTION:🎶 “Grab a drink\, tap your feet\, and let Michelle LoFaso rock your night! \nhttps://www.facebook.com/profile.php?id=61561876293155
URL:https://squatch-brewing.com/event/michelle-lofaso-acoustic/2025-08-23/
LOCATION:Squatch Brewing\, 203 Townsend Drive\, Monroeville\, PA\, 15146\, United States
CATEGORIES:Entertainment
ATTACH;FMTTYPE=image/png:https://squatch-brewing.com/wp-content/uploads/2025/10/FB_website-1.png
END:VEVENT
BEGIN:VEVENT
DTSTART;TZID=America/New_York:20250821T180000
DTEND;TZID=America/New_York:20250821T200000
DTSTAMP:20260419T101746
CREATED:20241029T144151Z
LAST-MODIFIED:20241029T144151Z
UID:10000516-1755799200-1755806400@squatch-brewing.com
SUMMARY:Trivia Night with Trivia Time
DESCRIPTION:Free to play and win prizes!
URL:https://squatch-brewing.com/event/trivia-night-with-trivia-time/2025-08-21/
LOCATION:Squatch Brewing\, 203 Townsend Drive\, Monroeville\, PA\, 15146\, United States
CATEGORIES:Entertainment
ATTACH;FMTTYPE=image/png:https://squatch-brewing.com/wp-content/uploads/2024/05/Screenshot-2024-07-19-072926.png
END:VEVENT
BEGIN:VEVENT
DTSTART;TZID=America/New_York:20250815T180000
DTEND;TZID=America/New_York:20250815T210000
DTSTAMP:20260419T101746
CREATED:20250804T131929Z
LAST-MODIFIED:20250804T132027Z
UID:10000733-1755280800-1755291600@squatch-brewing.com
SUMMARY:Allison Borek Acoustic
DESCRIPTION:https://www.facebook.com/profile.php?id=100088483062138
URL:https://squatch-brewing.com/event/allison-borek-accoustic-2/
LOCATION:Squatch Brewing\, 203 Townsend Drive\, Monroeville\, PA\, 15146\, United States
CATEGORIES:Entertainment
ATTACH;FMTTYPE=image/jpeg:https://squatch-brewing.com/wp-content/uploads/2024/04/photo.jpg
END:VEVENT
BEGIN:VEVENT
DTSTART;TZID=America/New_York:20250807T180000
DTEND;TZID=America/New_York:20250807T200000
DTSTAMP:20260419T101746
CREATED:20250523T155414Z
LAST-MODIFIED:20250523T155414Z
UID:10000856-1754589600-1754596800@squatch-brewing.com
SUMMARY:Music Bingo
DESCRIPTION: Music Bingo – Old School Style! We’re kicking it back with classic paper cards for a night of free-to-play Music Bingo! Awesome prizes up for grabs Great music\, craft beer\, good vibes\, and tons of funCome early\, grab a beer and a card\, and get ready to sing (and dab) your way to victory!
URL:https://squatch-brewing.com/event/music-bingo-4/
LOCATION:Squatch Brewing\, 203 Townsend Drive\, Monroeville\, PA\, 15146\, United States
CATEGORIES:Entertainment
ATTACH;FMTTYPE=image/png:https://squatch-brewing.com/wp-content/uploads/2025/05/FB-website-1-1.png
END:VEVENT
BEGIN:VEVENT
DTSTART;TZID=America/New_York:20250802T180000
DTEND;TZID=America/New_York:20250802T210000
DTSTAMP:20260419T101746
CREATED:20241110T154831Z
LAST-MODIFIED:20250108T193517Z
UID:10000732-1754157600-1754168400@squatch-brewing.com
SUMMARY:JS Project
DESCRIPTION:Acoustic Rock\, Folk\, Blues cover songs as well as original music.
URL:https://squatch-brewing.com/event/js-project-2/2025-08-02/
LOCATION:Squatch Brewing\, 203 Townsend Drive\, Monroeville\, PA\, 15146\, United States
CATEGORIES:Entertainment
ATTACH;FMTTYPE=image/jpeg:https://squatch-brewing.com/wp-content/uploads/2024/11/JS-Project-photo2-e1731253334431.jpg
END:VEVENT
BEGIN:VEVENT
DTSTART;TZID=America/New_York:20250731T180000
DTEND;TZID=America/New_York:20250731T200000
DTSTAMP:20260419T101746
CREATED:20241029T144151Z
LAST-MODIFIED:20241029T144151Z
UID:10000515-1753984800-1753992000@squatch-brewing.com
SUMMARY:Trivia Night with Trivia Time
DESCRIPTION:Free to play and win prizes!
URL:https://squatch-brewing.com/event/trivia-night-with-trivia-time/2025-07-31/
LOCATION:Squatch Brewing\, 203 Townsend Drive\, Monroeville\, PA\, 15146\, United States
CATEGORIES:Entertainment
ATTACH;FMTTYPE=image/png:https://squatch-brewing.com/wp-content/uploads/2024/05/Screenshot-2024-07-19-072926.png
END:VEVENT
BEGIN:VEVENT
DTSTART;TZID=America/New_York:20250727T140000
DTEND;TZID=America/New_York:20250727T180000
DTSTAMP:20260419T101746
CREATED:20250623T171618Z
LAST-MODIFIED:20250711T125223Z
UID:10000876-1753624800-1753639200@squatch-brewing.com
SUMMARY:BBQ Brews & Tunes
DESCRIPTION:Sunday Funday at Squatch – July 26th | 2–6PMPittsburgh Smokehouse will be firing up the grill with juicy burgers\, sizzling dogs\, and all your favorite food truck eats! 🍔🌭Enjoy live music by Evelyn Campbell from 3–6PM 🎶Your favorite brews will be flowing all day long 🍻 \nFamily- and pet-friendly!Bring the kids\, bring the pups\, and kick back for an afternoon of great food\, great music\, and summer vibes at Squatch. 🐾👨‍👩‍👧‍👦
URL:https://squatch-brewing.com/event/pittsburgh-smokehouse-14/
LOCATION:Squatch Brewing\, 203 Townsend Drive\, Monroeville\, PA\, 15146\, United States
CATEGORIES:Entertainment,Food Truck
ATTACH;FMTTYPE=image/png:https://squatch-brewing.com/wp-content/uploads/2025/06/250726-BBQ-BREWS-TUNES-FB-event-_website.png
END:VEVENT
END:VCALENDAR