BEGIN:VCALENDAR
VERSION:2.0
PRODID:-//Squatch Brewing - ECPv6.15.20//NONSGML v1.0//EN
CALSCALE:GREGORIAN
METHOD:PUBLISH
X-ORIGINAL-URL:https://squatch-brewing.com
X-WR-CALDESC:Events for Squatch Brewing
REFRESH-INTERVAL;VALUE=DURATION:PT1H
X-Robots-Tag:noindex
X-PUBLISHED-TTL:PT1H
BEGIN:VTIMEZONE
TZID:America/New_York
BEGIN:DAYLIGHT
TZOFFSETFROM:-0500
TZOFFSETTO:-0400
TZNAME:EDT
DTSTART:20230312T070000
END:DAYLIGHT
BEGIN:STANDARD
TZOFFSETFROM:-0400
TZOFFSETTO:-0500
TZNAME:EST
DTSTART:20231105T060000
END:STANDARD
BEGIN:DAYLIGHT
TZOFFSETFROM:-0500
TZOFFSETTO:-0400
TZNAME:EDT
DTSTART:20240310T070000
END:DAYLIGHT
BEGIN:STANDARD
TZOFFSETFROM:-0400
TZOFFSETTO:-0500
TZNAME:EST
DTSTART:20241103T060000
END:STANDARD
BEGIN:DAYLIGHT
TZOFFSETFROM:-0500
TZOFFSETTO:-0400
TZNAME:EDT
DTSTART:20250309T070000
END:DAYLIGHT
BEGIN:STANDARD
TZOFFSETFROM:-0400
TZOFFSETTO:-0500
TZNAME:EST
DTSTART:20251102T060000
END:STANDARD
END:VTIMEZONE
BEGIN:VEVENT
DTSTART;TZID=America/New_York:20240816T170000
DTEND;TZID=America/New_York:20240816T200000
DTSTAMP:20260419T225853
CREATED:20240311T133138Z
LAST-MODIFIED:20250523T135319Z
UID:10000225-1723827600-1723838400@squatch-brewing.com
SUMMARY:The Ripped Jeans
DESCRIPTION:
URL:https://squatch-brewing.com/event/the-ripped-jeans-vocalist-duo/2024-08-16/
LOCATION:Squatch Brewing\, 203 Townsend Drive\, Monroeville\, PA\, 15146\, United States
CATEGORIES:Entertainment
ATTACH;FMTTYPE=image/jpeg:https://squatch-brewing.com/wp-content/uploads/2024/03/Logo-5-e1730917966556.jpg
END:VEVENT
BEGIN:VEVENT
DTSTART;TZID=America/New_York:20240816T170000
DTEND;TZID=America/New_York:20240816T200000
DTSTAMP:20260419T225853
CREATED:20250821T175220Z
LAST-MODIFIED:20250825T181022Z
UID:10000915-1723827600-1723838400@squatch-brewing.com
SUMMARY:The Ripped Jeans
DESCRIPTION:💥 Two voices\, one keyboard\, endless hits. The Ripped Jeans deliver contemporary and classic songs with style\, energy\, and just the right amount of fun. \nhttps://www.facebook.com/profile.php?id=61555756767581
URL:https://squatch-brewing.com/event/the-ripped-jeans-vocalist-duo-2/2024-08-16/
LOCATION:Squatch Brewing\, 203 Townsend Drive\, Monroeville\, PA\, 15146\, United States
CATEGORIES:Entertainment
ATTACH;FMTTYPE=image/jpeg:https://squatch-brewing.com/wp-content/uploads/2024/03/Logo-5-e1730917966556.jpg
END:VEVENT
BEGIN:VEVENT
DTSTART;TZID=America/New_York:20240817T160000
DTEND;TZID=America/New_York:20240817T190000
DTSTAMP:20260419T225853
CREATED:20240514T143915Z
LAST-MODIFIED:20240815T115853Z
UID:10000149-1723910400-1723921200@squatch-brewing.com
SUMMARY:Music By JS Project
DESCRIPTION:https://www.bandsintown.com/e/105520861-js-project-at-squatch-brewing
URL:https://squatch-brewing.com/event/music-by-js-project-2/
LOCATION:Squatch Brewing\, 203 Townsend Drive\, Monroeville\, PA\, 15146\, United States
CATEGORIES:Entertainment
ATTACH;FMTTYPE=image/jpeg:https://squatch-brewing.com/wp-content/uploads/2024/03/JS-Project-photo2.jpg
END:VEVENT
BEGIN:VEVENT
DTSTART;TZID=America/New_York:20240818T140000
DTEND;TZID=America/New_York:20240818T170000
DTSTAMP:20260419T225853
CREATED:20240319T135359Z
LAST-MODIFIED:20250108T193816Z
UID:10000198-1723989600-1724000400@squatch-brewing.com
SUMMARY:Music By Detention
DESCRIPTION:https://detentionjaneandmandi.weebly.com/ \nhttps://www.facebook.com/detention.janeandmandi
URL:https://squatch-brewing.com/event/music-by-detention/2024-08-18/
LOCATION:Squatch Brewing\, 203 Townsend Drive\, Monroeville\, PA\, 15146\, United States
CATEGORIES:Entertainment
ATTACH;FMTTYPE=image/jpeg:https://squatch-brewing.com/wp-content/uploads/2024/03/Logo-3-e1730920092377.jpg
END:VEVENT
BEGIN:VEVENT
DTSTART;TZID=America/New_York:20240818T140000
DTEND;TZID=America/New_York:20240818T170000
DTSTAMP:20260419T225853
CREATED:20250212T162415Z
LAST-MODIFIED:20250212T162415Z
UID:10000792-1723989600-1724000400@squatch-brewing.com
SUMMARY:Music By Detention
DESCRIPTION:https://detentionjaneandmandi.weebly.com/ \nhttps://www.facebook.com/detention.janeandmandi
URL:https://squatch-brewing.com/event/music-by-detention-3/2024-08-18/
LOCATION:Squatch Brewing\, 203 Townsend Drive\, Monroeville\, PA\, 15146\, United States
CATEGORIES:Entertainment
ATTACH;FMTTYPE=image/jpeg:https://squatch-brewing.com/wp-content/uploads/2024/03/Logo-3-e1730920092377.jpg
END:VEVENT
BEGIN:VEVENT
DTSTART;TZID=America/New_York:20240822T170000
DTEND;TZID=America/New_York:20240822T200000
DTSTAMP:20260419T225853
CREATED:20240530T184853Z
LAST-MODIFIED:20240809T150255Z
UID:10000326-1724346000-1724356800@squatch-brewing.com
SUMMARY:Bobby VFive
DESCRIPTION:http://www.bobby5.com/
URL:https://squatch-brewing.com/event/bobby-5-vs/2024-08-22/
LOCATION:Squatch Brewing\, 203 Townsend Drive\, Monroeville\, PA\, 15146\, United States
CATEGORIES:Entertainment
ATTACH;FMTTYPE=image/png:https://squatch-brewing.com/wp-content/uploads/2024/05/Screenshot-2024-05-30-143429.png
END:VEVENT
BEGIN:VEVENT
DTSTART;TZID=America/New_York:20240824T170000
DTEND;TZID=America/New_York:20240824T200000
DTSTAMP:20260419T225853
CREATED:20240515T171535Z
LAST-MODIFIED:20250108T192614Z
UID:10000194-1724518800-1724529600@squatch-brewing.com
SUMMARY:Two Man Martian
DESCRIPTION:https://www.facebook.com/people/Twomanmartian/100063439552748/
URL:https://squatch-brewing.com/event/two-man-martian-2/2024-08-24/
LOCATION:Squatch Brewing\, 203 Townsend Drive\, Monroeville\, PA\, 15146\, United States
CATEGORIES:Entertainment
ATTACH;FMTTYPE=image/png:https://squatch-brewing.com/wp-content/uploads/2024/04/tmm-1.png
END:VEVENT
BEGIN:VEVENT
DTSTART;TZID=America/New_York:20240824T170000
DTEND;TZID=America/New_York:20240824T200000
DTSTAMP:20260419T225853
CREATED:20241011T171248Z
LAST-MODIFIED:20250108T191634Z
UID:10000478-1724518800-1724529600@squatch-brewing.com
SUMMARY:Two Man Martian
DESCRIPTION:https://www.facebook.com/people/Twomanmartian/100063439552748/
URL:https://squatch-brewing.com/event/two-man-martian-3/2024-08-24/
LOCATION:Squatch Brewing\, 203 Townsend Drive\, Monroeville\, PA\, 15146\, United States
CATEGORIES:Entertainment
ATTACH;FMTTYPE=image/png:https://squatch-brewing.com/wp-content/uploads/2024/04/tmm-1.png
END:VEVENT
BEGIN:VEVENT
DTSTART;TZID=America/New_York:20240825T140000
DTEND;TZID=America/New_York:20240825T170000
DTSTAMP:20260419T225853
CREATED:20240516T171618Z
LAST-MODIFIED:20240528T130500Z
UID:10000212-1724594400-1724605200@squatch-brewing.com
SUMMARY:Jellybean Boom
DESCRIPTION:https://www.facebook.com/jellybeanboom15610
URL:https://squatch-brewing.com/event/jellybean-boom/2024-08-25/
LOCATION:Squatch Brewing\, 203 Townsend Drive\, Monroeville\, PA\, 15146\, United States
CATEGORIES:Entertainment
ATTACH;FMTTYPE=image/jpeg:https://squatch-brewing.com/wp-content/uploads/2024/05/photo-1.jpg
END:VEVENT
BEGIN:VEVENT
DTSTART;TZID=America/New_York:20240825T183000
DTEND;TZID=America/New_York:20240825T203000
DTSTAMP:20260419T225853
CREATED:20240515T160025Z
LAST-MODIFIED:20240524T171038Z
UID:10000164-1724610600-1724617800@squatch-brewing.com
SUMMARY:Monroeville Concert Series
DESCRIPTION:More info to come
URL:https://squatch-brewing.com/event/monroeville-concert-series-2/
LOCATION:Tall Trees Amphitheater\, 2447 Tilbrook Rd.\, Monroeville\, PA\, 15146
CATEGORIES:Entertainment
ATTACH;FMTTYPE=image/jpeg:https://squatch-brewing.com/wp-content/uploads/2024/05/442479510_863390925810678_5498901661052043111_n.jpg
END:VEVENT
BEGIN:VEVENT
DTSTART;TZID=America/New_York:20240829T180000
DTEND;TZID=America/New_York:20240829T210000
DTSTAMP:20260419T225853
CREATED:20240611T185401Z
LAST-MODIFIED:20240814T173112Z
UID:10000268-1724954400-1724965200@squatch-brewing.com
SUMMARY:Puzzles & Pints
DESCRIPTION:Casually assemble your jigsaw puzzle or compete as a team to be the fastest to put it together! All while sampling and enjoying craft beer from Squatch Brewing.\n\n$10 per person.\nPizza will be provided.\n\nCheck-in and food service begins at 6:00 pm.Race starts at 6:30pm.\n– – –\n\nCompetition Details*Teams of up to 4 people can register to compete for speed assembling a jigsaw puzzle. Limited to 8 teams.* Events typically feature only one to three puzzle designs spread evenly across all teams.* Puzzles will be randomly drawn upon the start of the competition.* Prizes are awarded to the fastest finishing teams per design. Prizes include 60 Minute Missions gift cards\, beers and merchandise.– – –No outside drink is permitted.\nPlayers must be at least 21 years old\n– – –\nTo Register:\nhttps://60mm.us/082924\n 
URL:https://squatch-brewing.com/event/puzzles-pints/
LOCATION:Squatch Brewing\, 203 Townsend Drive\, Monroeville\, PA\, 15146\, United States
CATEGORIES:Entertainment
ATTACH;FMTTYPE=image/png:https://squatch-brewing.com/wp-content/uploads/2024/06/Puzzle-Pint-1.png
END:VEVENT
BEGIN:VEVENT
DTSTART;TZID=America/New_York:20240830T170000
DTEND;TZID=America/New_York:20240830T200000
DTSTAMP:20260419T225853
CREATED:20240529T175523Z
LAST-MODIFIED:20250108T194028Z
UID:10000217-1725037200-1725048000@squatch-brewing.com
SUMMARY:Dennis Crawford Acoustic
DESCRIPTION:https://www.facebook.com/profile.php?id=100089759963609
URL:https://squatch-brewing.com/event/dennis-crawford-acoustic/2024-08-30/
LOCATION:Squatch Brewing\, 203 Townsend Drive\, Monroeville\, PA\, 15146\, United States
CATEGORIES:Entertainment
ATTACH;FMTTYPE=image/jpeg:https://squatch-brewing.com/wp-content/uploads/2024/05/432013458_313119748454204_7396773995717001633_n-e1730916703391.jpg
END:VEVENT
BEGIN:VEVENT
DTSTART;TZID=America/New_York:20240831T170000
DTEND;TZID=America/New_York:20240831T200000
DTSTAMP:20260419T225853
CREATED:20240514T152404Z
LAST-MODIFIED:20240710T163928Z
UID:10000210-1725123600-1725134400@squatch-brewing.com
SUMMARY:Bare Bonez Acoustic
DESCRIPTION:https://www.facebook.com/barebonezacoustic/
URL:https://squatch-brewing.com/event/bare-bonez-acoustic/
LOCATION:Squatch Brewing\, 203 Townsend Drive\, Monroeville\, PA\, 15146\, United States
CATEGORIES:Entertainment
ATTACH;FMTTYPE=image/jpeg:https://squatch-brewing.com/wp-content/uploads/2024/05/logo-2.jpg
END:VEVENT
BEGIN:VEVENT
DTSTART;TZID=America/New_York:20240901T160000
DTEND;TZID=America/New_York:20240901T190000
DTSTAMP:20260419T225853
CREATED:20240517T132958Z
LAST-MODIFIED:20241204T161406Z
UID:10000335-1725206400-1725217200@squatch-brewing.com
SUMMARY:Brad Wagner
DESCRIPTION:
URL:https://squatch-brewing.com/event/brad-wagner/2024-09-01/
LOCATION:Squatch Brewing\, 203 Townsend Drive\, Monroeville\, PA\, 15146\, United States
CATEGORIES:Entertainment
ATTACH;FMTTYPE=image/webp:https://squatch-brewing.com/wp-content/uploads/2024/05/photo-2-e1733329188976.webp
END:VEVENT
BEGIN:VEVENT
DTSTART;TZID=America/New_York:20240901T160000
DTEND;TZID=America/New_York:20240901T190000
DTSTAMP:20260419T225853
CREATED:20241204T162025Z
LAST-MODIFIED:20241204T162145Z
UID:10000629-1725206400-1725217200@squatch-brewing.com
SUMMARY:Brad Wagner
DESCRIPTION:
URL:https://squatch-brewing.com/event/brad-wagner-2/2024-09-01/
LOCATION:Squatch Brewing\, 203 Townsend Drive\, Monroeville\, PA\, 15146\, United States
CATEGORIES:Entertainment
ATTACH;FMTTYPE=image/webp:https://squatch-brewing.com/wp-content/uploads/2024/05/photo-2-e1733329188976.webp
END:VEVENT
BEGIN:VEVENT
DTSTART;TZID=America/New_York:20240901T160000
DTEND;TZID=America/New_York:20240901T190000
DTSTAMP:20260419T225853
CREATED:20241204T162323Z
LAST-MODIFIED:20241204T162402Z
UID:10000633-1725206400-1725217200@squatch-brewing.com
SUMMARY:Brad Wagner
DESCRIPTION:
URL:https://squatch-brewing.com/event/brad-wagner-3/2024-09-01/
LOCATION:Squatch Brewing\, 203 Townsend Drive\, Monroeville\, PA\, 15146\, United States
CATEGORIES:Entertainment
END:VEVENT
BEGIN:VEVENT
DTSTART;TZID=America/New_York:20240901T160000
DTEND;TZID=America/New_York:20240901T190000
DTSTAMP:20260419T225853
CREATED:20241204T162506Z
LAST-MODIFIED:20241204T163721Z
UID:10000637-1725206400-1725217200@squatch-brewing.com
SUMMARY:Brad Wagner
DESCRIPTION:
URL:https://squatch-brewing.com/event/brad-wagner-2-2/2024-09-01/
LOCATION:Squatch Brewing\, 203 Townsend Drive\, Monroeville\, PA\, 15146\, United States
CATEGORIES:Entertainment
END:VEVENT
BEGIN:VEVENT
DTSTART;TZID=America/New_York:20240901T160000
DTEND;TZID=America/New_York:20240901T190000
DTSTAMP:20260419T225853
CREATED:20241204T171549Z
LAST-MODIFIED:20241204T171549Z
UID:10000649-1725206400-1725217200@squatch-brewing.com
SUMMARY:Brad Wagner
DESCRIPTION:
URL:https://squatch-brewing.com/event/brad-wagner-11/2024-09-01/
LOCATION:Squatch Brewing\, 203 Townsend Drive\, Monroeville\, PA\, 15146\, United States
CATEGORIES:Entertainment
END:VEVENT
BEGIN:VEVENT
DTSTART;TZID=America/New_York:20240905T180000
DTEND;TZID=America/New_York:20240905T200000
DTSTAMP:20260419T225854
CREATED:20240513T171530Z
LAST-MODIFIED:20240719T113016Z
UID:10000300-1725559200-1725566400@squatch-brewing.com
SUMMARY:Trivia Night with Trivia Time
DESCRIPTION:Free to play and win prizes!
URL:https://squatch-brewing.com/event/trivia-night/2024-09-05/
LOCATION:Squatch Brewing\, 203 Townsend Drive\, Monroeville\, PA\, 15146\, United States
CATEGORIES:Entertainment
ATTACH;FMTTYPE=image/png:https://squatch-brewing.com/wp-content/uploads/2024/05/Screenshot-2024-07-19-072926.png
END:VEVENT
BEGIN:VEVENT
DTSTART;TZID=America/New_York:20240905T180000
DTEND;TZID=America/New_York:20240905T200000
DTSTAMP:20260419T225854
CREATED:20241029T144151Z
LAST-MODIFIED:20241029T144151Z
UID:10000503-1725559200-1725566400@squatch-brewing.com
SUMMARY:Trivia Night with Trivia Time
DESCRIPTION:Free to play and win prizes!
URL:https://squatch-brewing.com/event/trivia-night-with-trivia-time/2024-09-05/
LOCATION:Squatch Brewing\, 203 Townsend Drive\, Monroeville\, PA\, 15146\, United States
CATEGORIES:Entertainment
ATTACH;FMTTYPE=image/png:https://squatch-brewing.com/wp-content/uploads/2024/05/Screenshot-2024-07-19-072926.png
END:VEVENT
BEGIN:VEVENT
DTSTART;TZID=America/New_York:20240906T170000
DTEND;TZID=America/New_York:20240906T200000
DTSTAMP:20260419T225854
CREATED:20240515T171535Z
LAST-MODIFIED:20250108T192614Z
UID:10000201-1725642000-1725652800@squatch-brewing.com
SUMMARY:Two Man Martian
DESCRIPTION:https://www.facebook.com/people/Twomanmartian/100063439552748/
URL:https://squatch-brewing.com/event/two-man-martian-2/2024-09-06/
LOCATION:Squatch Brewing\, 203 Townsend Drive\, Monroeville\, PA\, 15146\, United States
CATEGORIES:Entertainment
ATTACH;FMTTYPE=image/png:https://squatch-brewing.com/wp-content/uploads/2024/04/tmm-1.png
END:VEVENT
BEGIN:VEVENT
DTSTART;TZID=America/New_York:20240906T170000
DTEND;TZID=America/New_York:20240906T200000
DTSTAMP:20260419T225854
CREATED:20241011T171248Z
LAST-MODIFIED:20250108T191634Z
UID:10000479-1725642000-1725652800@squatch-brewing.com
SUMMARY:Two Man Martian
DESCRIPTION:https://www.facebook.com/people/Twomanmartian/100063439552748/
URL:https://squatch-brewing.com/event/two-man-martian-3/2024-09-06/
LOCATION:Squatch Brewing\, 203 Townsend Drive\, Monroeville\, PA\, 15146\, United States
CATEGORIES:Entertainment
ATTACH;FMTTYPE=image/png:https://squatch-brewing.com/wp-content/uploads/2024/04/tmm-1.png
END:VEVENT
BEGIN:VEVENT
DTSTART;TZID=America/New_York:20240913T170000
DTEND;TZID=America/New_York:20240913T200000
DTSTAMP:20260419T225854
CREATED:20240529T175523Z
LAST-MODIFIED:20250108T194028Z
UID:10000218-1726246800-1726257600@squatch-brewing.com
SUMMARY:Dennis Crawford Acoustic
DESCRIPTION:https://www.facebook.com/profile.php?id=100089759963609
URL:https://squatch-brewing.com/event/dennis-crawford-acoustic/2024-09-13/
LOCATION:Squatch Brewing\, 203 Townsend Drive\, Monroeville\, PA\, 15146\, United States
CATEGORIES:Entertainment
ATTACH;FMTTYPE=image/jpeg:https://squatch-brewing.com/wp-content/uploads/2024/05/432013458_313119748454204_7396773995717001633_n-e1730916703391.jpg
END:VEVENT
BEGIN:VEVENT
DTSTART;TZID=America/New_York:20240914T170000
DTEND;TZID=America/New_York:20240914T200000
DTSTAMP:20260419T225854
CREATED:20240514T144015Z
LAST-MODIFIED:20240514T144049Z
UID:10000150-1726333200-1726344000@squatch-brewing.com
SUMMARY:Music By JS Project
DESCRIPTION:https://www.bandsintown.com/e/105522880-js-project-at-squatch-brewing
URL:https://squatch-brewing.com/event/music-by-js-project-3/
LOCATION:Squatch Brewing\, 203 Townsend Drive\, Monroeville\, PA\, 15146\, United States
CATEGORIES:Entertainment
ATTACH;FMTTYPE=image/jpeg:https://squatch-brewing.com/wp-content/uploads/2024/03/JS-Project-photo2.jpg
END:VEVENT
BEGIN:VEVENT
DTSTART;TZID=America/New_York:20240920T170000
DTEND;TZID=America/New_York:20240920T200000
DTSTAMP:20260419T225854
CREATED:20240516T171618Z
LAST-MODIFIED:20240528T130500Z
UID:10000174-1726851600-1726862400@squatch-brewing.com
SUMMARY:Jellybean Boom
DESCRIPTION:https://www.facebook.com/jellybeanboom15610
URL:https://squatch-brewing.com/event/jellybean-boom/2024-09-20/
LOCATION:Squatch Brewing\, 203 Townsend Drive\, Monroeville\, PA\, 15146\, United States
CATEGORIES:Entertainment
ATTACH;FMTTYPE=image/jpeg:https://squatch-brewing.com/wp-content/uploads/2024/05/photo-1.jpg
END:VEVENT
BEGIN:VEVENT
DTSTART;TZID=America/New_York:20240922T160000
DTEND;TZID=America/New_York:20240922T190000
DTSTAMP:20260419T225854
CREATED:20240516T162537Z
LAST-MODIFIED:20240809T132417Z
UID:10000325-1727020800-1727031600@squatch-brewing.com
SUMMARY:Greg Riordan Music
DESCRIPTION:https://www.facebook.com/jgriordan
URL:https://squatch-brewing.com/event/greg-riordan-music-2/2024-09-22/
LOCATION:Squatch Brewing\, 203 Townsend Drive\, Monroeville\, PA\, 15146\, United States
CATEGORIES:Entertainment
ATTACH;FMTTYPE=image/png:https://squatch-brewing.com/wp-content/uploads/2024/02/tr.png
END:VEVENT
BEGIN:VEVENT
DTSTART;TZID=America/New_York:20240927T170000
DTEND;TZID=America/New_York:20240927T200000
DTSTAMP:20260419T225854
CREATED:20240516T171942Z
LAST-MODIFIED:20241106T193132Z
UID:10000180-1727456400-1727467200@squatch-brewing.com
SUMMARY:Bare Bonez Acoustic
DESCRIPTION:https://www.facebook.com/barebonezacoustic/
URL:https://squatch-brewing.com/event/bare-bonez-acoustic-2/2024-09-27/
LOCATION:Squatch Brewing\, 203 Townsend Drive\, Monroeville\, PA\, 15146\, United States
CATEGORIES:Entertainment
END:VEVENT
BEGIN:VEVENT
DTSTART;TZID=America/New_York:20240927T170000
DTEND;TZID=America/New_York:20240927T200000
DTSTAMP:20260419T225854
CREATED:20241106T194255Z
LAST-MODIFIED:20241106T195912Z
UID:10000569-1727456400-1727467200@squatch-brewing.com
SUMMARY:Bare Bonez Acoustic
DESCRIPTION:https://www.facebook.com/barebonezacoustic/
URL:https://squatch-brewing.com/event/bare-bonez-acoustic-2-2/2024-09-27/
LOCATION:Squatch Brewing\, 203 Townsend Drive\, Monroeville\, PA\, 15146\, United States
CATEGORIES:Entertainment
ATTACH;FMTTYPE=image/jpeg:https://squatch-brewing.com/wp-content/uploads/2024/05/Cropped-logo-1-e1730923138758.jpg
END:VEVENT
BEGIN:VEVENT
DTSTART;TZID=America/New_York:20240927T170000
DTEND;TZID=America/New_York:20240927T200000
DTSTAMP:20260419T225854
CREATED:20241106T195715Z
LAST-MODIFIED:20241107T185628Z
UID:10000574-1727456400-1727467200@squatch-brewing.com
SUMMARY:Bare Bonez Acoustic
DESCRIPTION:https://www.facebook.com/barebonezacoustic/
URL:https://squatch-brewing.com/event/bare-bonez-acoustic-2-3/2024-09-27/
LOCATION:Squatch Brewing\, 203 Townsend Drive\, Monroeville\, PA\, 15146\, United States
CATEGORIES:Entertainment
ATTACH;FMTTYPE=image/jpeg:https://squatch-brewing.com/wp-content/uploads/2024/05/Cropped-logo-1-e1730923138758.jpg
END:VEVENT
BEGIN:VEVENT
DTSTART;TZID=America/New_York:20240928T170000
DTEND;TZID=America/New_York:20240928T200000
DTSTAMP:20260419T225854
CREATED:20240416T164841Z
LAST-MODIFIED:20250825T180442Z
UID:10000184-1727542800-1727553600@squatch-brewing.com
SUMMARY:Music by Jay Wiley
DESCRIPTION:Jay Wiley brings heartfelt lyrics and soulful melodies straight from the Steel City. With a voice that blends grit and warmth\, he delivers original songs and reimagined favorites that strike every chord. A true Pittsburgh talent you won’t want to miss live \nhttp://facebook.com/jaywiley
URL:https://squatch-brewing.com/event/music-by-jay-wiley/2024-09-28/
LOCATION:Squatch Brewing\, 203 Townsend Drive\, Monroeville\, PA\, 15146\, United States
CATEGORIES:Entertainment
ATTACH;FMTTYPE=image/jpeg:https://squatch-brewing.com/wp-content/uploads/2024/04/13412172_10154349751764887_2016367248474105281_o-1-e1730914029570.jpg
END:VEVENT
END:VCALENDAR