BEGIN:VCALENDAR
VERSION:2.0
PRODID:-//Squatch Brewing - ECPv6.15.20//NONSGML v1.0//EN
CALSCALE:GREGORIAN
METHOD:PUBLISH
X-WR-CALNAME:Squatch Brewing
X-ORIGINAL-URL:https://squatch-brewing.com
X-WR-CALDESC:Events for Squatch Brewing
REFRESH-INTERVAL;VALUE=DURATION:PT1H
X-Robots-Tag:noindex
X-PUBLISHED-TTL:PT1H
BEGIN:VTIMEZONE
TZID:America/New_York
BEGIN:DAYLIGHT
TZOFFSETFROM:-0500
TZOFFSETTO:-0400
TZNAME:EDT
DTSTART:20230312T070000
END:DAYLIGHT
BEGIN:STANDARD
TZOFFSETFROM:-0400
TZOFFSETTO:-0500
TZNAME:EST
DTSTART:20231105T060000
END:STANDARD
BEGIN:DAYLIGHT
TZOFFSETFROM:-0500
TZOFFSETTO:-0400
TZNAME:EDT
DTSTART:20240310T070000
END:DAYLIGHT
BEGIN:STANDARD
TZOFFSETFROM:-0400
TZOFFSETTO:-0500
TZNAME:EST
DTSTART:20241103T060000
END:STANDARD
BEGIN:DAYLIGHT
TZOFFSETFROM:-0500
TZOFFSETTO:-0400
TZNAME:EDT
DTSTART:20250309T070000
END:DAYLIGHT
BEGIN:STANDARD
TZOFFSETFROM:-0400
TZOFFSETTO:-0500
TZNAME:EST
DTSTART:20251102T060000
END:STANDARD
END:VTIMEZONE
BEGIN:VEVENT
DTSTART;TZID=America/New_York:20240405T160000
DTEND;TZID=America/New_York:20240405T200000
DTSTAMP:20260421T132146
CREATED:20240326T142029Z
LAST-MODIFIED:20240327T122912Z
UID:10000042-1712332800-1712347200@squatch-brewing.com
SUMMARY:L and I's Food Truck
DESCRIPTION:www.facebook.com/LandIsfoodtruck
URL:https://squatch-brewing.com/event/l-and-is/
LOCATION:Squatch Brewing\, 203 Townsend Drive\, Monroeville\, PA\, 15146\, United States
CATEGORIES:Food Truck
ATTACH;FMTTYPE=image/png:https://squatch-brewing.com/wp-content/uploads/2024/03/Picture1-removebg-preview-1.png
END:VEVENT
BEGIN:VEVENT
DTSTART;TZID=America/New_York:20240406T140000
DTEND;TZID=America/New_York:20240406T200000
DTSTAMP:20260421T132146
CREATED:20240319T150919Z
LAST-MODIFIED:20240321T115646Z
UID:10000025-1712412000-1712433600@squatch-brewing.com
SUMMARY:Pittsburgh Smokehouse
DESCRIPTION:https://www.facebook.com/pittsburgh.smokehouse
URL:https://squatch-brewing.com/event/pittsburgh-smokehouse-2/
LOCATION:Squatch Brewing\, 203 Townsend Drive\, Monroeville\, PA\, 15146\, United States
CATEGORIES:Food Truck
ATTACH;FMTTYPE=image/png:https://squatch-brewing.com/wp-content/uploads/2024/03/logo-e1730920153602.png
END:VEVENT
BEGIN:VEVENT
DTSTART;TZID=America/New_York:20240412T160000
DTEND;TZID=America/New_York:20240412T210000
DTSTAMP:20260421T132146
CREATED:20240311T131933Z
LAST-MODIFIED:20240731T152912Z
UID:10000086-1712937600-1712955600@squatch-brewing.com
SUMMARY:Hibachi Lou Food Truck
DESCRIPTION:www.facebook.com/hibachlou412/
URL:https://squatch-brewing.com/event/hibachi-lou-food-truck/2024-04-12/
LOCATION:Squatch Brewing\, 203 Townsend Drive\, Monroeville\, PA\, 15146\, United States
CATEGORIES:Food Truck
ATTACH;FMTTYPE=image/jpeg:https://squatch-brewing.com/wp-content/uploads/2024/03/logo-e1730916923839.jpg
END:VEVENT
BEGIN:VEVENT
DTSTART;TZID=America/New_York:20240412T160000
DTEND;TZID=America/New_York:20240412T210000
DTSTAMP:20260421T132146
CREATED:20241011T164748Z
LAST-MODIFIED:20250825T181553Z
UID:10000464-1712937600-1712955600@squatch-brewing.com
SUMMARY:Hibachi Lou Food Truck
DESCRIPTION:🥩🍚🍺 Meat on the grill\, rice on the side\, and beer to wash it down—Hibachi Lou is here to feast! \nwww.facebook.com/hibachlou412/
URL:https://squatch-brewing.com/event/hibachi-lou-food-truck-2/2024-04-12/
LOCATION:Squatch Brewing\, 203 Townsend Drive\, Monroeville\, PA\, 15146\, United States
CATEGORIES:Food Truck
ATTACH;FMTTYPE=image/jpeg:https://squatch-brewing.com/wp-content/uploads/2024/03/logo-e1730916923839.jpg
END:VEVENT
BEGIN:VEVENT
DTSTART;TZID=America/New_York:20240413T150000
DTEND;TZID=America/New_York:20240413T210000
DTSTAMP:20260421T132146
CREATED:20240319T115628Z
LAST-MODIFIED:20241106T183534Z
UID:10000023-1713020400-1713042000@squatch-brewing.com
SUMMARY:Franken-Fried Food Truck
DESCRIPTION:www.facebook.com/Franken-Fried
URL:https://squatch-brewing.com/event/franken-fried-food-truck/2024-04-13/
LOCATION:Squatch Brewing\, 203 Townsend Drive\, Monroeville\, PA\, 15146\, United States
CATEGORIES:Food Truck
ATTACH;FMTTYPE=image/png:https://squatch-brewing.com/wp-content/uploads/2024/03/FF-Logo-e1730918119485.png
END:VEVENT
BEGIN:VEVENT
DTSTART;TZID=America/New_York:20240414T120000
DTEND;TZID=America/New_York:20240414T170000
DTSTAMP:20260421T132146
CREATED:20240326T134201Z
LAST-MODIFIED:20240724T172556Z
UID:10000033-1713096000-1713114000@squatch-brewing.com
SUMMARY:Benvenuti's Pizza Factory
DESCRIPTION:https://www.benvenutispizzafactory.com/onlinemenu-pittsburgh/
URL:https://squatch-brewing.com/event/benvenutis-pizza-factory-2/2024-04-14/
LOCATION:Squatch Brewing\, 203 Townsend Drive\, Monroeville\, PA\, 15146\, United States
CATEGORIES:Food Truck
ATTACH;FMTTYPE=image/jpeg:https://squatch-brewing.com/wp-content/uploads/2024/03/logo-4.jpg
END:VEVENT
BEGIN:VEVENT
DTSTART;TZID=America/New_York:20240419T160000
DTEND;TZID=America/New_York:20240419T210000
DTSTAMP:20260421T132146
CREATED:20240410T174247Z
LAST-MODIFIED:20240410T174247Z
UID:10000075-1713542400-1713560400@squatch-brewing.com
SUMMARY:Notorious BLT
DESCRIPTION:https://notoriousblt.com/
URL:https://squatch-brewing.com/event/notorious-blt-2/2024-04-19/
LOCATION:Squatch Brewing\, 203 Townsend Drive\, Monroeville\, PA\, 15146\, United States
CATEGORIES:Food Truck
ATTACH;FMTTYPE=image/png:https://squatch-brewing.com/wp-content/uploads/2024/04/logo-removebg-preview.png
END:VEVENT
BEGIN:VEVENT
DTSTART;TZID=America/New_York:20240420T140000
DTEND;TZID=America/New_York:20240420T200000
DTSTAMP:20260421T132146
CREATED:20240229T195308Z
LAST-MODIFIED:20240828T173836Z
UID:10000061-1713621600-1713643200@squatch-brewing.com
SUMMARY:Ash & Kris Kitchen Mediterranean
DESCRIPTION:http://www.ashkris.com
URL:https://squatch-brewing.com/event/ash-kris-kitchen-mediterranean/2024-04-20/
LOCATION:Squatch Brewing\, 203 Townsend Drive\, Monroeville\, PA\, 15146\, United States
CATEGORIES:Food Truck
ATTACH;FMTTYPE=image/png:https://squatch-brewing.com/wp-content/uploads/2024/02/AKK_Logo.png
END:VEVENT
BEGIN:VEVENT
DTSTART;TZID=America/New_York:20240427T140000
DTEND;TZID=America/New_York:20240427T200000
DTSTAMP:20260421T132146
CREATED:20240320T180001Z
LAST-MODIFIED:20240320T180028Z
UID:10000026-1714226400-1714248000@squatch-brewing.com
SUMMARY:Super Dawgs Food Truck
DESCRIPTION:https://www.facebook.com/SuperDawgs
URL:https://squatch-brewing.com/event/super-dawg-food-truck/
LOCATION:Squatch Brewing\, 203 Townsend Drive\, Monroeville\, PA\, 15146\, United States
CATEGORIES:Food Truck
ATTACH;FMTTYPE=image/jpeg:https://squatch-brewing.com/wp-content/uploads/2024/03/Logo-2-e1710957585536.jpg
END:VEVENT
END:VCALENDAR