BEGIN:VCALENDAR
VERSION:2.0
PRODID:-//Squatch Brewing - ECPv6.15.20//NONSGML v1.0//EN
CALSCALE:GREGORIAN
METHOD:PUBLISH
X-WR-CALNAME:Squatch Brewing
X-ORIGINAL-URL:https://squatch-brewing.com
X-WR-CALDESC:Events for Squatch Brewing
REFRESH-INTERVAL;VALUE=DURATION:PT1H
X-Robots-Tag:noindex
X-PUBLISHED-TTL:PT1H
BEGIN:VTIMEZONE
TZID:America/New_York
BEGIN:DAYLIGHT
TZOFFSETFROM:-0500
TZOFFSETTO:-0400
TZNAME:EDT
DTSTART:20240310T070000
END:DAYLIGHT
BEGIN:STANDARD
TZOFFSETFROM:-0400
TZOFFSETTO:-0500
TZNAME:EST
DTSTART:20241103T060000
END:STANDARD
BEGIN:DAYLIGHT
TZOFFSETFROM:-0500
TZOFFSETTO:-0400
TZNAME:EDT
DTSTART:20250309T070000
END:DAYLIGHT
BEGIN:STANDARD
TZOFFSETFROM:-0400
TZOFFSETTO:-0500
TZNAME:EST
DTSTART:20251102T060000
END:STANDARD
BEGIN:DAYLIGHT
TZOFFSETFROM:-0500
TZOFFSETTO:-0400
TZNAME:EDT
DTSTART:20260308T070000
END:DAYLIGHT
BEGIN:STANDARD
TZOFFSETFROM:-0400
TZOFFSETTO:-0500
TZNAME:EST
DTSTART:20261101T060000
END:STANDARD
END:VTIMEZONE
BEGIN:VEVENT
DTSTART;TZID=America/New_York:20250613T170000
DTEND;TZID=America/New_York:20250613T200000
DTSTAMP:20260422T012813
CREATED:20250121T190053Z
LAST-MODIFIED:20250611T154855Z
UID:10000772-1749834000-1749844800@squatch-brewing.com
SUMMARY:Pittsburgh Smokehouse
DESCRIPTION:https://www.facebook.com/pittsburgh.smokehouse
URL:https://squatch-brewing.com/event/pittsburgh-smokehouse-7/
LOCATION:Squatch Brewing\, 203 Townsend Drive\, Monroeville\, PA\, 15146\, United States
CATEGORIES:Food Truck
END:VEVENT
BEGIN:VEVENT
DTSTART;TZID=America/New_York:20250614T150000
DTEND;TZID=America/New_York:20250614T190000
DTSTAMP:20260422T012813
CREATED:20240416T171140Z
LAST-MODIFIED:20240829T165253Z
UID:10000395-1749913200-1749927600@squatch-brewing.com
SUMMARY:Blazzin Hibachi on Wheels
DESCRIPTION:www.facebook.com/blazzinhibachionwheels
URL:https://squatch-brewing.com/event/blazzin-hibachi-on-wheels/2025-06-14/
LOCATION:Squatch Brewing\, 203 Townsend Drive\, Monroeville\, PA\, 15146\, United States
CATEGORIES:Food Truck
ATTACH;FMTTYPE=image/jpeg:https://squatch-brewing.com/wp-content/uploads/2024/04/Logo-4-e1713287578803.jpg
END:VEVENT
BEGIN:VEVENT
DTSTART;TZID=America/New_York:20250614T150000
DTEND;TZID=America/New_York:20250614T190000
DTSTAMP:20260422T012813
CREATED:20250821T174052Z
LAST-MODIFIED:20250825T183723Z
UID:10000926-1749913200-1749927600@squatch-brewing.com
SUMMARY:Blazzin Hibachi on Wheels
DESCRIPTION:🥢🍤🍺 Grill\, chill\, repeat: Blazzin Hibachi is bringing flavor and fun to your plate! \nwww.facebook.com/blazzinhibachionwheels
URL:https://squatch-brewing.com/event/blazzin-hibachi-on-wheels-3/2025-06-14/
LOCATION:Squatch Brewing\, 203 Townsend Drive\, Monroeville\, PA\, 15146\, United States
CATEGORIES:Food Truck
ATTACH;FMTTYPE=image/jpeg:https://squatch-brewing.com/wp-content/uploads/2024/04/Logo-4-e1713287578803.jpg
END:VEVENT
BEGIN:VEVENT
DTSTART;TZID=America/New_York:20250619T160000
DTEND;TZID=America/New_York:20250619T200000
DTSTAMP:20260422T012813
CREATED:20250612T124521Z
LAST-MODIFIED:20250612T124521Z
UID:10000871-1750348800-1750363200@squatch-brewing.com
SUMMARY:Mediterranean Tastes
DESCRIPTION:https://www.facebook.com/mediterraneantastesllc
URL:https://squatch-brewing.com/event/mediterranean-tastes-4/
LOCATION:Squatch Brewing\, 203 Townsend Drive\, Monroeville\, PA\, 15146\, United States
CATEGORIES:Food Truck
ATTACH;FMTTYPE=image/png:https://squatch-brewing.com/wp-content/uploads/2025/06/FB_Website-1-1.png
END:VEVENT
BEGIN:VEVENT
DTSTART;TZID=America/New_York:20250621T150000
DTEND;TZID=America/New_York:20250621T190000
DTSTAMP:20260422T012813
CREATED:20250530T181017Z
LAST-MODIFIED:20250530T181255Z
UID:10000865-1750518000-1750532400@squatch-brewing.com
SUMMARY:Affordable Elegance International Cafe
DESCRIPTION:https://www.facebook.com/AffordableEleganceLLC
URL:https://squatch-brewing.com/event/affordable-elegance-2/
LOCATION:Squatch Brewing\, 203 Townsend Drive\, Monroeville\, PA\, 15146\, United States
CATEGORIES:Food Truck
ATTACH;FMTTYPE=image/png:https://squatch-brewing.com/wp-content/uploads/2025/02/affordable-elegance-website-photo.png
END:VEVENT
BEGIN:VEVENT
DTSTART;TZID=America/New_York:20250626T160000
DTEND;TZID=America/New_York:20250626T200000
DTSTAMP:20260422T012813
CREATED:20250617T105618Z
LAST-MODIFIED:20250617T105705Z
UID:10000874-1750953600-1750968000@squatch-brewing.com
SUMMARY:Affordable Elegance International Cafe
DESCRIPTION:https://www.facebook.com/AffordableEleganceLLC
URL:https://squatch-brewing.com/event/affordable-elegance-international-cafe-6/
LOCATION:Squatch Brewing\, 203 Townsend Drive\, Monroeville\, PA\, 15146\, United States
CATEGORIES:Food Truck
ATTACH;FMTTYPE=image/png:https://squatch-brewing.com/wp-content/uploads/2025/06/affordable-elegance-website-photo.png
END:VEVENT
BEGIN:VEVENT
DTSTART;TZID=America/New_York:20250627T160000
DTEND;TZID=America/New_York:20250627T200000
DTSTAMP:20260422T012813
CREATED:20250611T142536Z
LAST-MODIFIED:20250611T142536Z
UID:10000868-1751040000-1751054400@squatch-brewing.com
SUMMARY:Blazzin Hibachi
DESCRIPTION:https://www.facebook.com/profile.php?id=61551499576176 \n 
URL:https://squatch-brewing.com/event/blazzin-hibachi/
LOCATION:Squatch Brewing\, 203 Townsend Drive\, Monroeville\, PA\, 15146\, United States
CATEGORIES:Food Truck
ATTACH;FMTTYPE=image/png:https://squatch-brewing.com/wp-content/uploads/2025/06/website_FB.png
END:VEVENT
BEGIN:VEVENT
DTSTART;TZID=America/New_York:20250628T160000
DTEND;TZID=America/New_York:20250628T200000
DTSTAMP:20260422T012813
CREATED:20250403T160834Z
LAST-MODIFIED:20250403T160834Z
UID:10000829-1751126400-1751140800@squatch-brewing.com
SUMMARY:Rollie's Fried Spring Rolls
DESCRIPTION:https://www.facebook.com/rollies.pittsburgh
URL:https://squatch-brewing.com/event/rollies-fried-spring-rolls-2/
LOCATION:Squatch Brewing\, 203 Townsend Drive\, Monroeville\, PA\, 15146\, United States
CATEGORIES:Food Truck
ATTACH;FMTTYPE=image/png:https://squatch-brewing.com/wp-content/uploads/2025/04/website-.png
END:VEVENT
BEGIN:VEVENT
DTSTART;TZID=America/New_York:20250703T160000
DTEND;TZID=America/New_York:20250703T200000
DTSTAMP:20260422T012813
CREATED:20250623T175640Z
LAST-MODIFIED:20250623T175640Z
UID:10000878-1751558400-1751572800@squatch-brewing.com
SUMMARY:Affordable Elegance International Cafe
DESCRIPTION:https://www.facebook.com/AffordableEleganceLLC
URL:https://squatch-brewing.com/event/affordable-elegance-international-cafe-7/
LOCATION:Squatch Brewing\, 203 Townsend Drive\, Monroeville\, PA\, 15146\, United States
CATEGORIES:Food Truck
END:VEVENT
BEGIN:VEVENT
DTSTART;TZID=America/New_York:20250711T040000
DTEND;TZID=America/New_York:20250711T200000
DTSTAMP:20260422T012813
CREATED:20241011T164748Z
LAST-MODIFIED:20250825T181553Z
UID:10000474-1752206400-1752264000@squatch-brewing.com
SUMMARY:Hibachi Lou Food Truck
DESCRIPTION:🥩🍚🍺 Meat on the grill\, rice on the side\, and beer to wash it down—Hibachi Lou is here to feast! \nwww.facebook.com/hibachlou412/
URL:https://squatch-brewing.com/event/hibachi-lou-food-truck-2/2025-07-11/
LOCATION:Squatch Brewing\, 203 Townsend Drive\, Monroeville\, PA\, 15146\, United States
CATEGORIES:Food Truck
ATTACH;FMTTYPE=image/jpeg:https://squatch-brewing.com/wp-content/uploads/2024/03/logo-e1730916923839.jpg
END:VEVENT
BEGIN:VEVENT
DTSTART;TZID=America/New_York:20250712T150000
DTEND;TZID=America/New_York:20250712T190000
DTSTAMP:20260422T012813
CREATED:20240416T171140Z
LAST-MODIFIED:20240829T165253Z
UID:10000396-1752332400-1752346800@squatch-brewing.com
SUMMARY:Blazzin Hibachi on Wheels
DESCRIPTION:www.facebook.com/blazzinhibachionwheels
URL:https://squatch-brewing.com/event/blazzin-hibachi-on-wheels/2025-07-12/
LOCATION:Squatch Brewing\, 203 Townsend Drive\, Monroeville\, PA\, 15146\, United States
CATEGORIES:Food Truck
ATTACH;FMTTYPE=image/jpeg:https://squatch-brewing.com/wp-content/uploads/2024/04/Logo-4-e1713287578803.jpg
END:VEVENT
BEGIN:VEVENT
DTSTART;TZID=America/New_York:20250712T150000
DTEND;TZID=America/New_York:20250712T190000
DTSTAMP:20260422T012813
CREATED:20250821T174052Z
LAST-MODIFIED:20250825T183723Z
UID:10000927-1752332400-1752346800@squatch-brewing.com
SUMMARY:Blazzin Hibachi on Wheels
DESCRIPTION:🥢🍤🍺 Grill\, chill\, repeat: Blazzin Hibachi is bringing flavor and fun to your plate! \nwww.facebook.com/blazzinhibachionwheels
URL:https://squatch-brewing.com/event/blazzin-hibachi-on-wheels-3/2025-07-12/
LOCATION:Squatch Brewing\, 203 Townsend Drive\, Monroeville\, PA\, 15146\, United States
CATEGORIES:Food Truck
ATTACH;FMTTYPE=image/jpeg:https://squatch-brewing.com/wp-content/uploads/2024/04/Logo-4-e1713287578803.jpg
END:VEVENT
BEGIN:VEVENT
DTSTART;TZID=America/New_York:20250713T140000
DTEND;TZID=America/New_York:20250713T180000
DTSTAMP:20260422T012813
CREATED:20250627T181510Z
LAST-MODIFIED:20250708T180051Z
UID:10000881-1752415200-1752429600@squatch-brewing.com
SUMMARY:Savor my Flavor
DESCRIPTION:Serving up a variety of mouthwatering ethnic comfort foods that rotate daily—think Mexican\, Greek\, Polish\, Pittsburghese\, Cajun\, Italian\, and more! Every dish is packed with bold flavors and homestyle goodness that’s sure to please. Come hungry\, leave savoring our flavor!
URL:https://squatch-brewing.com/event/savor-my-flavor-2/
LOCATION:Squatch Brewing\, 203 Townsend Drive\, Monroeville\, PA\, 15146\, United States
CATEGORIES:Food Truck
ATTACH;FMTTYPE=image/png:https://squatch-brewing.com/wp-content/uploads/2025/06/FB-website-2.png
END:VEVENT
BEGIN:VEVENT
DTSTART;TZID=America/New_York:20250717T170000
DTEND;TZID=America/New_York:20250717T200000
DTSTAMP:20260422T012813
CREATED:20250711T134754Z
LAST-MODIFIED:20250711T134754Z
UID:10000895-1752771600-1752782400@squatch-brewing.com
SUMMARY:El Rincon
DESCRIPTION:https://www.facebook.com/search/top?q=el%20rincon%20oaxaque%C3%B1o
URL:https://squatch-brewing.com/event/el-rincon/
LOCATION:Squatch Brewing\, 203 Townsend Drive\, Monroeville\, PA\, 15146\, United States
CATEGORIES:Food Truck
ATTACH;FMTTYPE=image/png:https://squatch-brewing.com/wp-content/uploads/2025/07/FB-website-6.png
END:VEVENT
BEGIN:VEVENT
DTSTART;TZID=America/New_York:20250718T170000
DTEND;TZID=America/New_York:20250718T200000
DTSTAMP:20260422T012813
CREATED:20240229T185930Z
LAST-MODIFIED:20250611T161045Z
UID:10000869-1752858000-1752868800@squatch-brewing.com
SUMMARY:Pittsburgh Smokehouse
DESCRIPTION:https://www.facebook.com/pittsburgh.smokehouse/
URL:https://squatch-brewing.com/event/pittsburgh-smokehouse/2025-07-18/
LOCATION:Squatch Brewing\, 203 Townsend Drive\, Monroeville\, PA\, 15146\, United States
CATEGORIES:Food Truck
ATTACH;FMTTYPE=image/png:https://squatch-brewing.com/wp-content/uploads/2024/03/logo-e1730920153602.png
END:VEVENT
BEGIN:VEVENT
DTSTART;TZID=America/New_York:20250719T160000
DTEND;TZID=America/New_York:20250719T200000
DTSTAMP:20260422T012813
CREATED:20241129T185520Z
LAST-MODIFIED:20250825T175918Z
UID:10000624-1752940800-1752955200@squatch-brewing.com
SUMMARY:WPF Wings Pizza Fries
DESCRIPTION:WPF is serving the ultimate trio—crispy wings\, cheesy pizza\, and golden fries! Whether you’re craving saucy\, savory\, or salty\, they’ve got the flavors that hit every craving. Comfort food classics\, done right and served hot! \nhttps://www.wingspizzafries.com/
URL:https://squatch-brewing.com/event/wpf-wings-pizza-fries/2025-07-19/
LOCATION:Squatch Brewing\, 203 Townsend Drive\, Monroeville\, PA\, 15146\, United States
CATEGORIES:Food Truck
ATTACH;FMTTYPE=image/jpeg:https://squatch-brewing.com/wp-content/uploads/2024/11/trailer.jpg
END:VEVENT
BEGIN:VEVENT
DTSTART;TZID=America/New_York:20250724T160000
DTEND;TZID=America/New_York:20250724T200000
DTSTAMP:20260422T012813
CREATED:20250709T185310Z
LAST-MODIFIED:20250709T185310Z
UID:10000893-1753372800-1753387200@squatch-brewing.com
SUMMARY:Vale Comer Dominican Food
DESCRIPTION:https://www.facebook.com/profile.php?id=61569474764042
URL:https://squatch-brewing.com/event/vale-comer-dominican-food/
LOCATION:Squatch Brewing\, 203 Townsend Drive\, Monroeville\, PA\, 15146\, United States
CATEGORIES:Food Truck
END:VEVENT
BEGIN:VEVENT
DTSTART;TZID=America/New_York:20250726T150000
DTEND;TZID=America/New_York:20250726T190000
DTSTAMP:20260422T012813
CREATED:20250708T173528Z
LAST-MODIFIED:20250708T173528Z
UID:10000892-1753542000-1753556400@squatch-brewing.com
SUMMARY:Savor my Flavor
DESCRIPTION:Serving up a variety of mouthwatering ethnic comfort foods that rotate daily—think Mexican\, Greek\, Polish\, Pittsburghese\, Cajun\, Italian\, and more! Every dish is packed with bold flavors and homestyle goodness that’s sure to please. Come hungry\, leave savoring our flavor!
URL:https://squatch-brewing.com/event/savor-my-flavor-7/
LOCATION:Squatch Brewing\, 203 Townsend Drive\, Monroeville\, PA\, 15146\, United States
CATEGORIES:Food Truck
ATTACH;FMTTYPE=image/png:https://squatch-brewing.com/wp-content/uploads/2025/06/FB-website-2.png
END:VEVENT
BEGIN:VEVENT
DTSTART;TZID=America/New_York:20250727T140000
DTEND;TZID=America/New_York:20250727T180000
DTSTAMP:20260422T012813
CREATED:20250623T171618Z
LAST-MODIFIED:20250711T125223Z
UID:10000876-1753624800-1753639200@squatch-brewing.com
SUMMARY:BBQ Brews & Tunes
DESCRIPTION:Sunday Funday at Squatch – July 26th | 2–6PMPittsburgh Smokehouse will be firing up the grill with juicy burgers\, sizzling dogs\, and all your favorite food truck eats! 🍔🌭Enjoy live music by Evelyn Campbell from 3–6PM 🎶Your favorite brews will be flowing all day long 🍻 \nFamily- and pet-friendly!Bring the kids\, bring the pups\, and kick back for an afternoon of great food\, great music\, and summer vibes at Squatch. 🐾👨‍👩‍👧‍👦
URL:https://squatch-brewing.com/event/pittsburgh-smokehouse-14/
LOCATION:Squatch Brewing\, 203 Townsend Drive\, Monroeville\, PA\, 15146\, United States
CATEGORIES:Entertainment,Food Truck
ATTACH;FMTTYPE=image/png:https://squatch-brewing.com/wp-content/uploads/2025/06/250726-BBQ-BREWS-TUNES-FB-event-_website.png
END:VEVENT
BEGIN:VEVENT
DTSTART;TZID=America/New_York:20250731T160000
DTEND;TZID=America/New_York:20250731T200000
DTSTAMP:20260422T012813
CREATED:20250623T174105Z
LAST-MODIFIED:20250623T174105Z
UID:10000877-1753977600-1753992000@squatch-brewing.com
SUMMARY:Rollies Fried Spring Rolls
DESCRIPTION:https://www.facebook.com/rollies.pittsburgh
URL:https://squatch-brewing.com/event/rollies-fried-spring-rolls-5/
LOCATION:Squatch Brewing\, 203 Townsend Drive\, Monroeville\, PA\, 15146\, United States
CATEGORIES:Food Truck
END:VEVENT
BEGIN:VEVENT
DTSTART;TZID=America/New_York:20250801T160000
DTEND;TZID=America/New_York:20250801T200000
DTSTAMP:20260422T012813
CREATED:20241129T185520Z
LAST-MODIFIED:20250825T175918Z
UID:10000625-1754064000-1754078400@squatch-brewing.com
SUMMARY:WPF Wings Pizza Fries
DESCRIPTION:WPF is serving the ultimate trio—crispy wings\, cheesy pizza\, and golden fries! Whether you’re craving saucy\, savory\, or salty\, they’ve got the flavors that hit every craving. Comfort food classics\, done right and served hot! \nhttps://www.wingspizzafries.com/
URL:https://squatch-brewing.com/event/wpf-wings-pizza-fries/2025-08-01/
LOCATION:Squatch Brewing\, 203 Townsend Drive\, Monroeville\, PA\, 15146\, United States
CATEGORIES:Food Truck
ATTACH;FMTTYPE=image/jpeg:https://squatch-brewing.com/wp-content/uploads/2024/11/trailer.jpg
END:VEVENT
BEGIN:VEVENT
DTSTART;TZID=America/New_York:20250802T130000
DTEND;TZID=America/New_York:20250802T200000
DTSTAMP:20260422T012813
CREATED:20241011T184647Z
LAST-MODIFIED:20250617T164407Z
UID:10000490-1754139600-1754164800@squatch-brewing.com
SUMMARY:Billu's Indian Grille
DESCRIPTION:https://www.facebook.com/BillusIndianGrill
URL:https://squatch-brewing.com/event/billus-indian-grille-2/
LOCATION:Squatch Brewing\, 203 Townsend Drive\, Monroeville\, PA\, 15146\, United States
CATEGORIES:Food Truck
ATTACH;FMTTYPE=image/jpeg:https://squatch-brewing.com/wp-content/uploads/2024/10/404476502_1053600672279187_4855806363256002705_n-1.jpg
END:VEVENT
BEGIN:VEVENT
DTSTART;TZID=America/New_York:20250808T160000
DTEND;TZID=America/New_York:20250808T200000
DTSTAMP:20260422T012813
CREATED:20250729T182104Z
LAST-MODIFIED:20250729T182104Z
UID:10000898-1754668800-1754683200@squatch-brewing.com
SUMMARY:Vale Comer Dominican Food Truck
DESCRIPTION:https://www.facebook.com/profile.php?id=61569474764042
URL:https://squatch-brewing.com/event/vale-comer-dominican-food-truck/
LOCATION:Squatch Brewing\, 203 Townsend Drive\, Monroeville\, PA\, 15146\, United States
CATEGORIES:Food Truck
END:VEVENT
BEGIN:VEVENT
DTSTART;TZID=America/New_York:20250809T150000
DTEND;TZID=America/New_York:20250809T190000
DTSTAMP:20260422T012813
CREATED:20250730T121652Z
LAST-MODIFIED:20250730T121652Z
UID:10000899-1754751600-1754766000@squatch-brewing.com
SUMMARY:Affordable Elegance
DESCRIPTION:https://www.facebook.com/AffordableEleganceLLC
URL:https://squatch-brewing.com/event/affordable-elegance-3/
LOCATION:Squatch Brewing\, 203 Townsend Drive\, Monroeville\, PA\, 15146\, United States
CATEGORIES:Food Truck
ATTACH;FMTTYPE=image/png:https://squatch-brewing.com/wp-content/uploads/2025/06/affordable-elegance-website-photo.png
END:VEVENT
BEGIN:VEVENT
DTSTART;TZID=America/New_York:20250814T170000
DTEND;TZID=America/New_York:20250814T200000
DTSTAMP:20260422T012813
CREATED:20250703T170228Z
LAST-MODIFIED:20250703T170228Z
UID:10000888-1755190800-1755201600@squatch-brewing.com
SUMMARY:Pittsburgh Smokehouse
DESCRIPTION:https://www.facebook.com/pittsburgh.smokehouse
URL:https://squatch-brewing.com/event/pittsburgh-smokehouse-15/
LOCATION:Squatch Brewing\, 203 Townsend Drive\, Monroeville\, PA\, 15146\, United States
CATEGORIES:Food Truck
ATTACH;FMTTYPE=image/png:https://squatch-brewing.com/wp-content/uploads/2025/05/website-jpg.png
END:VEVENT
BEGIN:VEVENT
DTSTART;TZID=America/New_York:20250815T160000
DTEND;TZID=America/New_York:20250815T200000
DTSTAMP:20260422T012813
CREATED:20250627T170508Z
LAST-MODIFIED:20250627T170508Z
UID:10000880-1755273600-1755288000@squatch-brewing.com
SUMMARY:Savor my Flavor
DESCRIPTION:https://www.facebook.com/profile.php?id=61563591134717
URL:https://squatch-brewing.com/event/savor-my-flavor/
LOCATION:Squatch Brewing\, 203 Townsend Drive\, Monroeville\, PA\, 15146\, United States
CATEGORIES:Food Truck
ATTACH;FMTTYPE=image/png:https://squatch-brewing.com/wp-content/uploads/2025/06/FB-website-2.png
END:VEVENT
BEGIN:VEVENT
DTSTART;TZID=America/New_York:20250821T160000
DTEND;TZID=America/New_York:20250821T200000
DTSTAMP:20260422T012813
CREATED:20250710T175637Z
LAST-MODIFIED:20250807T140954Z
UID:10000894-1755792000-1755806400@squatch-brewing.com
SUMMARY:Pastrami Jack's
DESCRIPTION:At Pastrami Jack’s\, we craft our pastrami and corned beef from scratch\, smoked and roasted on the truck. Serving up authentic Reubens\, Rachels\, and other Jewish deli classics.
URL:https://squatch-brewing.com/event/pastrami-jacks/
LOCATION:Squatch Brewing\, 203 Townsend Drive\, Monroeville\, PA\, 15146\, United States
CATEGORIES:Food Truck
ATTACH;FMTTYPE=image/png:https://squatch-brewing.com/wp-content/uploads/2025/07/250807_FB-website.png
END:VEVENT
BEGIN:VEVENT
DTSTART;TZID=America/New_York:20250822T160000
DTEND;TZID=America/New_York:20250822T200000
DTSTAMP:20260422T012813
CREATED:20250821T180446Z
LAST-MODIFIED:20250821T180447Z
UID:10000553-1755878400-1755892800@squatch-brewing.com
SUMMARY:Pittsburgh Smokehouse
DESCRIPTION:🍖 “Brisket that melts in your mouth\, pulled pork piled high\, and mac & cheese so good it deserves its own fan club. Pittsburgh Smokehouse is rolling in\, and trust us — your taste buds don’t want to miss this party!” \nhttps://www.facebook.com/pittsburgh.smokehouse/
URL:https://squatch-brewing.com/event/pittsburgh-smokehouse-20/
LOCATION:Squatch Brewing\, 203 Townsend Drive\, Monroeville\, PA\, 15146\, United States
CATEGORIES:Food Truck
ATTACH;FMTTYPE=image/png:https://squatch-brewing.com/wp-content/uploads/2024/03/logo-e1730920153602.png
END:VEVENT
BEGIN:VEVENT
DTSTART;TZID=America/New_York:20250823T150000
DTEND;TZID=America/New_York:20250823T190000
DTSTAMP:20260422T012813
CREATED:20250821T173104Z
LAST-MODIFIED:20250821T173105Z
UID:10000397-1755961200-1755975600@squatch-brewing.com
SUMMARY:Blazzin Hibachi on Wheels
DESCRIPTION:🔥 “Who needs a table-side chef when the truck brings the fire? Blazzin Hibachi is rolling in with flame-grilled goodness — fresh\, fast\, and guaranteed to keep your taste buds blazzin’!” \nwww.facebook.com/blazzinhibachionwheels
URL:https://squatch-brewing.com/event/blazzin-hibachi-on-wheels-2/
LOCATION:Squatch Brewing\, 203 Townsend Drive\, Monroeville\, PA\, 15146\, United States
CATEGORIES:Food Truck
ATTACH;FMTTYPE=image/jpeg:https://squatch-brewing.com/wp-content/uploads/2024/04/Logo-4-e1713287578803.jpg
END:VEVENT
BEGIN:VEVENT
DTSTART;TZID=America/New_York:20250823T150000
DTEND;TZID=America/New_York:20250823T190000
DTSTAMP:20260422T012813
CREATED:20250821T174052Z
LAST-MODIFIED:20250825T183723Z
UID:10000928-1755961200-1755975600@squatch-brewing.com
SUMMARY:Blazzin Hibachi on Wheels
DESCRIPTION:🥢🍤🍺 Grill\, chill\, repeat: Blazzin Hibachi is bringing flavor and fun to your plate! \nwww.facebook.com/blazzinhibachionwheels
URL:https://squatch-brewing.com/event/blazzin-hibachi-on-wheels-3/2025-08-23/
LOCATION:Squatch Brewing\, 203 Townsend Drive\, Monroeville\, PA\, 15146\, United States
CATEGORIES:Food Truck
ATTACH;FMTTYPE=image/jpeg:https://squatch-brewing.com/wp-content/uploads/2024/04/Logo-4-e1713287578803.jpg
END:VEVENT
END:VCALENDAR