BEGIN:VCALENDAR
VERSION:2.0
PRODID:-//Squatch Brewing - ECPv6.15.20//NONSGML v1.0//EN
CALSCALE:GREGORIAN
METHOD:PUBLISH
X-WR-CALNAME:Squatch Brewing
X-ORIGINAL-URL:https://squatch-brewing.com
X-WR-CALDESC:Events for Squatch Brewing
REFRESH-INTERVAL;VALUE=DURATION:PT1H
X-Robots-Tag:noindex
X-PUBLISHED-TTL:PT1H
BEGIN:VTIMEZONE
TZID:America/New_York
BEGIN:DAYLIGHT
TZOFFSETFROM:-0500
TZOFFSETTO:-0400
TZNAME:EDT
DTSTART:20240310T070000
END:DAYLIGHT
BEGIN:STANDARD
TZOFFSETFROM:-0400
TZOFFSETTO:-0500
TZNAME:EST
DTSTART:20241103T060000
END:STANDARD
BEGIN:DAYLIGHT
TZOFFSETFROM:-0500
TZOFFSETTO:-0400
TZNAME:EDT
DTSTART:20250309T070000
END:DAYLIGHT
BEGIN:STANDARD
TZOFFSETFROM:-0400
TZOFFSETTO:-0500
TZNAME:EST
DTSTART:20251102T060000
END:STANDARD
BEGIN:DAYLIGHT
TZOFFSETFROM:-0500
TZOFFSETTO:-0400
TZNAME:EDT
DTSTART:20260308T070000
END:DAYLIGHT
BEGIN:STANDARD
TZOFFSETFROM:-0400
TZOFFSETTO:-0500
TZNAME:EST
DTSTART:20261101T060000
END:STANDARD
END:VTIMEZONE
BEGIN:VEVENT
DTSTART;TZID=America/New_York:20250829T160000
DTEND;TZID=America/New_York:20250829T200000
DTSTAMP:20260422T063540
CREATED:20250820T134340Z
LAST-MODIFIED:20250821T174722Z
UID:10000910-1756483200-1756497600@squatch-brewing.com
SUMMARY:Savor my Flavor
DESCRIPTION:🥪 “Craving something delicious? Savor My Flavor has you covered! From cheesy\, melty cheesesteaks to crispy fries\, golden chicken tenders\, and daily chef’s specials that change with every visit — there’s always something new to love. Fresh\, fun\, and full of flavor!” \nhttps://www.facebook.com/profile.php?id=61563591134717
URL:https://squatch-brewing.com/event/savor-my-flavor-8/
LOCATION:Squatch Brewing\, 203 Townsend Drive\, Monroeville\, PA\, 15146\, United States
CATEGORIES:Food Truck
ATTACH;FMTTYPE=image/png:https://squatch-brewing.com/wp-content/uploads/2025/06/FB-website-2.png
END:VEVENT
BEGIN:VEVENT
DTSTART;TZID=America/New_York:20250830T150000
DTEND;TZID=America/New_York:20250830T190000
DTSTAMP:20260422T063540
CREATED:20250802T164937Z
LAST-MODIFIED:20250821T175741Z
UID:10000900-1756566000-1756580400@squatch-brewing.com
SUMMARY:El Rincon Mexican Food Truck
DESCRIPTION:🌶️ Spice up your day with El Rincón Oaxaqueño! Authentic Oaxacan cuisine made fresh\, full of bold flavors\, and guaranteed to transport your taste buds south of the border. \nhttps://www.facebook.com/profile.php?id=100067595191698
URL:https://squatch-brewing.com/event/el-rincon-mexican-food-truck/
LOCATION:Squatch Brewing\, 203 Townsend Drive\, Monroeville\, PA\, 15146\, United States
CATEGORIES:Food Truck
ATTACH;FMTTYPE=image/png:https://squatch-brewing.com/wp-content/uploads/2025/07/FB-website-6.png
END:VEVENT
BEGIN:VEVENT
DTSTART;TZID=America/New_York:20250904T160000
DTEND;TZID=America/New_York:20250904T200000
DTSTAMP:20260422T063540
CREATED:20250711T142656Z
LAST-MODIFIED:20250825T175820Z
UID:10000896-1757001600-1757016000@squatch-brewing.com
SUMMARY:Pastrami Jack's
DESCRIPTION:Pastrami Jack’s is stacking it high and packing it with flavor! From juicy pastrami piled on fresh bread to mouthwatering sides that hit the spot\, this food truck is serving up deli favorites with a bold twist. Big bites\, bold flavor—Jack’s got your cravings covered! \nhttps://www.facebook.com/profile.php?id=61558883545364
URL:https://squatch-brewing.com/event/pastrami-jacks-2/
LOCATION:Squatch Brewing\, 203 Townsend Drive\, Monroeville\, PA\, 15146\, United States
CATEGORIES:Food Truck
ATTACH;FMTTYPE=image/png:https://squatch-brewing.com/wp-content/uploads/2025/07/250807_FB-website.png
END:VEVENT
BEGIN:VEVENT
DTSTART;TZID=America/New_York:20250905T160000
DTEND;TZID=America/New_York:20250905T200000
DTSTAMP:20260422T063540
CREATED:20241129T185520Z
LAST-MODIFIED:20250825T175918Z
UID:10000626-1757088000-1757102400@squatch-brewing.com
SUMMARY:WPF Wings Pizza Fries
DESCRIPTION:WPF is serving the ultimate trio—crispy wings\, cheesy pizza\, and golden fries! Whether you’re craving saucy\, savory\, or salty\, they’ve got the flavors that hit every craving. Comfort food classics\, done right and served hot! \nhttps://www.wingspizzafries.com/
URL:https://squatch-brewing.com/event/wpf-wings-pizza-fries/2025-09-05/
LOCATION:Squatch Brewing\, 203 Townsend Drive\, Monroeville\, PA\, 15146\, United States
CATEGORIES:Food Truck
ATTACH;FMTTYPE=image/jpeg:https://squatch-brewing.com/wp-content/uploads/2024/11/trailer.jpg
END:VEVENT
BEGIN:VEVENT
DTSTART;TZID=America/New_York:20250906T150000
DTEND;TZID=America/New_York:20250906T200000
DTSTAMP:20260422T063540
CREATED:20241011T161022Z
LAST-MODIFIED:20250825T180119Z
UID:10000459-1757170800-1757188800@squatch-brewing.com
SUMMARY:Billu's Indian Grill
DESCRIPTION:Serving up rich flavors\, and authentic Indian delights you’ll crave again and again! \nhttps://www.facebook.com/BillusIndianGrill/
URL:https://squatch-brewing.com/event/billus-indian-grill-2/2025-09-06/
LOCATION:Squatch Brewing\, 203 Townsend Drive\, Monroeville\, PA\, 15146\, United States
CATEGORIES:Food Truck
ATTACH;FMTTYPE=image/png:https://squatch-brewing.com/wp-content/uploads/2024/10/Untitled-design-11-2.png
END:VEVENT
BEGIN:VEVENT
DTSTART;TZID=America/New_York:20250912T160000
DTEND;TZID=America/New_York:20250912T200000
DTSTAMP:20260422T063540
CREATED:20250908T111822Z
LAST-MODIFIED:20250908T111823Z
UID:10000475-1757692800-1757707200@squatch-brewing.com
SUMMARY:Hibachi Lou Food Truck
DESCRIPTION:🥩🍚🍺 Meat on the grill\, rice on the side\, and beer to wash it down—Hibachi Lou is here to feast! \nwww.facebook.com/hibachlou412/
URL:https://squatch-brewing.com/event/hibachi-lou-food-truck-2-2/
LOCATION:Squatch Brewing\, 203 Townsend Drive\, Monroeville\, PA\, 15146\, United States
CATEGORIES:Food Truck
ATTACH;FMTTYPE=image/jpeg:https://squatch-brewing.com/wp-content/uploads/2024/03/logo-e1730916923839.jpg
END:VEVENT
BEGIN:VEVENT
DTSTART;TZID=America/New_York:20250913T150000
DTEND;TZID=America/New_York:20250913T190000
DTSTAMP:20260422T063540
CREATED:20250821T174052Z
LAST-MODIFIED:20250825T183723Z
UID:10000398-1757775600-1757790000@squatch-brewing.com
SUMMARY:Blazzin Hibachi on Wheels
DESCRIPTION:🥢🍤🍺 Grill\, chill\, repeat: Blazzin Hibachi is bringing flavor and fun to your plate! \nwww.facebook.com/blazzinhibachionwheels
URL:https://squatch-brewing.com/event/blazzin-hibachi-on-wheels-3/2025-09-13/
LOCATION:Squatch Brewing\, 203 Townsend Drive\, Monroeville\, PA\, 15146\, United States
CATEGORIES:Food Truck
ATTACH;FMTTYPE=image/jpeg:https://squatch-brewing.com/wp-content/uploads/2024/04/Logo-4-e1713287578803.jpg
END:VEVENT
BEGIN:VEVENT
DTSTART;TZID=America/New_York:20250918T160000
DTEND;TZID=America/New_York:20250918T200000
DTSTAMP:20260422T063540
CREATED:20250820T170056Z
LAST-MODIFIED:20250825T184153Z
UID:10000911-1758211200-1758225600@squatch-brewing.com
SUMMARY:Affordable Elegance
DESCRIPTION:🎉🥪 Affordable Elegance brings big flavor—Shrimp Po’ Boy\, Smash Burger\, Smoky Brisket Sandwich\, and more! \nhttps://www.facebook.com/AffordableEleganceLLC
URL:https://squatch-brewing.com/event/affordable-elegance-4/
LOCATION:Squatch Brewing\, 203 Townsend Drive\, Monroeville\, PA\, 15146\, United States
CATEGORIES:Food Truck
ATTACH;FMTTYPE=image/png:https://squatch-brewing.com/wp-content/uploads/2025/06/affordable-elegance-website-photo.png
END:VEVENT
BEGIN:VEVENT
DTSTART;TZID=America/New_York:20250919T160000
DTEND;TZID=America/New_York:20250919T200000
DTSTAMP:20260422T063540
CREATED:20250703T144344Z
LAST-MODIFIED:20250821T174747Z
UID:10000884-1758297600-1758312000@squatch-brewing.com
SUMMARY:Savor my Flavor
DESCRIPTION:🥪 “Craving something delicious? Savor My Flavor has you covered! From cheesy\, melty cheesesteaks to crispy fries\, golden chicken tenders\, and daily chef’s specials that change with every visit — there’s always something new to love. Fresh\, fun\, and full of flavor!” \nhttps://www.facebook.com/profile.php?id=61563591134717
URL:https://squatch-brewing.com/event/savor-my-flavor-3/
LOCATION:Squatch Brewing\, 203 Townsend Drive\, Monroeville\, PA\, 15146\, United States
CATEGORIES:Food Truck
ATTACH;FMTTYPE=image/png:https://squatch-brewing.com/wp-content/uploads/2025/06/FB-website-2.png
END:VEVENT
BEGIN:VEVENT
DTSTART;TZID=America/New_York:20250926T160000
DTEND;TZID=America/New_York:20250926T200000
DTSTAMP:20260422T063540
CREATED:20250813T170423Z
LAST-MODIFIED:20250916T160908Z
UID:10000908-1758902400-1758916800@squatch-brewing.com
SUMMARY:Kaveman's Pork-N-Stuff
DESCRIPTION:Kaveman’s Pork ‘N Stuff is rollin in! Smoked\, sauced\, and served savage. 🐖🍖Follow the scent. Eat like a Kaveman. \nhttps://www.facebook.com/profile.php?id=61575187480534
URL:https://squatch-brewing.com/event/kavemans-pork-n-stuff/
LOCATION:Squatch Brewing\, 203 Townsend Drive\, Monroeville\, PA\, 15146\, United States
CATEGORIES:Food Truck
ATTACH;FMTTYPE=image/png:https://squatch-brewing.com/wp-content/uploads/2025/08/website_FB.png
END:VEVENT
BEGIN:VEVENT
DTSTART;TZID=America/New_York:20250927T130000
DTEND;TZID=America/New_York:20250927T200000
DTSTAMP:20260422T063540
CREATED:20250804T131834Z
LAST-MODIFIED:20250821T175819Z
UID:10000901-1758978000-1759003200@squatch-brewing.com
SUMMARY:El Rincon Mexican Food Truck
DESCRIPTION:🌶️ Spice up your day with El Rincón Oaxaqueño! Authentic Oaxacan cuisine made fresh\, full of bold flavors\, and guaranteed to transport your taste buds south of the border. \nhttps://www.facebook.com/profile.php?id=100067595191698
URL:https://squatch-brewing.com/event/el-rincon-mexican-food-truck-2/
LOCATION:Squatch Brewing\, 203 Townsend Drive\, Monroeville\, PA\, 15146\, United States
CATEGORIES:Food Truck
ATTACH;FMTTYPE=image/png:https://squatch-brewing.com/wp-content/uploads/2025/07/FB-website-6.png
END:VEVENT
BEGIN:VEVENT
DTSTART;TZID=America/New_York:20250928T103000
DTEND;TZID=America/New_York:20250928T143000
DTSTAMP:20260422T063540
CREATED:20250916T161253Z
LAST-MODIFIED:20250916T161253Z
UID:10000942-1759055400-1759069800@squatch-brewing.com
SUMMARY:Kaveman's Pork-N-Stuff
DESCRIPTION:🏈 RISE ‘N SWINE\, STEELERS FANS! 🐖☕\nSteelers are playing early in Ireland — and Kaveman’s Pork ‘N Stuff is pulling up to Squatch to serve it caveman-style! \nSteelers. Smoke. Squatch.BE THERE. BE HUNGRY.
URL:https://squatch-brewing.com/event/kavemans-pork-n-stuff-2/
LOCATION:Squatch Brewing\, 203 Townsend Drive\, Monroeville\, PA\, 15146\, United States
CATEGORIES:Food Truck
ATTACH;FMTTYPE=image/png:https://squatch-brewing.com/wp-content/uploads/2025/08/website_FB.png
END:VEVENT
BEGIN:VEVENT
DTSTART;TZID=America/New_York:20251002T160000
DTEND;TZID=America/New_York:20251002T200000
DTSTAMP:20260422T063540
CREATED:20250703T144619Z
LAST-MODIFIED:20251002T155446Z
UID:10000886-1759420800-1759435200@squatch-brewing.com
SUMMARY:Savor my Flavor
DESCRIPTION:Get ready to treat your taste buds! Savor my Flavor rotates a bold lineup of mouthwatering comfort foods from around the globe — Mexican\, Greek\, Polish\, Pittsburghese\, Cajun\, Italian & more. Every visit brings a new flavor adventure that’s guaranteed to hit the spot and keep you coming back for more! \nhttps://www.facebook.com/profile.php?id=61563591134717
URL:https://squatch-brewing.com/event/savor-my-flavor-5/
LOCATION:Squatch Brewing\, 203 Townsend Drive\, Monroeville\, PA\, 15146\, United States
CATEGORIES:Food Truck
ATTACH;FMTTYPE=image/png:https://squatch-brewing.com/wp-content/uploads/2025/06/FB-website-2.png
END:VEVENT
BEGIN:VEVENT
DTSTART;TZID=America/New_York:20251003T170000
DTEND;TZID=America/New_York:20251003T200000
DTSTAMP:20260422T063540
CREATED:20250923T160544Z
LAST-MODIFIED:20250923T160544Z
UID:10000946-1759510800-1759521600@squatch-brewing.com
SUMMARY:Pittsburgh Smokehouse
DESCRIPTION:🚚 Pittsburgh Smokehouse is rollin’ in the Mighty Meat Wagon and servin’ up all your smoky favorites! \nhttps://www.facebook.com/pittsburgh.smokehouse
URL:https://squatch-brewing.com/event/pittsburgh-smokehouse-21/
LOCATION:Squatch Brewing\, 203 Townsend Drive\, Monroeville\, PA\, 15146\, United States
CATEGORIES:Food Truck
ATTACH;FMTTYPE=image/png:https://squatch-brewing.com/wp-content/uploads/2025/06/website-jpg.png
END:VEVENT
BEGIN:VEVENT
DTSTART;TZID=America/New_York:20251004T150000
DTEND;TZID=America/New_York:20251004T200000
DTSTAMP:20260422T063540
CREATED:20241011T161022Z
LAST-MODIFIED:20250825T180119Z
UID:10000460-1759590000-1759608000@squatch-brewing.com
SUMMARY:Billu's Indian Grill
DESCRIPTION:Serving up rich flavors\, and authentic Indian delights you’ll crave again and again! \nhttps://www.facebook.com/BillusIndianGrill/
URL:https://squatch-brewing.com/event/billus-indian-grill-2/2025-10-04/
LOCATION:Squatch Brewing\, 203 Townsend Drive\, Monroeville\, PA\, 15146\, United States
CATEGORIES:Food Truck
ATTACH;FMTTYPE=image/png:https://squatch-brewing.com/wp-content/uploads/2024/10/Untitled-design-11-2.png
END:VEVENT
BEGIN:VEVENT
DTSTART;TZID=America/New_York:20251011T150000
DTEND;TZID=America/New_York:20251011T190000
DTSTAMP:20260422T063540
CREATED:20250821T174131Z
LAST-MODIFIED:20250821T174134Z
UID:10000399-1760194800-1760209200@squatch-brewing.com
SUMMARY:Blazzin Hibachi on Wheels
DESCRIPTION: “Who needs a table-side chef when the truck brings the fire? Blazzin Hibachi is rolling in with flame-grilled goodness — fresh\, fast\, and guaranteed to keep your taste buds blazzin’!” \nwww.facebook.com/blazzinhibachionwheels
URL:https://squatch-brewing.com/event/blazzin-hibachi-on-wheels-4/
LOCATION:Squatch Brewing\, 203 Townsend Drive\, Monroeville\, PA\, 15146\, United States
CATEGORIES:Food Truck
ATTACH;FMTTYPE=image/jpeg:https://squatch-brewing.com/wp-content/uploads/2024/04/Logo-4-e1713287578803.jpg
END:VEVENT
BEGIN:VEVENT
DTSTART;TZID=America/New_York:20251012T130000
DTEND;TZID=America/New_York:20251012T170000
DTSTAMP:20260422T063540
CREATED:20250804T132420Z
LAST-MODIFIED:20251008T141009Z
UID:10000904-1760274000-1760288400@squatch-brewing.com
SUMMARY:Pittsburgh Smokehouse
DESCRIPTION:Steelers. Browns. 1pm kickoff. Pittsburgh Smokehouse is smokin’ up the Q and wings for yinz — game day doesn’t get better than this! 🔥 \nhttps://www.facebook.com/pittsburgh.smokehouse
URL:https://squatch-brewing.com/event/pittsburgh-smokehouse-16/
LOCATION:Squatch Brewing\, 203 Townsend Drive\, Monroeville\, PA\, 15146\, United States
CATEGORIES:Food Truck
ATTACH;FMTTYPE=image/png:https://squatch-brewing.com/wp-content/uploads/2025/06/website-jpg.png
END:VEVENT
BEGIN:VEVENT
DTSTART;TZID=America/New_York:20251016T160000
DTEND;TZID=America/New_York:20251016T200000
DTSTAMP:20260422T063540
CREATED:20250826T114715Z
LAST-MODIFIED:20250826T114715Z
UID:10000931-1760630400-1760644800@squatch-brewing.com
SUMMARY:Pastrami Jack's
DESCRIPTION:Pastrami Jack’s is stacking it high and packing it with flavor! From juicy pastrami piled on fresh bread to mouthwatering sides that hit the spot\, this food truck is serving up deli favorites with a bold twist. Big bites\, bold flavor—Jack’s got your cravings covered! \nhttps://www.facebook.com/profile.php?id=61558883545364
URL:https://squatch-brewing.com/event/pastrami-jacks-3/
LOCATION:Squatch Brewing\, 203 Townsend Drive\, Monroeville\, PA\, 15146\, United States
CATEGORIES:Food Truck
ATTACH;FMTTYPE=image/png:https://squatch-brewing.com/wp-content/uploads/2025/07/250807_FB-website.png
END:VEVENT
BEGIN:VEVENT
DTSTART;TZID=America/New_York:20251017T170000
DTEND;TZID=America/New_York:20251017T200000
DTSTAMP:20260422T063540
CREATED:20251008T140911Z
LAST-MODIFIED:20251008T140923Z
UID:10000555-1760720400-1760731200@squatch-brewing.com
SUMMARY:Pittsburgh Smokehouse
DESCRIPTION:🍖 “Brisket that melts in your mouth\, pulled pork piled high\, and mac & cheese so good it deserves its own fan club. Pittsburgh Smokehouse is rolling in\, and trust us — your taste buds don’t want to miss this party!” \nhttps://www.facebook.com/pittsburgh.smokehouse
URL:https://squatch-brewing.com/event/pittsburgh-smokehouse-23/
LOCATION:Squatch Brewing\, 203 Townsend Drive\, Monroeville\, PA\, 15146\, United States
CATEGORIES:Food Truck
ATTACH;FMTTYPE=image/png:https://squatch-brewing.com/wp-content/uploads/2024/03/logo-e1730920153602.png
END:VEVENT
BEGIN:VEVENT
DTSTART;TZID=America/New_York:20251018T150000
DTEND;TZID=America/New_York:20251018T190000
DTSTAMP:20260422T063540
CREATED:20251013T153435Z
LAST-MODIFIED:20251013T153435Z
UID:10000986-1760799600-1760814000@squatch-brewing.com
SUMMARY:Savor my Flavor
DESCRIPTION:🥪 “Craving something delicious? Savor My Flavor has you covered! From cheesy\, melty cheesesteaks to crispy fries\, golden chicken tenders\, and daily chef’s specials that change with every visit — there’s always something new to love. Fresh\, fun\, and full of flavor!” \nhttps://www.facebook.com/profile.php?id=61563591134717
URL:https://squatch-brewing.com/event/savor-my-flavor-9/
LOCATION:Squatch Brewing\, 203 Townsend Drive\, Monroeville\, PA\, 15146\, United States
CATEGORIES:Food Truck
ATTACH;FMTTYPE=image/png:https://squatch-brewing.com/wp-content/uploads/2025/06/FB-website-2.png
END:VEVENT
BEGIN:VEVENT
DTSTART;TZID=America/New_York:20251024T160000
DTEND;TZID=America/New_York:20251024T200000
DTSTAMP:20260422T063540
CREATED:20241129T185520Z
LAST-MODIFIED:20250825T175918Z
UID:10000627-1761321600-1761336000@squatch-brewing.com
SUMMARY:WPF Wings Pizza Fries
DESCRIPTION:WPF is serving the ultimate trio—crispy wings\, cheesy pizza\, and golden fries! Whether you’re craving saucy\, savory\, or salty\, they’ve got the flavors that hit every craving. Comfort food classics\, done right and served hot! \nhttps://www.wingspizzafries.com/
URL:https://squatch-brewing.com/event/wpf-wings-pizza-fries/2025-10-24/
LOCATION:Squatch Brewing\, 203 Townsend Drive\, Monroeville\, PA\, 15146\, United States
CATEGORIES:Food Truck
ATTACH;FMTTYPE=image/jpeg:https://squatch-brewing.com/wp-content/uploads/2024/11/trailer.jpg
END:VEVENT
BEGIN:VEVENT
DTSTART;TZID=America/New_York:20251025T150000
DTEND;TZID=America/New_York:20251025T190000
DTSTAMP:20260422T063540
CREATED:20250804T132144Z
LAST-MODIFIED:20250821T175855Z
UID:10000902-1761404400-1761418800@squatch-brewing.com
SUMMARY:El Rincon Mexican Food Truck
DESCRIPTION:🌶️ Spice up your day with El Rincón Oaxaqueño! Authentic Oaxacan cuisine made fresh\, full of bold flavors\, and guaranteed to transport your taste buds south of the border. \nhttps://www.facebook.com/profile.php?id=100067595191698
URL:https://squatch-brewing.com/event/el-rincon-mexican-food-truck-3/
LOCATION:Squatch Brewing\, 203 Townsend Drive\, Monroeville\, PA\, 15146\, United States
CATEGORIES:Food Truck
ATTACH;FMTTYPE=image/png:https://squatch-brewing.com/wp-content/uploads/2025/07/FB-website-6.png
END:VEVENT
BEGIN:VEVENT
DTSTART;TZID=America/New_York:20251030T160000
DTEND;TZID=America/New_York:20251030T200000
DTSTAMP:20260422T063540
CREATED:20250826T114843Z
LAST-MODIFIED:20250826T114843Z
UID:10000932-1761840000-1761854400@squatch-brewing.com
SUMMARY:Pastrami Jack's
DESCRIPTION:Pastrami Jack’s is stacking it high and packing it with flavor! From juicy pastrami piled on fresh bread to mouthwatering sides that hit the spot\, this food truck is serving up deli favorites with a bold twist. Big bites\, bold flavor—Jack’s got your cravings covered! \nhttps://www.facebook.com/profile.php?id=61558883545364
URL:https://squatch-brewing.com/event/pastrami-jacks-4/
LOCATION:Squatch Brewing\, 203 Townsend Drive\, Monroeville\, PA\, 15146\, United States
CATEGORIES:Food Truck
ATTACH;FMTTYPE=image/png:https://squatch-brewing.com/wp-content/uploads/2025/07/250807_FB-website.png
END:VEVENT
BEGIN:VEVENT
DTSTART;TZID=America/New_York:20251031T160000
DTEND;TZID=America/New_York:20251031T200000
DTSTAMP:20260422T063540
CREATED:20250703T144506Z
LAST-MODIFIED:20250821T174824Z
UID:10000885-1761926400-1761940800@squatch-brewing.com
SUMMARY:Savor my Flavor
DESCRIPTION:🥪 “Craving something delicious? Savor My Flavor has you covered! From cheesy\, melty cheesesteaks to crispy fries\, golden chicken tenders\, and daily chef’s specials that change with every visit — there’s always something new to love. Fresh\, fun\, and full of flavor!” \nhttps://www.facebook.com/profile.php?id=61563591134717
URL:https://squatch-brewing.com/event/savor-my-flavor-4/
LOCATION:Squatch Brewing\, 203 Townsend Drive\, Monroeville\, PA\, 15146\, United States
CATEGORIES:Food Truck
ATTACH;FMTTYPE=image/png:https://squatch-brewing.com/wp-content/uploads/2025/06/FB-website-2.png
END:VEVENT
BEGIN:VEVENT
DTSTART;TZID=America/New_York:20251101T150000
DTEND;TZID=America/New_York:20251101T200000
DTSTAMP:20260422T063540
CREATED:20241011T161022Z
LAST-MODIFIED:20250825T180119Z
UID:10000462-1762009200-1762027200@squatch-brewing.com
SUMMARY:Billu's Indian Grill
DESCRIPTION:Serving up rich flavors\, and authentic Indian delights you’ll crave again and again! \nhttps://www.facebook.com/BillusIndianGrill/
URL:https://squatch-brewing.com/event/billus-indian-grill-2/2025-11-01/
LOCATION:Squatch Brewing\, 203 Townsend Drive\, Monroeville\, PA\, 15146\, United States
CATEGORIES:Food Truck
ATTACH;FMTTYPE=image/png:https://squatch-brewing.com/wp-content/uploads/2024/10/Untitled-design-11-2.png
END:VEVENT
BEGIN:VEVENT
DTSTART;TZID=America/New_York:20251102T130000
DTEND;TZID=America/New_York:20251102T150000
DTSTAMP:20260422T063540
CREATED:20251031T182812Z
LAST-MODIFIED:20251031T182812Z
UID:10001044-1762088400-1762095600@squatch-brewing.com
SUMMARY:Pittsburgh Smokehouse
DESCRIPTION:Don’t forget to roll your clocks back — and roll up to Squatch!Pittsburgh Smokehouse will be in the house serving up the Q while the Steelers take on the Colts.Extra hour of sleep = extra hour of beer & barbecue energy. 🍻
URL:https://squatch-brewing.com/event/pittsburgh-smokehouse-26/
LOCATION:Squatch Brewing\, 203 Townsend Drive\, Monroeville\, PA\, 15146\, United States
CATEGORIES:Food Truck
ATTACH;FMTTYPE=image/png:https://squatch-brewing.com/wp-content/uploads/2025/06/website-jpg.png
END:VEVENT
BEGIN:VEVENT
DTSTART;TZID=America/New_York:20251106T160000
DTEND;TZID=America/New_York:20251106T200000
DTSTAMP:20260422T063540
CREATED:20250917T174920Z
LAST-MODIFIED:20250917T174920Z
UID:10000944-1762444800-1762459200@squatch-brewing.com
SUMMARY:Quick-E Food Truck
DESCRIPTION:🚚 Quick-E’s Pulling Up! Catch the food truck serving up fast\, fresh eats. \nhttps://www.facebook.com/profile.php?id=100093713914738&sk=about_details
URL:https://squatch-brewing.com/event/quick-e-food-truck/
LOCATION:Squatch Brewing\, 203 Townsend Drive\, Monroeville\, PA\, 15146\, United States
CATEGORIES:Food Truck
ATTACH;FMTTYPE=image/png:https://squatch-brewing.com/wp-content/uploads/2025/09/FB_website-6.png
END:VEVENT
BEGIN:VEVENT
DTSTART;TZID=America/New_York:20251107T160000
DTEND;TZID=America/New_York:20251107T200000
DTSTAMP:20260422T063540
CREATED:20250403T161505Z
LAST-MODIFIED:20250623T151804Z
UID:10000830-1762531200-1762545600@squatch-brewing.com
SUMMARY:Rollies Fried Spring Rolls
DESCRIPTION:https://www.facebook.com/rollies.pittsburgh
URL:https://squatch-brewing.com/event/rollies-fried-spring-rolls-3/
LOCATION:Squatch Brewing\, 203 Townsend Drive\, Monroeville\, PA\, 15146\, United States
CATEGORIES:Food Truck
END:VEVENT
BEGIN:VEVENT
DTSTART;TZID=America/New_York:20251108T150000
DTEND;TZID=America/New_York:20251108T200000
DTSTAMP:20260422T063540
CREATED:20250923T162833Z
LAST-MODIFIED:20250923T162833Z
UID:10000947-1762614000-1762632000@squatch-brewing.com
SUMMARY:Affordable Elegance
DESCRIPTION:Affordable Elegance International Café is serving up the eats – come hungry! \nhttps://www.facebook.com/AffordableEleganceLLC
URL:https://squatch-brewing.com/event/affordable-elegance-5/
LOCATION:Squatch Brewing\, 203 Townsend Drive\, Monroeville\, PA\, 15146\, United States
CATEGORIES:Food Truck
ATTACH;FMTTYPE=image/png:https://squatch-brewing.com/wp-content/uploads/2025/06/affordable-elegance-website-photo.png
END:VEVENT
BEGIN:VEVENT
DTSTART;TZID=America/New_York:20251110T160000
DTEND;TZID=America/New_York:20251110T200000
DTSTAMP:20260422T063540
CREATED:20251110T174913Z
LAST-MODIFIED:20251110T174913Z
UID:10001060-1762790400-1762804800@squatch-brewing.com
SUMMARY:Savor My Flavor
DESCRIPTION:Cold craft beer + hot eats from Savor My Flavor = flavor heaven!
URL:https://squatch-brewing.com/event/savor-my-flavor-15/
LOCATION:Squatch Brewing\, 203 Townsend Drive\, Monroeville\, PA\, 15146\, United States
CATEGORIES:Food Truck
ATTACH;FMTTYPE=image/png:https://squatch-brewing.com/wp-content/uploads/2025/06/FB-website-2.png
END:VEVENT
END:VCALENDAR