BEGIN:VCALENDAR
VERSION:2.0
PRODID:-//Squatch Brewing - ECPv6.15.20//NONSGML v1.0//EN
CALSCALE:GREGORIAN
METHOD:PUBLISH
X-ORIGINAL-URL:https://squatch-brewing.com
X-WR-CALDESC:Events for Squatch Brewing
REFRESH-INTERVAL;VALUE=DURATION:PT1H
X-Robots-Tag:noindex
X-PUBLISHED-TTL:PT1H
BEGIN:VTIMEZONE
TZID:America/New_York
BEGIN:DAYLIGHT
TZOFFSETFROM:-0500
TZOFFSETTO:-0400
TZNAME:EDT
DTSTART:20240310T070000
END:DAYLIGHT
BEGIN:STANDARD
TZOFFSETFROM:-0400
TZOFFSETTO:-0500
TZNAME:EST
DTSTART:20241103T060000
END:STANDARD
BEGIN:DAYLIGHT
TZOFFSETFROM:-0500
TZOFFSETTO:-0400
TZNAME:EDT
DTSTART:20250309T070000
END:DAYLIGHT
BEGIN:STANDARD
TZOFFSETFROM:-0400
TZOFFSETTO:-0500
TZNAME:EST
DTSTART:20251102T060000
END:STANDARD
BEGIN:DAYLIGHT
TZOFFSETFROM:-0500
TZOFFSETTO:-0400
TZNAME:EDT
DTSTART:20260308T070000
END:DAYLIGHT
BEGIN:STANDARD
TZOFFSETFROM:-0400
TZOFFSETTO:-0500
TZNAME:EST
DTSTART:20261101T060000
END:STANDARD
END:VTIMEZONE
BEGIN:VEVENT
DTSTART;TZID=America/New_York:20250228T160000
DTEND;TZID=America/New_York:20250228T200000
DTSTAMP:20260419T100433
CREATED:20241212T194144Z
LAST-MODIFIED:20241212T194144Z
UID:10000679-1740758400-1740772800@squatch-brewing.com
SUMMARY:Bob's Sub
DESCRIPTION:Menu
URL:https://squatch-brewing.com/event/bobs-sub-5/
LOCATION:Squatch Brewing\, 203 Townsend Drive\, Monroeville\, PA\, 15146\, United States
CATEGORIES:Food Truck
END:VEVENT
BEGIN:VEVENT
DTSTART;TZID=America/New_York:20250301T130000
DTEND;TZID=America/New_York:20250301T200000
DTSTAMP:20260419T100433
CREATED:20250203T184204Z
LAST-MODIFIED:20250203T184204Z
UID:10000786-1740834000-1740859200@squatch-brewing.com
SUMMARY:Not Your Typical Pizza
DESCRIPTION:https://www.facebook.com/profile.php?id=61564237100581
URL:https://squatch-brewing.com/event/not-your-typical-pizza/
LOCATION:Squatch Brewing\, 203 Townsend Drive\, Monroeville\, PA\, 15146\, United States
CATEGORIES:Food Truck
END:VEVENT
BEGIN:VEVENT
DTSTART;TZID=America/New_York:20250306T160000
DTEND;TZID=America/New_York:20250306T200000
DTSTAMP:20260419T100433
CREATED:20241212T194249Z
LAST-MODIFIED:20241212T194249Z
UID:10000680-1741276800-1741291200@squatch-brewing.com
SUMMARY:Bob's Sub
DESCRIPTION:Menu
URL:https://squatch-brewing.com/event/bobs-sub-6/
LOCATION:Squatch Brewing\, 203 Townsend Drive\, Monroeville\, PA\, 15146\, United States
CATEGORIES:Food Truck
END:VEVENT
BEGIN:VEVENT
DTSTART;TZID=America/New_York:20250307T160000
DTEND;TZID=America/New_York:20250307T200000
DTSTAMP:20260419T100433
CREATED:20250225T194555Z
LAST-MODIFIED:20250225T194555Z
UID:10000808-1741363200-1741377600@squatch-brewing.com
SUMMARY:Affordable Elegance
DESCRIPTION:https://www.facebook.com/AffordableEleganceLLC
URL:https://squatch-brewing.com/event/affordable-elegance/
LOCATION:Squatch Brewing\, 203 Townsend Drive\, Monroeville\, PA\, 15146\, United States
CATEGORIES:Food Truck
ATTACH;FMTTYPE=image/png:https://squatch-brewing.com/wp-content/uploads/2025/02/affordable-elegance-website-photo.png
END:VEVENT
BEGIN:VEVENT
DTSTART;TZID=America/New_York:20250308T150000
DTEND;TZID=America/New_York:20250308T190000
DTSTAMP:20260419T100433
CREATED:20240416T171140Z
LAST-MODIFIED:20240829T165253Z
UID:10000392-1741446000-1741460400@squatch-brewing.com
SUMMARY:Blazzin Hibachi on Wheels
DESCRIPTION:www.facebook.com/blazzinhibachionwheels
URL:https://squatch-brewing.com/event/blazzin-hibachi-on-wheels/2025-03-08/
LOCATION:Squatch Brewing\, 203 Townsend Drive\, Monroeville\, PA\, 15146\, United States
CATEGORIES:Food Truck
ATTACH;FMTTYPE=image/jpeg:https://squatch-brewing.com/wp-content/uploads/2024/04/Logo-4-e1713287578803.jpg
END:VEVENT
BEGIN:VEVENT
DTSTART;TZID=America/New_York:20250308T150000
DTEND;TZID=America/New_York:20250308T190000
DTSTAMP:20260419T100433
CREATED:20250821T174052Z
LAST-MODIFIED:20250825T183723Z
UID:10000923-1741446000-1741460400@squatch-brewing.com
SUMMARY:Blazzin Hibachi on Wheels
DESCRIPTION:🥢🍤🍺 Grill\, chill\, repeat: Blazzin Hibachi is bringing flavor and fun to your plate! \nwww.facebook.com/blazzinhibachionwheels
URL:https://squatch-brewing.com/event/blazzin-hibachi-on-wheels-3/2025-03-08/
LOCATION:Squatch Brewing\, 203 Townsend Drive\, Monroeville\, PA\, 15146\, United States
CATEGORIES:Food Truck
ATTACH;FMTTYPE=image/jpeg:https://squatch-brewing.com/wp-content/uploads/2024/04/Logo-4-e1713287578803.jpg
END:VEVENT
BEGIN:VEVENT
DTSTART;TZID=America/New_York:20250314T160000
DTEND;TZID=America/New_York:20250314T200000
DTSTAMP:20260419T100433
CREATED:20241011T164748Z
LAST-MODIFIED:20250825T181553Z
UID:10000472-1741968000-1741982400@squatch-brewing.com
SUMMARY:Hibachi Lou Food Truck
DESCRIPTION:🥩🍚🍺 Meat on the grill\, rice on the side\, and beer to wash it down—Hibachi Lou is here to feast! \nwww.facebook.com/hibachlou412/
URL:https://squatch-brewing.com/event/hibachi-lou-food-truck-2/2025-03-14/
LOCATION:Squatch Brewing\, 203 Townsend Drive\, Monroeville\, PA\, 15146\, United States
CATEGORIES:Food Truck
ATTACH;FMTTYPE=image/jpeg:https://squatch-brewing.com/wp-content/uploads/2024/03/logo-e1730916923839.jpg
END:VEVENT
BEGIN:VEVENT
DTSTART;TZID=America/New_York:20250315T090000
DTEND;TZID=America/New_York:20250315T220000
DTSTAMP:20260419T100433
CREATED:20250221T172043Z
LAST-MODIFIED:20250221T172043Z
UID:10000807-1742029200-1742076000@squatch-brewing.com
SUMMARY:St. Patrick's Day Party
DESCRIPTION:Taproom is open at 9am watch the parade here. River Monster Pizza will be serving up pies 11am-9pm. Bill Young Acoustics 6pm-9pm.
URL:https://squatch-brewing.com/event/st-patricks-day-party/
LOCATION:Squatch Brewing\, 203 Townsend Drive\, Monroeville\, PA\, 15146\, United States
CATEGORIES:Entertainment,Food Truck
ATTACH;FMTTYPE=image/png:https://squatch-brewing.com/wp-content/uploads/2025/02/250315-St-Pats-Day-party-website_FB-event.png
END:VEVENT
BEGIN:VEVENT
DTSTART;TZID=America/New_York:20250315T110000
DTEND;TZID=America/New_York:20250315T203000
DTSTAMP:20260419T100433
CREATED:20250219T183837Z
LAST-MODIFIED:20250219T183837Z
UID:10000806-1742036400-1742070600@squatch-brewing.com
SUMMARY:River Monster Pizza
DESCRIPTION:https://www.facebook.com/profile.php?id=100075968631130
URL:https://squatch-brewing.com/event/river-monster-pizza/
LOCATION:Squatch Brewing\, 203 Townsend Drive\, Monroeville\, PA\, 15146\, United States
CATEGORIES:Food Truck
END:VEVENT
BEGIN:VEVENT
DTSTART;TZID=America/New_York:20250321T110000
DTEND;TZID=America/New_York:20250321T190000
DTSTAMP:20260419T100433
CREATED:20250214T142115Z
LAST-MODIFIED:20250214T142115Z
UID:10000801-1742554800-1742583600@squatch-brewing.com
SUMMARY:Hibachi Lou
DESCRIPTION:https://www.facebook.com/hibachlou412
URL:https://squatch-brewing.com/event/hibachi-lou-2/
LOCATION:Squatch Brewing\, 203 Townsend Drive\, Monroeville\, PA\, 15146\, United States
CATEGORIES:Food Truck
ATTACH;FMTTYPE=image/png:https://squatch-brewing.com/wp-content/uploads/2025/02/website-event-photo.png
END:VEVENT
BEGIN:VEVENT
DTSTART;TZID=America/New_York:20250322T160000
DTEND;TZID=America/New_York:20250322T200000
DTSTAMP:20260419T100433
CREATED:20241212T194345Z
LAST-MODIFIED:20241212T194345Z
UID:10000681-1742659200-1742673600@squatch-brewing.com
SUMMARY:Bob's Sub
DESCRIPTION:Menu
URL:https://squatch-brewing.com/event/bobs-sub-7/
LOCATION:Squatch Brewing\, 203 Townsend Drive\, Monroeville\, PA\, 15146\, United States
CATEGORIES:Food Truck
END:VEVENT
BEGIN:VEVENT
DTSTART;TZID=America/New_York:20250328T160000
DTEND;TZID=America/New_York:20250328T200000
DTSTAMP:20260419T100433
CREATED:20241022T152905Z
LAST-MODIFIED:20241022T152906Z
UID:10000383-1743177600-1743192000@squatch-brewing.com
SUMMARY:Billu's Indian Grill
DESCRIPTION:https://www.facebook.com/BillusIndianGrill/
URL:https://squatch-brewing.com/event/billus-indian-grill-3/
LOCATION:Squatch Brewing\, 203 Townsend Drive\, Monroeville\, PA\, 15146\, United States
CATEGORIES:Food Truck
ATTACH;FMTTYPE=image/jpeg:https://squatch-brewing.com/wp-content/uploads/2024/03/404476502_1053600672279187_4855806363256002705_n.jpg
END:VEVENT
BEGIN:VEVENT
DTSTART;TZID=America/New_York:20250329T160000
DTEND;TZID=America/New_York:20250329T200000
DTSTAMP:20260419T100433
CREATED:20240229T185930Z
LAST-MODIFIED:20250611T161045Z
UID:10000780-1743264000-1743278400@squatch-brewing.com
SUMMARY:Pittsburgh Smokehouse
DESCRIPTION:https://www.facebook.com/pittsburgh.smokehouse/
URL:https://squatch-brewing.com/event/pittsburgh-smokehouse/2025-03-29/
LOCATION:Squatch Brewing\, 203 Townsend Drive\, Monroeville\, PA\, 15146\, United States
CATEGORIES:Food Truck
ATTACH;FMTTYPE=image/png:https://squatch-brewing.com/wp-content/uploads/2024/03/logo-e1730920153602.png
END:VEVENT
BEGIN:VEVENT
DTSTART;TZID=America/New_York:20250404T160000
DTEND;TZID=America/New_York:20250404T200000
DTSTAMP:20260419T100433
CREATED:20250122T175119Z
LAST-MODIFIED:20250122T175119Z
UID:10000774-1743782400-1743796800@squatch-brewing.com
SUMMARY:Cousins Maine Lobster
DESCRIPTION:https://www.facebook.com/CMLobsterPittsburghPA
URL:https://squatch-brewing.com/event/cousins-maine-lobster-2/
LOCATION:Squatch Brewing\, 203 Townsend Drive\, Monroeville\, PA\, 15146\, United States
CATEGORIES:Food Truck
ATTACH;FMTTYPE=image/png:https://squatch-brewing.com/wp-content/uploads/2025/01/website-photo.png
END:VEVENT
BEGIN:VEVENT
DTSTART;TZID=America/New_York:20250405T150000
DTEND;TZID=America/New_York:20250405T200000
DTSTAMP:20260419T100433
CREATED:20241011T161022Z
LAST-MODIFIED:20250825T180119Z
UID:10000454-1743865200-1743883200@squatch-brewing.com
SUMMARY:Billu's Indian Grill
DESCRIPTION:Serving up rich flavors\, and authentic Indian delights you’ll crave again and again! \nhttps://www.facebook.com/BillusIndianGrill/
URL:https://squatch-brewing.com/event/billus-indian-grill-2/2025-04-05/
LOCATION:Squatch Brewing\, 203 Townsend Drive\, Monroeville\, PA\, 15146\, United States
CATEGORIES:Food Truck
ATTACH;FMTTYPE=image/png:https://squatch-brewing.com/wp-content/uploads/2024/10/Untitled-design-11-2.png
END:VEVENT
BEGIN:VEVENT
DTSTART;TZID=America/New_York:20250411T160000
DTEND;TZID=America/New_York:20250411T200000
DTSTAMP:20260419T100433
CREATED:20240229T185930Z
LAST-MODIFIED:20250611T161045Z
UID:10000549-1744387200-1744401600@squatch-brewing.com
SUMMARY:Pittsburgh Smokehouse
DESCRIPTION:https://www.facebook.com/pittsburgh.smokehouse/
URL:https://squatch-brewing.com/event/pittsburgh-smokehouse/2025-04-11/
LOCATION:Squatch Brewing\, 203 Townsend Drive\, Monroeville\, PA\, 15146\, United States
CATEGORIES:Food Truck
ATTACH;FMTTYPE=image/png:https://squatch-brewing.com/wp-content/uploads/2024/03/logo-e1730920153602.png
END:VEVENT
BEGIN:VEVENT
DTSTART;TZID=America/New_York:20250412T150000
DTEND;TZID=America/New_York:20250412T190000
DTSTAMP:20260419T100433
CREATED:20240416T171140Z
LAST-MODIFIED:20240829T165253Z
UID:10000393-1744470000-1744484400@squatch-brewing.com
SUMMARY:Blazzin Hibachi on Wheels
DESCRIPTION:www.facebook.com/blazzinhibachionwheels
URL:https://squatch-brewing.com/event/blazzin-hibachi-on-wheels/2025-04-12/
LOCATION:Squatch Brewing\, 203 Townsend Drive\, Monroeville\, PA\, 15146\, United States
CATEGORIES:Food Truck
ATTACH;FMTTYPE=image/jpeg:https://squatch-brewing.com/wp-content/uploads/2024/04/Logo-4-e1713287578803.jpg
END:VEVENT
BEGIN:VEVENT
DTSTART;TZID=America/New_York:20250412T150000
DTEND;TZID=America/New_York:20250412T190000
DTSTAMP:20260419T100433
CREATED:20250821T174052Z
LAST-MODIFIED:20250825T183723Z
UID:10000924-1744470000-1744484400@squatch-brewing.com
SUMMARY:Blazzin Hibachi on Wheels
DESCRIPTION:🥢🍤🍺 Grill\, chill\, repeat: Blazzin Hibachi is bringing flavor and fun to your plate! \nwww.facebook.com/blazzinhibachionwheels
URL:https://squatch-brewing.com/event/blazzin-hibachi-on-wheels-3/2025-04-12/
LOCATION:Squatch Brewing\, 203 Townsend Drive\, Monroeville\, PA\, 15146\, United States
CATEGORIES:Food Truck
ATTACH;FMTTYPE=image/jpeg:https://squatch-brewing.com/wp-content/uploads/2024/04/Logo-4-e1713287578803.jpg
END:VEVENT
BEGIN:VEVENT
DTSTART;TZID=America/New_York:20250419T160000
DTEND;TZID=America/New_York:20250419T200000
DTSTAMP:20260419T100433
CREATED:20241212T194521Z
LAST-MODIFIED:20241212T194521Z
UID:10000683-1745078400-1745092800@squatch-brewing.com
SUMMARY:Bob's Sub
DESCRIPTION:Menu
URL:https://squatch-brewing.com/event/bobs-sub-9/
LOCATION:Squatch Brewing\, 203 Townsend Drive\, Monroeville\, PA\, 15146\, United States
CATEGORIES:Food Truck
END:VEVENT
BEGIN:VEVENT
DTSTART;TZID=America/New_York:20250425T160000
DTEND;TZID=America/New_York:20250425T200000
DTSTAMP:20260419T100433
CREATED:20250318T174312Z
LAST-MODIFIED:20250318T174312Z
UID:10000814-1745596800-1745611200@squatch-brewing.com
SUMMARY:River Monster Pizza
DESCRIPTION:https://www.facebook.com/profile.php?id=100075968631130
URL:https://squatch-brewing.com/event/river-monster-pizza-2/
LOCATION:Squatch Brewing\, 203 Townsend Drive\, Monroeville\, PA\, 15146\, United States
CATEGORIES:Food Truck
END:VEVENT
BEGIN:VEVENT
DTSTART;TZID=America/New_York:20250426T150000
DTEND;TZID=America/New_York:20250426T190000
DTSTAMP:20260419T100433
CREATED:20250321T121412Z
LAST-MODIFIED:20250411T184332Z
UID:10000821-1745679600-1745694000@squatch-brewing.com
SUMMARY:WPF Wings Pizza Fries
DESCRIPTION:https://www.facebook.com/WPFConcessions
URL:https://squatch-brewing.com/event/wpf-wings-pizza-fries-3/
LOCATION:Squatch Brewing\, 203 Townsend Drive\, Monroeville\, PA\, 15146\, United States
CATEGORIES:Food Truck
ATTACH;FMTTYPE=image/jpeg:https://squatch-brewing.com/wp-content/uploads/2024/11/trailer.jpg
END:VEVENT
BEGIN:VEVENT
DTSTART;TZID=America/New_York:20250501T160000
DTEND;TZID=America/New_York:20250501T200000
DTSTAMP:20260419T100433
CREATED:20250410T180404Z
LAST-MODIFIED:20250410T180404Z
UID:10000836-1746115200-1746129600@squatch-brewing.com
SUMMARY:Let's Taco
DESCRIPTION:https://www.facebook.com/mytacofoodtruckpgh
URL:https://squatch-brewing.com/event/lets-taco-2/
LOCATION:Squatch Brewing\, 203 Townsend Drive\, Monroeville\, PA\, 15146\, United States
CATEGORIES:Food Truck
ATTACH;FMTTYPE=image/png:https://squatch-brewing.com/wp-content/uploads/2025/04/website-photo.png
END:VEVENT
BEGIN:VEVENT
DTSTART;TZID=America/New_York:20250502T160000
DTEND;TZID=America/New_York:20250502T200000
DTSTAMP:20260419T100433
CREATED:20250318T181915Z
LAST-MODIFIED:20250318T183439Z
UID:10000815-1746201600-1746216000@squatch-brewing.com
SUMMARY:River Monster Pizza
DESCRIPTION:https://www.facebook.com/profile.php?id=100075968631130
URL:https://squatch-brewing.com/event/river-monster-pizza-3/
LOCATION:Squatch Brewing\, 203 Townsend Drive\, Monroeville\, PA\, 15146\, United States
CATEGORIES:Food Truck
END:VEVENT
BEGIN:VEVENT
DTSTART;TZID=America/New_York:20250507T160000
DTEND;TZID=America/New_York:20250507T200000
DTSTAMP:20260419T100433
CREATED:20250403T155130Z
LAST-MODIFIED:20250403T155130Z
UID:10000828-1746633600-1746648000@squatch-brewing.com
SUMMARY:WPF
DESCRIPTION:https://www.facebook.com/WPFConcessions
URL:https://squatch-brewing.com/event/wpf-2/
LOCATION:Squatch Brewing\, 203 Townsend Drive\, Monroeville\, PA\, 15146\, United States
CATEGORIES:Food Truck
ATTACH;FMTTYPE=image/png:https://squatch-brewing.com/wp-content/uploads/2025/04/website-photo-1.png
END:VEVENT
BEGIN:VEVENT
DTSTART;TZID=America/New_York:20250509T160000
DTEND;TZID=America/New_York:20250509T200000
DTSTAMP:20260419T100433
CREATED:20241011T164748Z
LAST-MODIFIED:20250825T181553Z
UID:10000473-1746806400-1746820800@squatch-brewing.com
SUMMARY:Hibachi Lou Food Truck
DESCRIPTION:🥩🍚🍺 Meat on the grill\, rice on the side\, and beer to wash it down—Hibachi Lou is here to feast! \nwww.facebook.com/hibachlou412/
URL:https://squatch-brewing.com/event/hibachi-lou-food-truck-2/2025-05-09/
LOCATION:Squatch Brewing\, 203 Townsend Drive\, Monroeville\, PA\, 15146\, United States
CATEGORIES:Food Truck
ATTACH;FMTTYPE=image/jpeg:https://squatch-brewing.com/wp-content/uploads/2024/03/logo-e1730916923839.jpg
END:VEVENT
BEGIN:VEVENT
DTSTART;TZID=America/New_York:20250510T150000
DTEND;TZID=America/New_York:20250510T190000
DTSTAMP:20260419T100433
CREATED:20240416T171140Z
LAST-MODIFIED:20240829T165253Z
UID:10000394-1746889200-1746903600@squatch-brewing.com
SUMMARY:Blazzin Hibachi on Wheels
DESCRIPTION:www.facebook.com/blazzinhibachionwheels
URL:https://squatch-brewing.com/event/blazzin-hibachi-on-wheels/2025-05-10/
LOCATION:Squatch Brewing\, 203 Townsend Drive\, Monroeville\, PA\, 15146\, United States
CATEGORIES:Food Truck
ATTACH;FMTTYPE=image/jpeg:https://squatch-brewing.com/wp-content/uploads/2024/04/Logo-4-e1713287578803.jpg
END:VEVENT
BEGIN:VEVENT
DTSTART;TZID=America/New_York:20250510T150000
DTEND;TZID=America/New_York:20250510T190000
DTSTAMP:20260419T100433
CREATED:20250821T174052Z
LAST-MODIFIED:20250825T183723Z
UID:10000925-1746889200-1746903600@squatch-brewing.com
SUMMARY:Blazzin Hibachi on Wheels
DESCRIPTION:🥢🍤🍺 Grill\, chill\, repeat: Blazzin Hibachi is bringing flavor and fun to your plate! \nwww.facebook.com/blazzinhibachionwheels
URL:https://squatch-brewing.com/event/blazzin-hibachi-on-wheels-3/2025-05-10/
LOCATION:Squatch Brewing\, 203 Townsend Drive\, Monroeville\, PA\, 15146\, United States
CATEGORIES:Food Truck
ATTACH;FMTTYPE=image/jpeg:https://squatch-brewing.com/wp-content/uploads/2024/04/Logo-4-e1713287578803.jpg
END:VEVENT
BEGIN:VEVENT
DTSTART;TZID=America/New_York:20250516T160000
DTEND;TZID=America/New_York:20250516T200000
DTSTAMP:20260419T100433
CREATED:20250121T185629Z
LAST-MODIFIED:20250121T185629Z
UID:10000771-1747411200-1747425600@squatch-brewing.com
SUMMARY:Pittsburgh Smokehouse
DESCRIPTION:https://www.facebook.com/pittsburgh.smokehouse
URL:https://squatch-brewing.com/event/pittsburgh-smokehouse-6/
LOCATION:Squatch Brewing\, 203 Townsend Drive\, Monroeville\, PA\, 15146\, United States
CATEGORIES:Food Truck
END:VEVENT
BEGIN:VEVENT
DTSTART;TZID=America/New_York:20250517T160000
DTEND;TZID=America/New_York:20250517T200000
DTSTAMP:20260419T100433
CREATED:20241212T194722Z
LAST-MODIFIED:20241212T194722Z
UID:10000684-1747497600-1747512000@squatch-brewing.com
SUMMARY:Bob's Sub
DESCRIPTION:Menu
URL:https://squatch-brewing.com/event/bobs-sub-10/
LOCATION:Squatch Brewing\, 203 Townsend Drive\, Monroeville\, PA\, 15146\, United States
CATEGORIES:Food Truck
END:VEVENT
BEGIN:VEVENT
DTSTART;TZID=America/New_York:20250524T150000
DTEND;TZID=America/New_York:20250524T190000
DTSTAMP:20260419T100433
CREATED:20241129T185520Z
LAST-MODIFIED:20250825T175918Z
UID:10000621-1748098800-1748113200@squatch-brewing.com
SUMMARY:WPF Wings Pizza Fries
DESCRIPTION:WPF is serving the ultimate trio—crispy wings\, cheesy pizza\, and golden fries! Whether you’re craving saucy\, savory\, or salty\, they’ve got the flavors that hit every craving. Comfort food classics\, done right and served hot! \nhttps://www.wingspizzafries.com/
URL:https://squatch-brewing.com/event/wpf-wings-pizza-fries/2025-05-24/
LOCATION:Squatch Brewing\, 203 Townsend Drive\, Monroeville\, PA\, 15146\, United States
CATEGORIES:Food Truck
ATTACH;FMTTYPE=image/jpeg:https://squatch-brewing.com/wp-content/uploads/2024/11/trailer.jpg
END:VEVENT
END:VCALENDAR