BEGIN:VCALENDAR
VERSION:2.0
PRODID:-//Squatch Brewing - ECPv6.15.20//NONSGML v1.0//EN
CALSCALE:GREGORIAN
METHOD:PUBLISH
X-WR-CALNAME:Squatch Brewing
X-ORIGINAL-URL:https://squatch-brewing.com
X-WR-CALDESC:Events for Squatch Brewing
REFRESH-INTERVAL;VALUE=DURATION:PT1H
X-Robots-Tag:noindex
X-PUBLISHED-TTL:PT1H
BEGIN:VTIMEZONE
TZID:America/New_York
BEGIN:DAYLIGHT
TZOFFSETFROM:-0500
TZOFFSETTO:-0400
TZNAME:EDT
DTSTART:20240310T070000
END:DAYLIGHT
BEGIN:STANDARD
TZOFFSETFROM:-0400
TZOFFSETTO:-0500
TZNAME:EST
DTSTART:20241103T060000
END:STANDARD
BEGIN:DAYLIGHT
TZOFFSETFROM:-0500
TZOFFSETTO:-0400
TZNAME:EDT
DTSTART:20250309T070000
END:DAYLIGHT
BEGIN:STANDARD
TZOFFSETFROM:-0400
TZOFFSETTO:-0500
TZNAME:EST
DTSTART:20251102T060000
END:STANDARD
BEGIN:DAYLIGHT
TZOFFSETFROM:-0500
TZOFFSETTO:-0400
TZNAME:EDT
DTSTART:20260308T070000
END:DAYLIGHT
BEGIN:STANDARD
TZOFFSETFROM:-0400
TZOFFSETTO:-0500
TZNAME:EST
DTSTART:20261101T060000
END:STANDARD
BEGIN:DAYLIGHT
TZOFFSETFROM:-0500
TZOFFSETTO:-0400
TZNAME:EDT
DTSTART:20270314T070000
END:DAYLIGHT
BEGIN:STANDARD
TZOFFSETFROM:-0400
TZOFFSETTO:-0500
TZNAME:EST
DTSTART:20271107T060000
END:STANDARD
END:VTIMEZONE
BEGIN:VEVENT
DTSTART;TZID=America/New_York:20251018T150000
DTEND;TZID=America/New_York:20251018T190000
DTSTAMP:20260423T005208
CREATED:20251013T153435Z
LAST-MODIFIED:20251013T153435Z
UID:10000986-1760799600-1760814000@squatch-brewing.com
SUMMARY:Savor my Flavor
DESCRIPTION:🥪 “Craving something delicious? Savor My Flavor has you covered! From cheesy\, melty cheesesteaks to crispy fries\, golden chicken tenders\, and daily chef’s specials that change with every visit — there’s always something new to love. Fresh\, fun\, and full of flavor!” \nhttps://www.facebook.com/profile.php?id=61563591134717
URL:https://squatch-brewing.com/event/savor-my-flavor-9/
LOCATION:Squatch Brewing\, 203 Townsend Drive\, Monroeville\, PA\, 15146\, United States
CATEGORIES:Food Truck
ATTACH;FMTTYPE=image/png:https://squatch-brewing.com/wp-content/uploads/2025/06/FB-website-2.png
END:VEVENT
BEGIN:VEVENT
DTSTART;TZID=America/New_York:20251024T160000
DTEND;TZID=America/New_York:20251024T200000
DTSTAMP:20260423T005208
CREATED:20241129T185520Z
LAST-MODIFIED:20250825T175918Z
UID:10000627-1761321600-1761336000@squatch-brewing.com
SUMMARY:WPF Wings Pizza Fries
DESCRIPTION:WPF is serving the ultimate trio—crispy wings\, cheesy pizza\, and golden fries! Whether you’re craving saucy\, savory\, or salty\, they’ve got the flavors that hit every craving. Comfort food classics\, done right and served hot! \nhttps://www.wingspizzafries.com/
URL:https://squatch-brewing.com/event/wpf-wings-pizza-fries/2025-10-24/
LOCATION:Squatch Brewing\, 203 Townsend Drive\, Monroeville\, PA\, 15146\, United States
CATEGORIES:Food Truck
ATTACH;FMTTYPE=image/jpeg:https://squatch-brewing.com/wp-content/uploads/2024/11/trailer.jpg
END:VEVENT
BEGIN:VEVENT
DTSTART;TZID=America/New_York:20251025T150000
DTEND;TZID=America/New_York:20251025T190000
DTSTAMP:20260423T005208
CREATED:20250804T132144Z
LAST-MODIFIED:20250821T175855Z
UID:10000902-1761404400-1761418800@squatch-brewing.com
SUMMARY:El Rincon Mexican Food Truck
DESCRIPTION:🌶️ Spice up your day with El Rincón Oaxaqueño! Authentic Oaxacan cuisine made fresh\, full of bold flavors\, and guaranteed to transport your taste buds south of the border. \nhttps://www.facebook.com/profile.php?id=100067595191698
URL:https://squatch-brewing.com/event/el-rincon-mexican-food-truck-3/
LOCATION:Squatch Brewing\, 203 Townsend Drive\, Monroeville\, PA\, 15146\, United States
CATEGORIES:Food Truck
ATTACH;FMTTYPE=image/png:https://squatch-brewing.com/wp-content/uploads/2025/07/FB-website-6.png
END:VEVENT
BEGIN:VEVENT
DTSTART;TZID=America/New_York:20251030T160000
DTEND;TZID=America/New_York:20251030T200000
DTSTAMP:20260423T005208
CREATED:20250826T114843Z
LAST-MODIFIED:20250826T114843Z
UID:10000932-1761840000-1761854400@squatch-brewing.com
SUMMARY:Pastrami Jack's
DESCRIPTION:Pastrami Jack’s is stacking it high and packing it with flavor! From juicy pastrami piled on fresh bread to mouthwatering sides that hit the spot\, this food truck is serving up deli favorites with a bold twist. Big bites\, bold flavor—Jack’s got your cravings covered! \nhttps://www.facebook.com/profile.php?id=61558883545364
URL:https://squatch-brewing.com/event/pastrami-jacks-4/
LOCATION:Squatch Brewing\, 203 Townsend Drive\, Monroeville\, PA\, 15146\, United States
CATEGORIES:Food Truck
ATTACH;FMTTYPE=image/png:https://squatch-brewing.com/wp-content/uploads/2025/07/250807_FB-website.png
END:VEVENT
BEGIN:VEVENT
DTSTART;TZID=America/New_York:20251031T160000
DTEND;TZID=America/New_York:20251031T200000
DTSTAMP:20260423T005208
CREATED:20250703T144506Z
LAST-MODIFIED:20250821T174824Z
UID:10000885-1761926400-1761940800@squatch-brewing.com
SUMMARY:Savor my Flavor
DESCRIPTION:🥪 “Craving something delicious? Savor My Flavor has you covered! From cheesy\, melty cheesesteaks to crispy fries\, golden chicken tenders\, and daily chef’s specials that change with every visit — there’s always something new to love. Fresh\, fun\, and full of flavor!” \nhttps://www.facebook.com/profile.php?id=61563591134717
URL:https://squatch-brewing.com/event/savor-my-flavor-4/
LOCATION:Squatch Brewing\, 203 Townsend Drive\, Monroeville\, PA\, 15146\, United States
CATEGORIES:Food Truck
ATTACH;FMTTYPE=image/png:https://squatch-brewing.com/wp-content/uploads/2025/06/FB-website-2.png
END:VEVENT
BEGIN:VEVENT
DTSTART;TZID=America/New_York:20251101T150000
DTEND;TZID=America/New_York:20251101T200000
DTSTAMP:20260423T005208
CREATED:20241011T161022Z
LAST-MODIFIED:20250825T180119Z
UID:10000462-1762009200-1762027200@squatch-brewing.com
SUMMARY:Billu's Indian Grill
DESCRIPTION:Serving up rich flavors\, and authentic Indian delights you’ll crave again and again! \nhttps://www.facebook.com/BillusIndianGrill/
URL:https://squatch-brewing.com/event/billus-indian-grill-2/2025-11-01/
LOCATION:Squatch Brewing\, 203 Townsend Drive\, Monroeville\, PA\, 15146\, United States
CATEGORIES:Food Truck
ATTACH;FMTTYPE=image/png:https://squatch-brewing.com/wp-content/uploads/2024/10/Untitled-design-11-2.png
END:VEVENT
BEGIN:VEVENT
DTSTART;TZID=America/New_York:20251102T130000
DTEND;TZID=America/New_York:20251102T150000
DTSTAMP:20260423T005208
CREATED:20251031T182812Z
LAST-MODIFIED:20251031T182812Z
UID:10001044-1762088400-1762095600@squatch-brewing.com
SUMMARY:Pittsburgh Smokehouse
DESCRIPTION:Don’t forget to roll your clocks back — and roll up to Squatch!Pittsburgh Smokehouse will be in the house serving up the Q while the Steelers take on the Colts.Extra hour of sleep = extra hour of beer & barbecue energy. 🍻
URL:https://squatch-brewing.com/event/pittsburgh-smokehouse-26/
LOCATION:Squatch Brewing\, 203 Townsend Drive\, Monroeville\, PA\, 15146\, United States
CATEGORIES:Food Truck
ATTACH;FMTTYPE=image/png:https://squatch-brewing.com/wp-content/uploads/2025/06/website-jpg.png
END:VEVENT
BEGIN:VEVENT
DTSTART;TZID=America/New_York:20251106T160000
DTEND;TZID=America/New_York:20251106T200000
DTSTAMP:20260423T005208
CREATED:20250917T174920Z
LAST-MODIFIED:20250917T174920Z
UID:10000944-1762444800-1762459200@squatch-brewing.com
SUMMARY:Quick-E Food Truck
DESCRIPTION:🚚 Quick-E’s Pulling Up! Catch the food truck serving up fast\, fresh eats. \nhttps://www.facebook.com/profile.php?id=100093713914738&sk=about_details
URL:https://squatch-brewing.com/event/quick-e-food-truck/
LOCATION:Squatch Brewing\, 203 Townsend Drive\, Monroeville\, PA\, 15146\, United States
CATEGORIES:Food Truck
ATTACH;FMTTYPE=image/png:https://squatch-brewing.com/wp-content/uploads/2025/09/FB_website-6.png
END:VEVENT
BEGIN:VEVENT
DTSTART;TZID=America/New_York:20251107T160000
DTEND;TZID=America/New_York:20251107T200000
DTSTAMP:20260423T005208
CREATED:20250403T161505Z
LAST-MODIFIED:20250623T151804Z
UID:10000830-1762531200-1762545600@squatch-brewing.com
SUMMARY:Rollies Fried Spring Rolls
DESCRIPTION:https://www.facebook.com/rollies.pittsburgh
URL:https://squatch-brewing.com/event/rollies-fried-spring-rolls-3/
LOCATION:Squatch Brewing\, 203 Townsend Drive\, Monroeville\, PA\, 15146\, United States
CATEGORIES:Food Truck
END:VEVENT
BEGIN:VEVENT
DTSTART;TZID=America/New_York:20251108T150000
DTEND;TZID=America/New_York:20251108T200000
DTSTAMP:20260423T005208
CREATED:20250923T162833Z
LAST-MODIFIED:20250923T162833Z
UID:10000947-1762614000-1762632000@squatch-brewing.com
SUMMARY:Affordable Elegance
DESCRIPTION:Affordable Elegance International Café is serving up the eats – come hungry! \nhttps://www.facebook.com/AffordableEleganceLLC
URL:https://squatch-brewing.com/event/affordable-elegance-5/
LOCATION:Squatch Brewing\, 203 Townsend Drive\, Monroeville\, PA\, 15146\, United States
CATEGORIES:Food Truck
ATTACH;FMTTYPE=image/png:https://squatch-brewing.com/wp-content/uploads/2025/06/affordable-elegance-website-photo.png
END:VEVENT
BEGIN:VEVENT
DTSTART;TZID=America/New_York:20251110T160000
DTEND;TZID=America/New_York:20251110T200000
DTSTAMP:20260423T005208
CREATED:20251110T174913Z
LAST-MODIFIED:20251110T174913Z
UID:10001060-1762790400-1762804800@squatch-brewing.com
SUMMARY:Savor My Flavor
DESCRIPTION:Cold craft beer + hot eats from Savor My Flavor = flavor heaven!
URL:https://squatch-brewing.com/event/savor-my-flavor-15/
LOCATION:Squatch Brewing\, 203 Townsend Drive\, Monroeville\, PA\, 15146\, United States
CATEGORIES:Food Truck
ATTACH;FMTTYPE=image/png:https://squatch-brewing.com/wp-content/uploads/2025/06/FB-website-2.png
END:VEVENT
BEGIN:VEVENT
DTSTART;TZID=America/New_York:20251115T150000
DTEND;TZID=America/New_York:20251115T200000
DTSTAMP:20260423T005208
CREATED:20251016T153000Z
LAST-MODIFIED:20251029T183059Z
UID:10001010-1763218800-1763236800@squatch-brewing.com
SUMMARY:BaconFest presented by Pittsburgh Smokehouse
DESCRIPTION:🔥🐷 Bacon Lovers\, This One’s Fer Yinz! 🐷🔥 \nPittsburgh Smokehouse is rollin’ up on Saturday\, November 15th from 3–8pm — and they’re bringin’ a mini bacon festival that’s gonna make yinz weak in the knees! 🥓 \nWe’re talkin’ six different bacon specialties — crispy\, smoky\, sweet\, spicy… and all downright n’at. Pair it with an ice-cold Squatch brew and you’ve got yourself the perfect Saturday. 🍺 \nSo grab the crew\, skip the diet\, and come get yer bacon fix. Trust us — this one’s gonna be sizzlin’ good time fer yinz! 🏆 \nhttps://www.facebook.com/pittsburgh.smokehouse
URL:https://squatch-brewing.com/event/pittsburgh-smokehouse-24/
LOCATION:Squatch Brewing\, 203 Townsend Drive\, Monroeville\, PA\, 15146\, United States
CATEGORIES:Food Truck
ATTACH;FMTTYPE=image/png:https://squatch-brewing.com/wp-content/uploads/2025/10/251115-FB_website-2.png
END:VEVENT
BEGIN:VEVENT
DTSTART;TZID=America/New_York:20251120T160000
DTEND;TZID=America/New_York:20251120T200000
DTSTAMP:20260423T005208
CREATED:20250703T144740Z
LAST-MODIFIED:20251002T155631Z
UID:10000887-1763654400-1763668800@squatch-brewing.com
SUMMARY:Savor my Flavor
DESCRIPTION:Get ready to treat your taste buds! Savor my Flavor rotates a bold lineup of mouthwatering comfort foods from around the globe — Mexican\, Greek\, Polish\, Pittsburghese\, Cajun\, Italian & more. Every visit brings a new flavor adventure that’s guaranteed to hit the spot and keep you coming back for more! \nhttps://www.facebook.com/profile.php?id=61563591134717 \n 
URL:https://squatch-brewing.com/event/savor-my-flavor-6/
LOCATION:Squatch Brewing\, 203 Townsend Drive\, Monroeville\, PA\, 15146\, United States
CATEGORIES:Food Truck
ATTACH;FMTTYPE=image/png:https://squatch-brewing.com/wp-content/uploads/2025/06/FB-website-2.png
END:VEVENT
BEGIN:VEVENT
DTSTART;TZID=America/New_York:20251121T160000
DTEND;TZID=America/New_York:20251121T200000
DTSTAMP:20260423T005208
CREATED:20251023T134041Z
LAST-MODIFIED:20251023T134041Z
UID:10001021-1763740800-1763755200@squatch-brewing.com
SUMMARY:Affordable Elegance International Cafe
DESCRIPTION:Where craft beer meets culinary class — indulge in handcrafted sandwiches from Affordable Elegance International Café \nhttps://www.facebook.com/AffordableEleganceLLC
URL:https://squatch-brewing.com/event/affordable-elegance-international-cafe-8/
LOCATION:Squatch Brewing\, 203 Townsend Drive\, Monroeville\, PA\, 15146\, United States
CATEGORIES:Food Truck
ATTACH;FMTTYPE=image/png:https://squatch-brewing.com/wp-content/uploads/2025/10/website_FB-1-1.png
END:VEVENT
BEGIN:VEVENT
DTSTART;TZID=America/New_York:20251122T150000
DTEND;TZID=America/New_York:20251122T190000
DTSTAMP:20260423T005208
CREATED:20250804T132237Z
LAST-MODIFIED:20250821T180345Z
UID:10000903-1763823600-1763838000@squatch-brewing.com
SUMMARY:El Rincon Mexican Food Truck
DESCRIPTION:🌶️ Spice up your day with El Rincón Oaxaqueño! Authentic Oaxacan cuisine made fresh\, full of bold flavors\, and guaranteed to transport your taste buds south of the border. \nhttps://www.facebook.com/profile.php?id=100067595191698
URL:https://squatch-brewing.com/event/el-rincon-mexican-food-truck-4/
LOCATION:Squatch Brewing\, 203 Townsend Drive\, Monroeville\, PA\, 15146\, United States
CATEGORIES:Food Truck
ATTACH;FMTTYPE=image/png:https://squatch-brewing.com/wp-content/uploads/2025/07/FB-website-6.png
END:VEVENT
BEGIN:VEVENT
DTSTART;TZID=America/New_York:20251126T170000
DTEND;TZID=America/New_York:20251126T200000
DTSTAMP:20260423T005208
CREATED:20251006T181321Z
LAST-MODIFIED:20251006T181321Z
UID:10000968-1764176400-1764187200@squatch-brewing.com
SUMMARY:Pittsburgh Smokehouse
DESCRIPTION:Pittsburgh Smokehouse will be here serving up their mouthwatering BBQ\, adding smoky flavor to the Thanksgiving Eve festivities. Gather your friends\, enjoy great craft beer\, and start your holiday celebrations the Squatch way!
URL:https://squatch-brewing.com/event/pittsburgh-smokehouse-22/
LOCATION:Squatch Brewing\, 203 Townsend Drive\, Monroeville\, PA\, 15146\, United States
CATEGORIES:Food Truck
ATTACH;FMTTYPE=image/png:https://squatch-brewing.com/wp-content/uploads/2025/05/website-jpg.png
END:VEVENT
BEGIN:VEVENT
DTSTART;TZID=America/New_York:20251129T150000
DTEND;TZID=America/New_York:20251129T190000
DTSTAMP:20260423T005208
CREATED:20250912T171647Z
LAST-MODIFIED:20250912T171647Z
UID:10000939-1764428400-1764442800@squatch-brewing.com
SUMMARY:Bull River Taco
DESCRIPTION:🐂 Bullish on FlavorTacos that charge full speed at your taste buds. \nhttps://www.facebook.com/profile.php?id=100063477911569
URL:https://squatch-brewing.com/event/bull-river-taco-2/
LOCATION:Squatch Brewing\, 203 Townsend Drive\, Monroeville\, PA\, 15146\, United States
CATEGORIES:Food Truck
ATTACH;FMTTYPE=image/png:https://squatch-brewing.com/wp-content/uploads/2025/09/FB_website-5.png
END:VEVENT
BEGIN:VEVENT
DTSTART;TZID=America/New_York:20251130T143000
DTEND;TZID=America/New_York:20251130T180000
DTSTAMP:20260423T005208
CREATED:20251028T144105Z
LAST-MODIFIED:20251028T144105Z
UID:10001035-1764513000-1764525600@squatch-brewing.com
SUMMARY:WingFest presented by Pittsburgh Smokehouse
DESCRIPTION:Ohhh buddy\, this one’s gonna be a good’n! 🖤💛 \n🍗 WingFest presented by Pittsburgh Smokehouse 🍗Head dahn to Squatch Brewing on Sunday\, Nov 30th from 2:30–6 for a yinzer feast fit for gameday! We’re talkin’ wings smothered\, sauced\, and downright delicious — perfect fuel to watch the Stillers take on Buffalo. \nSo grab yer Terrible Towel\, round up the crew\, an’ come hungry — ‘cause it’s gonna be n’at kinda Sunday! \nWings\, beer\, football… what else ya need? 🏈🍺🔥
URL:https://squatch-brewing.com/event/wingfest-presented-by-pittsburgh-smokehouse/
LOCATION:Squatch Brewing\, 203 Townsend Drive\, Monroeville\, PA\, 15146\, United States
CATEGORIES:Food Truck
ATTACH;FMTTYPE=image/png:https://squatch-brewing.com/wp-content/uploads/2025/10/wingfest-website_fb.png
END:VEVENT
BEGIN:VEVENT
DTSTART;TZID=America/New_York:20251204T160000
DTEND;TZID=America/New_York:20251204T200000
DTSTAMP:20260423T005208
CREATED:20250912T175706Z
LAST-MODIFIED:20250912T175706Z
UID:10000940-1764864000-1764878400@squatch-brewing.com
SUMMARY:Bull River Taco
DESCRIPTION: Bullish on FlavorTacos that charge full speed at your taste buds. \nhttps://www.facebook.com/profile.php?id=100063477911569
URL:https://squatch-brewing.com/event/bull-river-taco-3/
LOCATION:Squatch Brewing\, 203 Townsend Drive\, Monroeville\, PA\, 15146\, United States
CATEGORIES:Food Truck
ATTACH;FMTTYPE=image/png:https://squatch-brewing.com/wp-content/uploads/2025/09/FB_website-5.png
END:VEVENT
BEGIN:VEVENT
DTSTART;TZID=America/New_York:20251205T160000
DTEND;TZID=America/New_York:20251205T200000
DTSTAMP:20260423T005208
CREATED:20251014T173609Z
LAST-MODIFIED:20251014T173609Z
UID:10001000-1764950400-1764964800@squatch-brewing.com
SUMMARY:Savor my Flavor
DESCRIPTION:Craving something delicious? Savor My Flavor has you covered! From cheesy\, melty cheesesteaks to crispy fries\, golden chicken tenders\, and daily chef’s specials that change with every visit — there’s always something new to love. Fresh\, fun\, and full of flavor! \nhttps://www.facebook.com/profile.php?id=61563591134717
URL:https://squatch-brewing.com/event/savor-my-flavor-10/
LOCATION:Squatch Brewing\, 203 Townsend Drive\, Monroeville\, PA\, 15146\, United States
CATEGORIES:Food Truck
ATTACH;FMTTYPE=image/png:https://squatch-brewing.com/wp-content/uploads/2025/06/FB-website-2.png
END:VEVENT
BEGIN:VEVENT
DTSTART;TZID=America/New_York:20251207T130000
DTEND;TZID=America/New_York:20251207T150000
DTSTAMP:20260423T005208
CREATED:20251124T171246Z
LAST-MODIFIED:20251124T171246Z
UID:10001081-1765112400-1765119600@squatch-brewing.com
SUMMARY:SausageFest
DESCRIPTION:🌭🔥 SAUSAGE FEST! 🔥🌭\nBrought to you by Pittsburgh Smokehouse \nFeast like a champion: \n\nHot & Sweet Sausage 🌶️🍬\nKielbasa with Kraut 🥨\nBrats with Kraut 🥨\n\nFuel up before the Steelers vs Ravens showdown! 🍺🏈 \n 
URL:https://squatch-brewing.com/event/sausagefest/
LOCATION:Squatch Brewing\, 203 Townsend Drive\, Monroeville\, PA\, 15146\, United States
CATEGORIES:Food Truck
ATTACH;FMTTYPE=image/png:https://squatch-brewing.com/wp-content/uploads/2025/11/Website_FB-1-1.png
END:VEVENT
BEGIN:VEVENT
DTSTART;TZID=America/New_York:20251212T080000
DTEND;TZID=America/New_York:20251212T170000
DTSTAMP:20260423T005208
CREATED:20251212T171050Z
LAST-MODIFIED:20251212T171050Z
UID:10001120-1765526400-1765558800@squatch-brewing.com
SUMMARY:Blazzin Hibachi
DESCRIPTION:Get ready—Blazzin Hibachi is on the way with fresh ingredients\, bold flavors\, and hibachi made to order. Come hungry!
URL:https://squatch-brewing.com/event/blazzin-hibachi-4/
LOCATION:Squatch Brewing\, 203 Townsend Drive\, Monroeville\, PA\, 15146\, United States
CATEGORIES:Food Truck
ATTACH;FMTTYPE=image/png:https://squatch-brewing.com/wp-content/uploads/2025/06/website_FB.png
END:VEVENT
BEGIN:VEVENT
DTSTART;TZID=America/New_York:20251212T160000
DTEND;TZID=America/New_York:20251212T200000
DTSTAMP:20260423T005208
CREATED:20251030T164535Z
LAST-MODIFIED:20251030T164535Z
UID:10001039-1765555200-1765569600@squatch-brewing.com
SUMMARY:Quick-E
DESCRIPTION:🍺🌮 Tacos\, burgers\, fries — oh my! Quick E’s got the eats and we’ve got the craft beer to match. Swing by for good food\, great brews\, and even better vibes!
URL:https://squatch-brewing.com/event/quick-e/
LOCATION:Squatch Brewing\, 203 Townsend Drive\, Monroeville\, PA\, 15146\, United States
CATEGORIES:Food Truck
ATTACH;FMTTYPE=image/png:https://squatch-brewing.com/wp-content/uploads/2025/09/FB_website-6.png
END:VEVENT
BEGIN:VEVENT
DTSTART;TZID=America/New_York:20251213T160000
DTEND;TZID=America/New_York:20251213T200000
DTSTAMP:20260423T005208
CREATED:20250403T161927Z
LAST-MODIFIED:20251119T141518Z
UID:10000831-1765641600-1765656000@squatch-brewing.com
SUMMARY:Rollies Fried Spring Rolls
DESCRIPTION:Rollies Fried Spring Rolls is bringing the crunch! Freshly rolled\, perfectly fried\, and packed with bold flavors—these golden bites are the ultimate handheld snack you won’t want to share. Crispy outside\, savory inside… one roll and you’ll be hooked! \nhttps://www.facebook.com/rollies.pittsburgh
URL:https://squatch-brewing.com/event/rollies-fried-spring-rolls-4/
LOCATION:Squatch Brewing\, 203 Townsend Drive\, Monroeville\, PA\, 15146\, United States
CATEGORIES:Food Truck
ATTACH;FMTTYPE=image/png:https://squatch-brewing.com/wp-content/uploads/2025/04/FB_website-2.png
END:VEVENT
BEGIN:VEVENT
DTSTART;TZID=America/New_York:20251218T160000
DTEND;TZID=America/New_York:20251218T200000
DTSTAMP:20260423T005208
CREATED:20251029T151904Z
LAST-MODIFIED:20251029T151904Z
UID:10001038-1766073600-1766088000@squatch-brewing.com
SUMMARY:Affordable Elegance
DESCRIPTION:🎶 Music Bingo Night just got tastier! 🎵Affordable Elegance International Café is rollin’ up and serving up their crowd-favorite gourmet eats while you sip craft beer and sing along to the tunes. Come hungry\, play loud\, and let’s make it a night to remember!
URL:https://squatch-brewing.com/event/affordable-elegance-6/
LOCATION:Squatch Brewing\, 203 Townsend Drive\, Monroeville\, PA\, 15146\, United States
CATEGORIES:Food Truck
ATTACH;FMTTYPE=image/png:https://squatch-brewing.com/wp-content/uploads/2025/02/affordable-elegance-website-photo.png
END:VEVENT
BEGIN:VEVENT
DTSTART;TZID=America/New_York:20251219T160000
DTEND;TZID=America/New_York:20251219T200000
DTSTAMP:20260423T005208
CREATED:20251030T170704Z
LAST-MODIFIED:20251030T170704Z
UID:10001040-1766160000-1766174400@squatch-brewing.com
SUMMARY:Savor my Flavor
DESCRIPTION: “Craving something delicious? Savor My Flavor has you covered! From cheesy\, melty cheesesteaks to crispy fries\, golden chicken tenders\, and daily chef’s specials that change with every visit — there’s always something new to love. Fresh\, fun\, and full of flavor!”https://www.facebook.com/profile.php?id=61563591134717
URL:https://squatch-brewing.com/event/savor-my-flavor-11/
LOCATION:Squatch Brewing\, 203 Townsend Drive\, Monroeville\, PA\, 15146\, United States
CATEGORIES:Food Truck
ATTACH;FMTTYPE=image/png:https://squatch-brewing.com/wp-content/uploads/2025/06/FB-website-2.png
END:VEVENT
BEGIN:VEVENT
DTSTART;TZID=America/New_York:20251220T160000
DTEND;TZID=America/New_York:20251220T200000
DTSTAMP:20260423T005208
CREATED:20251219T165536Z
LAST-MODIFIED:20251219T165536Z
UID:10001127-1766246400-1766260800@squatch-brewing.com
SUMMARY:Affordable Elegance International Cafe'
DESCRIPTION:Affordable Elegance International Café is rollin’ up and serving their crowd-favorite gourmet eats while you sip craft beer and enjoy the tunes of Bill Young Acoustics.
URL:https://squatch-brewing.com/event/affordable-elegance-international-cafe-9/
LOCATION:Squatch Brewing\, 203 Townsend Drive\, Monroeville\, PA\, 15146\, United States
CATEGORIES:Food Truck
ATTACH;FMTTYPE=image/png:https://squatch-brewing.com/wp-content/uploads/2025/06/affordable-elegance-website-photo.png
END:VEVENT
BEGIN:VEVENT
DTSTART;TZID=America/New_York:20251223T170000
DTEND;TZID=America/New_York:20251223T210000
DTSTAMP:20260423T005208
CREATED:20251031T174047Z
LAST-MODIFIED:20251031T174047Z
UID:10001043-1766509200-1766523600@squatch-brewing.com
SUMMARY:Pittsburgh Smokehouse
DESCRIPTION:No tinsel\, no stress — just beer and meatloaf.Celebrate Festivus with Pittsburgh Smokehouse’s smoked meatloaf dinner and all your usual favorites.Because nothing says Festivus like good food and great beer. 🍻
URL:https://squatch-brewing.com/event/pittsburgh-smokehouse-25/
LOCATION:Squatch Brewing\, 203 Townsend Drive\, Monroeville\, PA\, 15146\, United States
CATEGORIES:Food Truck
ATTACH;FMTTYPE=image/png:https://squatch-brewing.com/wp-content/uploads/2025/10/251223-FB_website-2.png
END:VEVENT
BEGIN:VEVENT
DTSTART;TZID=America/New_York:20260103T160000
DTEND;TZID=America/New_York:20260103T190000
DTSTAMP:20260423T005208
CREATED:20251229T180146Z
LAST-MODIFIED:20251229T182100Z
UID:10001128-1767456000-1767466800@squatch-brewing.com
SUMMARY:Pittsburgh Smokehouse
DESCRIPTION:Clear your calendar & loosen your belt 😏Pittsburgh Smokehouse is parking the Mighty Meat Wagon at Squatch📅 Sat\, Jan 3 | ⏰ 4–7 PMSmoked meats + craft beers = perfection.
URL:https://squatch-brewing.com/event/pittsburgh-smokehouse-27/
LOCATION:Squatch Brewing\, 203 Townsend Drive\, Monroeville\, PA\, 15146\, United States
CATEGORIES:Food Truck
ATTACH;FMTTYPE=image/png:https://squatch-brewing.com/wp-content/uploads/2025/06/website-jpg.png
END:VEVENT
BEGIN:VEVENT
DTSTART;TZID=America/New_York:20260110T150000
DTEND;TZID=America/New_York:20260110T200000
DTSTAMP:20260423T005208
CREATED:20251212T193728Z
LAST-MODIFIED:20251212T193728Z
UID:10001125-1768057200-1768075200@squatch-brewing.com
SUMMARY:Quick E Food Truck
DESCRIPTION:Fast\, fresh\, and craft beer-friendly — Quick-E’s got the eats to match your favorite brews.
URL:https://squatch-brewing.com/event/quick-e-food-truck-3/
LOCATION:Squatch Brewing\, 203 Townsend Drive\, Monroeville\, PA\, 15146\, United States
CATEGORIES:Food Truck
ATTACH;FMTTYPE=image/png:https://squatch-brewing.com/wp-content/uploads/2025/11/FB_website-6.png
END:VEVENT
END:VCALENDAR