BEGIN:VCALENDAR
VERSION:2.0
PRODID:-//Squatch Brewing - ECPv6.15.20//NONSGML v1.0//EN
CALSCALE:GREGORIAN
METHOD:PUBLISH
X-WR-CALNAME:Squatch Brewing
X-ORIGINAL-URL:https://squatch-brewing.com
X-WR-CALDESC:Events for Squatch Brewing
REFRESH-INTERVAL;VALUE=DURATION:PT1H
X-Robots-Tag:noindex
X-PUBLISHED-TTL:PT1H
BEGIN:VTIMEZONE
TZID:America/New_York
BEGIN:DAYLIGHT
TZOFFSETFROM:-0500
TZOFFSETTO:-0400
TZNAME:EDT
DTSTART:20230312T070000
END:DAYLIGHT
BEGIN:STANDARD
TZOFFSETFROM:-0400
TZOFFSETTO:-0500
TZNAME:EST
DTSTART:20231105T060000
END:STANDARD
BEGIN:DAYLIGHT
TZOFFSETFROM:-0500
TZOFFSETTO:-0400
TZNAME:EDT
DTSTART:20240310T070000
END:DAYLIGHT
BEGIN:STANDARD
TZOFFSETFROM:-0400
TZOFFSETTO:-0500
TZNAME:EST
DTSTART:20241103T060000
END:STANDARD
BEGIN:DAYLIGHT
TZOFFSETFROM:-0500
TZOFFSETTO:-0400
TZNAME:EDT
DTSTART:20250309T070000
END:DAYLIGHT
BEGIN:STANDARD
TZOFFSETFROM:-0400
TZOFFSETTO:-0500
TZNAME:EST
DTSTART:20251102T060000
END:STANDARD
END:VTIMEZONE
BEGIN:VEVENT
DTSTART;TZID=America/New_York:20240919T160000
DTEND;TZID=America/New_York:20240919T200000
DTSTAMP:20260421T115951
CREATED:20240501T131449Z
LAST-MODIFIED:20241106T191621Z
UID:10000317-1726761600-1726776000@squatch-brewing.com
SUMMARY:Affordable Elegance International Cafe
DESCRIPTION:
URL:https://squatch-brewing.com/event/affordable-elegance-international-cafe/2024-09-19/
LOCATION:Squatch Brewing\, 203 Townsend Drive\, Monroeville\, PA\, 15146\, United States
CATEGORIES:Food Truck
ATTACH;FMTTYPE=image/png:https://squatch-brewing.com/wp-content/uploads/2024/05/Logo-e1730920571140.png
END:VEVENT
BEGIN:VEVENT
DTSTART;TZID=America/New_York:20240920T160000
DTEND;TZID=America/New_York:20240920T210000
DTSTAMP:20260421T115951
CREATED:20240326T134201Z
LAST-MODIFIED:20240724T172556Z
UID:10000098-1726848000-1726866000@squatch-brewing.com
SUMMARY:Benvenuti's Pizza Factory
DESCRIPTION:https://www.benvenutispizzafactory.com/onlinemenu-pittsburgh/
URL:https://squatch-brewing.com/event/benvenutis-pizza-factory-2/2024-09-20/
LOCATION:Squatch Brewing\, 203 Townsend Drive\, Monroeville\, PA\, 15146\, United States
CATEGORIES:Food Truck
ATTACH;FMTTYPE=image/jpeg:https://squatch-brewing.com/wp-content/uploads/2024/03/logo-4.jpg
END:VEVENT
BEGIN:VEVENT
DTSTART;TZID=America/New_York:20240921T160000
DTEND;TZID=America/New_York:20240921T210000
DTSTAMP:20260421T115951
CREATED:20240319T115628Z
LAST-MODIFIED:20241106T183534Z
UID:10000407-1726934400-1726952400@squatch-brewing.com
SUMMARY:Franken-Fried Food Truck
DESCRIPTION:www.facebook.com/Franken-Fried
URL:https://squatch-brewing.com/event/franken-fried-food-truck/2024-09-21/
LOCATION:Squatch Brewing\, 203 Townsend Drive\, Monroeville\, PA\, 15146\, United States
CATEGORIES:Food Truck
ATTACH;FMTTYPE=image/png:https://squatch-brewing.com/wp-content/uploads/2024/03/FF-Logo-e1730918119485.png
END:VEVENT
BEGIN:VEVENT
DTSTART;TZID=America/New_York:20240922T130000
DTEND;TZID=America/New_York:20240922T170000
DTSTAMP:20260421T115951
CREATED:20240430T165001Z
LAST-MODIFIED:20241106T183809Z
UID:10000254-1727010000-1727024400@squatch-brewing.com
SUMMARY:Rockin' Dogs and Spuds
DESCRIPTION:rockindogsandspuds@gmail.com \nhttps://www.facebook.com/RockinDogsandSpuds/
URL:https://squatch-brewing.com/event/rockin-dogs-and-spuds/2024-09-22/
LOCATION:Squatch Brewing\, 203 Townsend Drive\, Monroeville\, PA\, 15146\, United States
CATEGORIES:Food Truck
ATTACH;FMTTYPE=image/png:https://squatch-brewing.com/wp-content/uploads/2024/04/Logo2-e1730918281605.png
END:VEVENT
BEGIN:VEVENT
DTSTART;TZID=America/New_York:20240927T160000
DTEND;TZID=America/New_York:20240927T200000
DTSTAMP:20260421T115951
CREATED:20240311T131933Z
LAST-MODIFIED:20240731T152912Z
UID:10000204-1727452800-1727467200@squatch-brewing.com
SUMMARY:Hibachi Lou Food Truck
DESCRIPTION:www.facebook.com/hibachlou412/
URL:https://squatch-brewing.com/event/hibachi-lou-food-truck/2024-09-27/
LOCATION:Squatch Brewing\, 203 Townsend Drive\, Monroeville\, PA\, 15146\, United States
CATEGORIES:Food Truck
ATTACH;FMTTYPE=image/jpeg:https://squatch-brewing.com/wp-content/uploads/2024/03/logo-e1730916923839.jpg
END:VEVENT
BEGIN:VEVENT
DTSTART;TZID=America/New_York:20240927T160000
DTEND;TZID=America/New_York:20240927T200000
DTSTAMP:20260421T115951
CREATED:20241011T164748Z
LAST-MODIFIED:20250825T181553Z
UID:10000467-1727452800-1727467200@squatch-brewing.com
SUMMARY:Hibachi Lou Food Truck
DESCRIPTION:🥩🍚🍺 Meat on the grill\, rice on the side\, and beer to wash it down—Hibachi Lou is here to feast! \nwww.facebook.com/hibachlou412/
URL:https://squatch-brewing.com/event/hibachi-lou-food-truck-2/2024-09-27/
LOCATION:Squatch Brewing\, 203 Townsend Drive\, Monroeville\, PA\, 15146\, United States
CATEGORIES:Food Truck
ATTACH;FMTTYPE=image/jpeg:https://squatch-brewing.com/wp-content/uploads/2024/03/logo-e1730916923839.jpg
END:VEVENT
BEGIN:VEVENT
DTSTART;TZID=America/New_York:20240929T140000
DTEND;TZID=America/New_York:20240929T180000
DTSTAMP:20260421T115951
CREATED:20240416T171140Z
LAST-MODIFIED:20240829T165253Z
UID:10000338-1727618400-1727632800@squatch-brewing.com
SUMMARY:Blazzin Hibachi on Wheels
DESCRIPTION:www.facebook.com/blazzinhibachionwheels
URL:https://squatch-brewing.com/event/blazzin-hibachi-on-wheels/2024-09-29/
LOCATION:Squatch Brewing\, 203 Townsend Drive\, Monroeville\, PA\, 15146\, United States
CATEGORIES:Food Truck
ATTACH;FMTTYPE=image/jpeg:https://squatch-brewing.com/wp-content/uploads/2024/04/Logo-4-e1713287578803.jpg
END:VEVENT
BEGIN:VEVENT
DTSTART;TZID=America/New_York:20240929T140000
DTEND;TZID=America/New_York:20240929T180000
DTSTAMP:20260421T115951
CREATED:20250821T174052Z
LAST-MODIFIED:20250825T183723Z
UID:10000922-1727618400-1727632800@squatch-brewing.com
SUMMARY:Blazzin Hibachi on Wheels
DESCRIPTION:🥢🍤🍺 Grill\, chill\, repeat: Blazzin Hibachi is bringing flavor and fun to your plate! \nwww.facebook.com/blazzinhibachionwheels
URL:https://squatch-brewing.com/event/blazzin-hibachi-on-wheels-3/2024-09-29/
LOCATION:Squatch Brewing\, 203 Townsend Drive\, Monroeville\, PA\, 15146\, United States
CATEGORIES:Food Truck
ATTACH;FMTTYPE=image/jpeg:https://squatch-brewing.com/wp-content/uploads/2024/04/Logo-4-e1713287578803.jpg
END:VEVENT
BEGIN:VEVENT
DTSTART;TZID=America/New_York:20241003T160000
DTEND;TZID=America/New_York:20241003T200000
DTSTAMP:20260421T115951
CREATED:20241011T164748Z
LAST-MODIFIED:20250825T181553Z
UID:10000468-1727971200-1727985600@squatch-brewing.com
SUMMARY:Hibachi Lou Food Truck
DESCRIPTION:🥩🍚🍺 Meat on the grill\, rice on the side\, and beer to wash it down—Hibachi Lou is here to feast! \nwww.facebook.com/hibachlou412/
URL:https://squatch-brewing.com/event/hibachi-lou-food-truck-2/2024-10-03/
LOCATION:Squatch Brewing\, 203 Townsend Drive\, Monroeville\, PA\, 15146\, United States
CATEGORIES:Food Truck
ATTACH;FMTTYPE=image/jpeg:https://squatch-brewing.com/wp-content/uploads/2024/03/logo-e1730916923839.jpg
END:VEVENT
BEGIN:VEVENT
DTSTART;TZID=America/New_York:20241004T160000
DTEND;TZID=America/New_York:20241004T200000
DTSTAMP:20260421T115951
CREATED:20240430T165001Z
LAST-MODIFIED:20241106T183809Z
UID:10000255-1728057600-1728072000@squatch-brewing.com
SUMMARY:Rockin' Dogs and Spuds
DESCRIPTION:rockindogsandspuds@gmail.com \nhttps://www.facebook.com/RockinDogsandSpuds/
URL:https://squatch-brewing.com/event/rockin-dogs-and-spuds/2024-10-04/
LOCATION:Squatch Brewing\, 203 Townsend Drive\, Monroeville\, PA\, 15146\, United States
CATEGORIES:Food Truck
ATTACH;FMTTYPE=image/png:https://squatch-brewing.com/wp-content/uploads/2024/04/Logo2-e1730918281605.png
END:VEVENT
BEGIN:VEVENT
DTSTART;TZID=America/New_York:20241011T160000
DTEND;TZID=America/New_York:20241011T200000
DTSTAMP:20260421T115951
CREATED:20240229T185930Z
LAST-MODIFIED:20250611T161045Z
UID:10000099-1728662400-1728676800@squatch-brewing.com
SUMMARY:Pittsburgh Smokehouse
DESCRIPTION:https://www.facebook.com/pittsburgh.smokehouse/
URL:https://squatch-brewing.com/event/pittsburgh-smokehouse/2024-10-11/
LOCATION:Squatch Brewing\, 203 Townsend Drive\, Monroeville\, PA\, 15146\, United States
CATEGORIES:Food Truck
ATTACH;FMTTYPE=image/png:https://squatch-brewing.com/wp-content/uploads/2024/03/logo-e1730920153602.png
END:VEVENT
BEGIN:VEVENT
DTSTART;TZID=America/New_York:20241012T140000
DTEND;TZID=America/New_York:20241012T200000
DTSTAMP:20260421T115951
CREATED:20240516T150155Z
LAST-MODIFIED:20241107T184156Z
UID:10000165-1728741600-1728763200@squatch-brewing.com
SUMMARY:Baires Food Truck
DESCRIPTION:
URL:https://squatch-brewing.com/event/baires-food-truck/2024-10-12/
LOCATION:Squatch Brewing\, 203 Townsend Drive\, Monroeville\, PA\, 15146\, United States
CATEGORIES:Food Truck
ATTACH;FMTTYPE=image/png:https://squatch-brewing.com/wp-content/uploads/2024/05/Logo-4.png
END:VEVENT
BEGIN:VEVENT
DTSTART;TZID=America/New_York:20241018T160000
DTEND;TZID=America/New_York:20241018T200000
DTSTAMP:20260421T115951
CREATED:20240503T181906Z
LAST-MODIFIED:20240503T181906Z
UID:10000142-1729267200-1729281600@squatch-brewing.com
SUMMARY:Tocayo Food Truck
DESCRIPTION:https://www.facebook.com/tocayofoodtruckpgh
URL:https://squatch-brewing.com/event/tocayo-food-truck/2024-10-18/
LOCATION:Squatch Brewing\, 203 Townsend Drive\, Monroeville\, PA\, 15146\, United States
CATEGORIES:Food Truck
ATTACH;FMTTYPE=image/jpeg:https://squatch-brewing.com/wp-content/uploads/2024/05/278027260_117075054267898_2600603014003727897_n.jpg
END:VEVENT
BEGIN:VEVENT
DTSTART;TZID=America/New_York:20241020T150000
DTEND;TZID=America/New_York:20241020T190000
DTSTAMP:20260421T115951
CREATED:20240501T131449Z
LAST-MODIFIED:20241106T191621Z
UID:10000421-1729436400-1729450800@squatch-brewing.com
SUMMARY:Affordable Elegance International Cafe
DESCRIPTION:
URL:https://squatch-brewing.com/event/affordable-elegance-international-cafe/2024-10-20/
LOCATION:Squatch Brewing\, 203 Townsend Drive\, Monroeville\, PA\, 15146\, United States
CATEGORIES:Food Truck
ATTACH;FMTTYPE=image/png:https://squatch-brewing.com/wp-content/uploads/2024/05/Logo-e1730920571140.png
END:VEVENT
BEGIN:VEVENT
DTSTART;TZID=America/New_York:20241025T160000
DTEND;TZID=America/New_York:20241025T200000
DTSTAMP:20260421T115951
CREATED:20240326T130838Z
LAST-MODIFIED:20241106T172243Z
UID:10000064-1729872000-1729886400@squatch-brewing.com
SUMMARY:WPF Concessions
DESCRIPTION:http://www.wingspizzafries.com
URL:https://squatch-brewing.com/event/wpf-concessions/2024-10-25/
LOCATION:Squatch Brewing\, 203 Townsend Drive\, Monroeville\, PA\, 15146\, United States
CATEGORIES:Food Truck
ATTACH;FMTTYPE=image/png:https://squatch-brewing.com/wp-content/uploads/2024/03/WPF_Concessions_Logo-removebg-preview-e1730913749508.png
END:VEVENT
BEGIN:VEVENT
DTSTART;TZID=America/New_York:20241026T160000
DTEND;TZID=America/New_York:20241026T200000
DTSTAMP:20260421T115951
CREATED:20241007T114814Z
LAST-MODIFIED:20241007T114815Z
UID:10000235-1729958400-1729972800@squatch-brewing.com
SUMMARY:Affordable Elegance International Cafe
DESCRIPTION:
URL:https://squatch-brewing.com/event/affordable-elegance-international-cafe-2/
LOCATION:Squatch Brewing\, 203 Townsend Drive\, Monroeville\, PA\, 15146\, United States
CATEGORIES:Food Truck
ATTACH;FMTTYPE=image/png:https://squatch-brewing.com/wp-content/uploads/2024/05/Logo-e1730920571140.png
END:VEVENT
BEGIN:VEVENT
DTSTART;TZID=America/New_York:20241031T160000
DTEND;TZID=America/New_York:20241031T200000
DTSTAMP:20260421T115951
CREATED:20240501T131449Z
LAST-MODIFIED:20241106T191621Z
UID:10000319-1730390400-1730404800@squatch-brewing.com
SUMMARY:Affordable Elegance International Cafe
DESCRIPTION:
URL:https://squatch-brewing.com/event/affordable-elegance-international-cafe/2024-10-31/
LOCATION:Squatch Brewing\, 203 Townsend Drive\, Monroeville\, PA\, 15146\, United States
CATEGORIES:Food Truck
ATTACH;FMTTYPE=image/png:https://squatch-brewing.com/wp-content/uploads/2024/05/Logo-e1730920571140.png
END:VEVENT
BEGIN:VEVENT
DTSTART;TZID=America/New_York:20241101T160000
DTEND;TZID=America/New_York:20241101T200000
DTSTAMP:20260421T115951
CREATED:20240229T185930Z
LAST-MODIFIED:20250611T161045Z
UID:10000102-1730476800-1730491200@squatch-brewing.com
SUMMARY:Pittsburgh Smokehouse
DESCRIPTION:https://www.facebook.com/pittsburgh.smokehouse/
URL:https://squatch-brewing.com/event/pittsburgh-smokehouse/2024-11-01/
LOCATION:Squatch Brewing\, 203 Townsend Drive\, Monroeville\, PA\, 15146\, United States
CATEGORIES:Food Truck
ATTACH;FMTTYPE=image/png:https://squatch-brewing.com/wp-content/uploads/2024/03/logo-e1730920153602.png
END:VEVENT
BEGIN:VEVENT
DTSTART;TZID=America/New_York:20241108T160000
DTEND;TZID=America/New_York:20241108T200000
DTSTAMP:20260421T115951
CREATED:20240319T115628Z
LAST-MODIFIED:20241106T183534Z
UID:10000121-1731081600-1731096000@squatch-brewing.com
SUMMARY:Franken-Fried Food Truck
DESCRIPTION:www.facebook.com/Franken-Fried
URL:https://squatch-brewing.com/event/franken-fried-food-truck/2024-11-08/
LOCATION:Squatch Brewing\, 203 Townsend Drive\, Monroeville\, PA\, 15146\, United States
CATEGORIES:Food Truck
ATTACH;FMTTYPE=image/png:https://squatch-brewing.com/wp-content/uploads/2024/03/FF-Logo-e1730918119485.png
END:VEVENT
BEGIN:VEVENT
DTSTART;TZID=America/New_York:20241109T160000
DTEND;TZID=America/New_York:20241109T200000
DTSTAMP:20260421T115951
CREATED:20240326T130838Z
LAST-MODIFIED:20241106T172243Z
UID:10000565-1731168000-1731182400@squatch-brewing.com
SUMMARY:WPF Concessions
DESCRIPTION:http://www.wingspizzafries.com
URL:https://squatch-brewing.com/event/wpf-concessions/2024-11-09/
LOCATION:Squatch Brewing\, 203 Townsend Drive\, Monroeville\, PA\, 15146\, United States
CATEGORIES:Food Truck
ATTACH;FMTTYPE=image/png:https://squatch-brewing.com/wp-content/uploads/2024/03/WPF_Concessions_Logo-removebg-preview-e1730913749508.png
END:VEVENT
BEGIN:VEVENT
DTSTART;TZID=America/New_York:20241110T130000
DTEND;TZID=America/New_York:20241110T160000
DTSTAMP:20260421T115951
CREATED:20241030T182526Z
LAST-MODIFIED:20241120T203323Z
UID:10000556-1731243600-1731254400@squatch-brewing.com
SUMMARY:Bob's Sub
DESCRIPTION:https://www.facebook.com/BobsSubInc
URL:https://squatch-brewing.com/event/bobs-sub/2024-11-10/
LOCATION:Squatch Brewing\, 203 Townsend Drive\, Monroeville\, PA\, 15146\, United States
CATEGORIES:Food Truck
END:VEVENT
BEGIN:VEVENT
DTSTART;TZID=America/New_York:20241114T160000
DTEND;TZID=America/New_York:20241114T200000
DTSTAMP:20260421T115951
CREATED:20241011T164748Z
LAST-MODIFIED:20250825T181553Z
UID:10000469-1731600000-1731614400@squatch-brewing.com
SUMMARY:Hibachi Lou Food Truck
DESCRIPTION:🥩🍚🍺 Meat on the grill\, rice on the side\, and beer to wash it down—Hibachi Lou is here to feast! \nwww.facebook.com/hibachlou412/
URL:https://squatch-brewing.com/event/hibachi-lou-food-truck-2/2024-11-14/
LOCATION:Squatch Brewing\, 203 Townsend Drive\, Monroeville\, PA\, 15146\, United States
CATEGORIES:Food Truck
ATTACH;FMTTYPE=image/jpeg:https://squatch-brewing.com/wp-content/uploads/2024/03/logo-e1730916923839.jpg
END:VEVENT
BEGIN:VEVENT
DTSTART;TZID=America/New_York:20241115T160000
DTEND;TZID=America/New_York:20241115T200000
DTSTAMP:20260421T115951
CREATED:20240311T131933Z
LAST-MODIFIED:20240731T152912Z
UID:10000205-1731686400-1731700800@squatch-brewing.com
SUMMARY:Hibachi Lou Food Truck
DESCRIPTION:www.facebook.com/hibachlou412/
URL:https://squatch-brewing.com/event/hibachi-lou-food-truck/2024-11-15/
LOCATION:Squatch Brewing\, 203 Townsend Drive\, Monroeville\, PA\, 15146\, United States
CATEGORIES:Food Truck
ATTACH;FMTTYPE=image/jpeg:https://squatch-brewing.com/wp-content/uploads/2024/03/logo-e1730916923839.jpg
END:VEVENT
BEGIN:VEVENT
DTSTART;TZID=America/New_York:20241117T130000
DTEND;TZID=America/New_York:20241117T190000
DTSTAMP:20260421T115951
CREATED:20240626T122352Z
LAST-MODIFIED:20241115T145927Z
UID:10000609-1731848400-1731870000@squatch-brewing.com
SUMMARY:Smashed 'N Fried
DESCRIPTION:http://www.smashednfried.com
URL:https://squatch-brewing.com/event/smashed-n-fried/2024-11-17/
LOCATION:Squatch Brewing\, 203 Townsend Drive\, Monroeville\, PA\, 15146\, United States
CATEGORIES:Food Truck
ATTACH;FMTTYPE=image/png:https://squatch-brewing.com/wp-content/uploads/2024/06/logo-removebg-preview-1-e1730920039257.png
END:VEVENT
BEGIN:VEVENT
DTSTART;TZID=America/New_York:20241121T160000
DTEND;TZID=America/New_York:20241121T200000
DTSTAMP:20260421T115951
CREATED:20240430T165001Z
LAST-MODIFIED:20241106T183809Z
UID:10000256-1732204800-1732219200@squatch-brewing.com
SUMMARY:Rockin' Dogs and Spuds
DESCRIPTION:rockindogsandspuds@gmail.com \nhttps://www.facebook.com/RockinDogsandSpuds/
URL:https://squatch-brewing.com/event/rockin-dogs-and-spuds/2024-11-21/
LOCATION:Squatch Brewing\, 203 Townsend Drive\, Monroeville\, PA\, 15146\, United States
CATEGORIES:Food Truck
ATTACH;FMTTYPE=image/png:https://squatch-brewing.com/wp-content/uploads/2024/04/Logo2-e1730918281605.png
END:VEVENT
BEGIN:VEVENT
DTSTART;TZID=America/New_York:20241122T160000
DTEND;TZID=America/New_York:20241122T200000
DTSTAMP:20260421T115951
CREATED:20241030T182526Z
LAST-MODIFIED:20241120T203323Z
UID:10000611-1732291200-1732305600@squatch-brewing.com
SUMMARY:Bob's Sub
DESCRIPTION:https://www.facebook.com/BobsSubInc
URL:https://squatch-brewing.com/event/bobs-sub/2024-11-22/
LOCATION:Squatch Brewing\, 203 Townsend Drive\, Monroeville\, PA\, 15146\, United States
CATEGORIES:Food Truck
END:VEVENT
BEGIN:VEVENT
DTSTART;TZID=America/New_York:20241123T130000
DTEND;TZID=America/New_York:20241123T210000
DTSTAMP:20260421T115951
CREATED:20240229T195426Z
LAST-MODIFIED:20240905T182502Z
UID:10000409-1732366800-1732395600@squatch-brewing.com
SUMMARY:Cousins Maine Lobster
DESCRIPTION:https://www.cousinsmainelobster.com/locations/pittsburgh-pa/
URL:https://squatch-brewing.com/event/cousins-maine-lobster/2024-11-23/
LOCATION:Squatch Brewing\, 203 Townsend Drive\, Monroeville\, PA\, 15146\, United States
CATEGORIES:Food Truck
ATTACH;FMTTYPE=image/png:https://squatch-brewing.com/wp-content/uploads/2024/02/CML_Logo_RedBlack-copy-9.png
END:VEVENT
BEGIN:VEVENT
DTSTART;TZID=America/New_York:20241124T140000
DTEND;TZID=America/New_York:20241124T170000
DTSTAMP:20260421T115951
CREATED:20240626T122352Z
LAST-MODIFIED:20241115T145927Z
UID:10000279-1732456800-1732467600@squatch-brewing.com
SUMMARY:Smashed 'N Fried
DESCRIPTION:http://www.smashednfried.com
URL:https://squatch-brewing.com/event/smashed-n-fried/2024-11-24/
LOCATION:Squatch Brewing\, 203 Townsend Drive\, Monroeville\, PA\, 15146\, United States
CATEGORIES:Food Truck
ATTACH;FMTTYPE=image/png:https://squatch-brewing.com/wp-content/uploads/2024/06/logo-removebg-preview-1-e1730920039257.png
END:VEVENT
BEGIN:VEVENT
DTSTART;TZID=America/New_York:20241127T160000
DTEND;TZID=America/New_York:20241127T200000
DTSTAMP:20260421T115951
CREATED:20240229T185930Z
LAST-MODIFIED:20250611T161045Z
UID:10000331-1732723200-1732737600@squatch-brewing.com
SUMMARY:Pittsburgh Smokehouse
DESCRIPTION:https://www.facebook.com/pittsburgh.smokehouse/
URL:https://squatch-brewing.com/event/pittsburgh-smokehouse/2024-11-27/
LOCATION:Squatch Brewing\, 203 Townsend Drive\, Monroeville\, PA\, 15146\, United States
CATEGORIES:Food Truck
ATTACH;FMTTYPE=image/png:https://squatch-brewing.com/wp-content/uploads/2024/03/logo-e1730920153602.png
END:VEVENT
BEGIN:VEVENT
DTSTART;TZID=America/New_York:20241129T160000
DTEND;TZID=America/New_York:20241129T200000
DTSTAMP:20260421T115951
CREATED:20240501T131449Z
LAST-MODIFIED:20241106T191621Z
UID:10000232-1732896000-1732910400@squatch-brewing.com
SUMMARY:Affordable Elegance International Cafe
DESCRIPTION:
URL:https://squatch-brewing.com/event/affordable-elegance-international-cafe/2024-11-29/
LOCATION:Squatch Brewing\, 203 Townsend Drive\, Monroeville\, PA\, 15146\, United States
CATEGORIES:Food Truck
ATTACH;FMTTYPE=image/png:https://squatch-brewing.com/wp-content/uploads/2024/05/Logo-e1730920571140.png
END:VEVENT
END:VCALENDAR