BEGIN:VCALENDAR
VERSION:2.0
PRODID:-//Squatch Brewing - ECPv6.15.20//NONSGML v1.0//EN
CALSCALE:GREGORIAN
METHOD:PUBLISH
X-WR-CALNAME:Squatch Brewing
X-ORIGINAL-URL:https://squatch-brewing.com
X-WR-CALDESC:Events for Squatch Brewing
REFRESH-INTERVAL;VALUE=DURATION:PT1H
X-Robots-Tag:noindex
X-PUBLISHED-TTL:PT1H
BEGIN:VTIMEZONE
TZID:America/New_York
BEGIN:DAYLIGHT
TZOFFSETFROM:-0500
TZOFFSETTO:-0400
TZNAME:EDT
DTSTART:20230312T070000
END:DAYLIGHT
BEGIN:STANDARD
TZOFFSETFROM:-0400
TZOFFSETTO:-0500
TZNAME:EST
DTSTART:20231105T060000
END:STANDARD
BEGIN:DAYLIGHT
TZOFFSETFROM:-0500
TZOFFSETTO:-0400
TZNAME:EDT
DTSTART:20240310T070000
END:DAYLIGHT
BEGIN:STANDARD
TZOFFSETFROM:-0400
TZOFFSETTO:-0500
TZNAME:EST
DTSTART:20241103T060000
END:STANDARD
BEGIN:DAYLIGHT
TZOFFSETFROM:-0500
TZOFFSETTO:-0400
TZNAME:EDT
DTSTART:20250309T070000
END:DAYLIGHT
BEGIN:STANDARD
TZOFFSETFROM:-0400
TZOFFSETTO:-0500
TZNAME:EST
DTSTART:20251102T060000
END:STANDARD
END:VTIMEZONE
BEGIN:VEVENT
DTSTART;TZID=America/New_York:20240728T150000
DTEND;TZID=America/New_York:20240728T180000
DTSTAMP:20260421T214610
CREATED:20240614T123558Z
LAST-MODIFIED:20240724T114114Z
UID:10000269-1722178800-1722189600@squatch-brewing.com
SUMMARY:Big Black Grill
DESCRIPTION:https://www.facebook.com/Bigblackgrill
URL:https://squatch-brewing.com/event/big-black-grill/
LOCATION:Squatch Brewing\, 203 Townsend Drive\, Monroeville\, PA\, 15146\, United States
CATEGORIES:Food Truck
ATTACH;FMTTYPE=image/png:https://squatch-brewing.com/wp-content/uploads/2024/06/Picture1-2.png
END:VEVENT
BEGIN:VEVENT
DTSTART;TZID=America/New_York:20240802T160000
DTEND;TZID=America/New_York:20240802T200000
DTSTAMP:20260421T214610
CREATED:20240326T130838Z
LAST-MODIFIED:20241106T172243Z
UID:10000063-1722614400-1722628800@squatch-brewing.com
SUMMARY:WPF Concessions
DESCRIPTION:http://www.wingspizzafries.com
URL:https://squatch-brewing.com/event/wpf-concessions/2024-08-02/
LOCATION:Squatch Brewing\, 203 Townsend Drive\, Monroeville\, PA\, 15146\, United States
CATEGORIES:Food Truck
ATTACH;FMTTYPE=image/png:https://squatch-brewing.com/wp-content/uploads/2024/03/WPF_Concessions_Logo-removebg-preview-e1730913749508.png
END:VEVENT
BEGIN:VEVENT
DTSTART;TZID=America/New_York:20240803T160000
DTEND;TZID=America/New_York:20240803T200000
DTSTAMP:20260421T214610
CREATED:20240430T165001Z
LAST-MODIFIED:20241106T183809Z
UID:10000295-1722700800-1722715200@squatch-brewing.com
SUMMARY:Rockin' Dogs and Spuds
DESCRIPTION:rockindogsandspuds@gmail.com \nhttps://www.facebook.com/RockinDogsandSpuds/
URL:https://squatch-brewing.com/event/rockin-dogs-and-spuds/2024-08-03/
LOCATION:Squatch Brewing\, 203 Townsend Drive\, Monroeville\, PA\, 15146\, United States
CATEGORIES:Food Truck
ATTACH;FMTTYPE=image/png:https://squatch-brewing.com/wp-content/uploads/2024/04/Logo2-e1730918281605.png
END:VEVENT
BEGIN:VEVENT
DTSTART;TZID=America/New_York:20240804T150000
DTEND;TZID=America/New_York:20240804T190000
DTSTAMP:20260421T214610
CREATED:20240501T131449Z
LAST-MODIFIED:20241106T191621Z
UID:10000309-1722783600-1722798000@squatch-brewing.com
SUMMARY:Affordable Elegance International Cafe
DESCRIPTION:
URL:https://squatch-brewing.com/event/affordable-elegance-international-cafe/2024-08-04/
LOCATION:Squatch Brewing\, 203 Townsend Drive\, Monroeville\, PA\, 15146\, United States
CATEGORIES:Food Truck
ATTACH;FMTTYPE=image/png:https://squatch-brewing.com/wp-content/uploads/2024/05/Logo-e1730920571140.png
END:VEVENT
BEGIN:VEVENT
DTSTART;TZID=America/New_York:20240809T163000
DTEND;TZID=America/New_York:20240809T200000
DTSTAMP:20260421T214610
CREATED:20240626T143601Z
LAST-MODIFIED:20240826T123142Z
UID:10000282-1723221000-1723233600@squatch-brewing.com
SUMMARY:PGH EATZ
DESCRIPTION:https://www.pgheatz.com/
URL:https://squatch-brewing.com/event/pgh-eatz/
LOCATION:Squatch Brewing\, 203 Townsend Drive\, Monroeville\, PA\, 15146\, United States
CATEGORIES:Food Truck
ATTACH;FMTTYPE=image/png:https://squatch-brewing.com/wp-content/uploads/2024/06/Picture1-removebg-preview-1.png
END:VEVENT
BEGIN:VEVENT
DTSTART;TZID=America/New_York:20240810T130000
DTEND;TZID=America/New_York:20240810T200000
DTSTAMP:20260421T214610
CREATED:20240507T111339Z
LAST-MODIFIED:20241106T191749Z
UID:10000259-1723294800-1723320000@squatch-brewing.com
SUMMARY:Joe & Di's Cravings
DESCRIPTION:\https://www.facebook.com/people/Joe-and-Dis-Cravings/61556223285502/
URL:https://squatch-brewing.com/event/joe-dis-cravings/2024-08-10/
LOCATION:Squatch Brewing\, 203 Townsend Drive\, Monroeville\, PA\, 15146\, United States
CATEGORIES:Food Truck
ATTACH;FMTTYPE=image/png:https://squatch-brewing.com/wp-content/uploads/2024/05/Logo-2-e1730920654821.png
END:VEVENT
BEGIN:VEVENT
DTSTART;TZID=America/New_York:20240815T160000
DTEND;TZID=America/New_York:20240815T200000
DTSTAMP:20260421T214610
CREATED:20240501T131449Z
LAST-MODIFIED:20241106T191621Z
UID:10000316-1723737600-1723752000@squatch-brewing.com
SUMMARY:Affordable Elegance International Cafe
DESCRIPTION:
URL:https://squatch-brewing.com/event/affordable-elegance-international-cafe/2024-08-15/
LOCATION:Squatch Brewing\, 203 Townsend Drive\, Monroeville\, PA\, 15146\, United States
CATEGORIES:Food Truck
ATTACH;FMTTYPE=image/png:https://squatch-brewing.com/wp-content/uploads/2024/05/Logo-e1730920571140.png
END:VEVENT
BEGIN:VEVENT
DTSTART;TZID=America/New_York:20240816T160000
DTEND;TZID=America/New_York:20240816T210000
DTSTAMP:20260421T214610
CREATED:20240326T134201Z
LAST-MODIFIED:20240724T172556Z
UID:10000095-1723824000-1723842000@squatch-brewing.com
SUMMARY:Benvenuti's Pizza Factory
DESCRIPTION:https://www.benvenutispizzafactory.com/onlinemenu-pittsburgh/
URL:https://squatch-brewing.com/event/benvenutis-pizza-factory-2/2024-08-16/
LOCATION:Squatch Brewing\, 203 Townsend Drive\, Monroeville\, PA\, 15146\, United States
CATEGORIES:Food Truck
ATTACH;FMTTYPE=image/jpeg:https://squatch-brewing.com/wp-content/uploads/2024/03/logo-4.jpg
END:VEVENT
BEGIN:VEVENT
DTSTART;TZID=America/New_York:20240817T140000
DTEND;TZID=America/New_York:20240817T200000
DTSTAMP:20260421T214610
CREATED:20240503T181906Z
LAST-MODIFIED:20240503T181906Z
UID:10000141-1723903200-1723924800@squatch-brewing.com
SUMMARY:Tocayo Food Truck
DESCRIPTION:https://www.facebook.com/tocayofoodtruckpgh
URL:https://squatch-brewing.com/event/tocayo-food-truck/2024-08-17/
LOCATION:Squatch Brewing\, 203 Townsend Drive\, Monroeville\, PA\, 15146\, United States
CATEGORIES:Food Truck
ATTACH;FMTTYPE=image/jpeg:https://squatch-brewing.com/wp-content/uploads/2024/05/278027260_117075054267898_2600603014003727897_n.jpg
END:VEVENT
BEGIN:VEVENT
DTSTART;TZID=America/New_York:20240818T140000
DTEND;TZID=America/New_York:20240818T190000
DTSTAMP:20260421T214610
CREATED:20240416T170415Z
LAST-MODIFIED:20240709T160822Z
UID:10000107-1723989600-1724007600@squatch-brewing.com
SUMMARY:Yovi's Food Truck
DESCRIPTION:www.facebook.com/Yovis
URL:https://squatch-brewing.com/event/yovis-food-truck/2024-08-18/
LOCATION:Squatch Brewing\, 203 Townsend Drive\, Monroeville\, PA\, 15146\, United States
CATEGORIES:Food Truck
ATTACH;FMTTYPE=image/jpeg:https://squatch-brewing.com/wp-content/uploads/2024/04/FB-logo.jpg
END:VEVENT
BEGIN:VEVENT
DTSTART;TZID=America/New_York:20240823T160000
DTEND;TZID=America/New_York:20240823T200000
DTSTAMP:20260421T214610
CREATED:20240229T185930Z
LAST-MODIFIED:20250611T161045Z
UID:10000096-1724428800-1724443200@squatch-brewing.com
SUMMARY:Pittsburgh Smokehouse
DESCRIPTION:https://www.facebook.com/pittsburgh.smokehouse/
URL:https://squatch-brewing.com/event/pittsburgh-smokehouse/2024-08-23/
LOCATION:Squatch Brewing\, 203 Townsend Drive\, Monroeville\, PA\, 15146\, United States
CATEGORIES:Food Truck
ATTACH;FMTTYPE=image/png:https://squatch-brewing.com/wp-content/uploads/2024/03/logo-e1730920153602.png
END:VEVENT
BEGIN:VEVENT
DTSTART;TZID=America/New_York:20240824T163000
DTEND;TZID=America/New_York:20240824T200000
DTSTAMP:20260421T214610
CREATED:20240502T114321Z
LAST-MODIFIED:20240715T180503Z
UID:10000294-1724517000-1724529600@squatch-brewing.com
SUMMARY:Rollies Fried Spring Rolls
DESCRIPTION:https://www.facebook.com/rollies.pittsburgh/
URL:https://squatch-brewing.com/event/rollies-fried-spring-rolls/2024-08-24/
LOCATION:Squatch Brewing\, 203 Townsend Drive\, Monroeville\, PA\, 15146\, United States
CATEGORIES:Food Truck
ATTACH;FMTTYPE=image/jpeg:https://squatch-brewing.com/wp-content/uploads/2024/05/Logo.jpg
END:VEVENT
BEGIN:VEVENT
DTSTART;TZID=America/New_York:20240829T160000
DTEND;TZID=America/New_York:20240829T200000
DTSTAMP:20260421T214610
CREATED:20240229T185930Z
LAST-MODIFIED:20250611T161045Z
UID:10000311-1724947200-1724961600@squatch-brewing.com
SUMMARY:Pittsburgh Smokehouse
DESCRIPTION:https://www.facebook.com/pittsburgh.smokehouse/
URL:https://squatch-brewing.com/event/pittsburgh-smokehouse/2024-08-29/
LOCATION:Squatch Brewing\, 203 Townsend Drive\, Monroeville\, PA\, 15146\, United States
CATEGORIES:Food Truck
ATTACH;FMTTYPE=image/png:https://squatch-brewing.com/wp-content/uploads/2024/03/logo-e1730920153602.png
END:VEVENT
BEGIN:VEVENT
DTSTART;TZID=America/New_York:20240830T160000
DTEND;TZID=America/New_York:20240830T200000
DTSTAMP:20260421T214610
CREATED:20240603T170932Z
LAST-MODIFIED:20240603T171842Z
UID:10000249-1725033600-1725048000@squatch-brewing.com
SUMMARY:Bridge City Brinery
DESCRIPTION:https://bridgecitybrinery.com/menu
URL:https://squatch-brewing.com/event/bridge-city-brinery/
LOCATION:Squatch Brewing\, 203 Townsend Drive\, Monroeville\, PA\, 15146\, United States
CATEGORIES:Food Truck
ATTACH;FMTTYPE=image/png:https://squatch-brewing.com/wp-content/uploads/2024/06/302190246_755024755872571_3022298718236115099_n-removebg-preview.png
END:VEVENT
BEGIN:VEVENT
DTSTART;TZID=America/New_York:20240831T160000
DTEND;TZID=America/New_York:20240831T200000
DTSTAMP:20260421T214610
CREATED:20240501T131449Z
LAST-MODIFIED:20241106T191621Z
UID:10000336-1725120000-1725134400@squatch-brewing.com
SUMMARY:Affordable Elegance International Cafe
DESCRIPTION:
URL:https://squatch-brewing.com/event/affordable-elegance-international-cafe/2024-08-31/
LOCATION:Squatch Brewing\, 203 Townsend Drive\, Monroeville\, PA\, 15146\, United States
CATEGORIES:Food Truck
ATTACH;FMTTYPE=image/png:https://squatch-brewing.com/wp-content/uploads/2024/05/Logo-e1730920571140.png
END:VEVENT
BEGIN:VEVENT
DTSTART;TZID=America/New_York:20240901T150000
DTEND;TZID=America/New_York:20240901T190000
DTSTAMP:20260421T214610
CREATED:20240501T131449Z
LAST-MODIFIED:20241106T191621Z
UID:10000310-1725202800-1725217200@squatch-brewing.com
SUMMARY:Affordable Elegance International Cafe
DESCRIPTION:
URL:https://squatch-brewing.com/event/affordable-elegance-international-cafe/2024-09-01/
LOCATION:Squatch Brewing\, 203 Townsend Drive\, Monroeville\, PA\, 15146\, United States
CATEGORIES:Food Truck
ATTACH;FMTTYPE=image/png:https://squatch-brewing.com/wp-content/uploads/2024/05/Logo-e1730920571140.png
END:VEVENT
BEGIN:VEVENT
DTSTART;TZID=America/New_York:20240905T163000
DTEND;TZID=America/New_York:20240905T193000
DTSTAMP:20260421T214610
CREATED:20240229T195308Z
LAST-MODIFIED:20240828T173836Z
UID:10000337-1725553800-1725564600@squatch-brewing.com
SUMMARY:Ash & Kris Kitchen Mediterranean
DESCRIPTION:http://www.ashkris.com
URL:https://squatch-brewing.com/event/ash-kris-kitchen-mediterranean/2024-09-05/
LOCATION:Squatch Brewing\, 203 Townsend Drive\, Monroeville\, PA\, 15146\, United States
CATEGORIES:Food Truck
ATTACH;FMTTYPE=image/png:https://squatch-brewing.com/wp-content/uploads/2024/02/AKK_Logo.png
END:VEVENT
BEGIN:VEVENT
DTSTART;TZID=America/New_York:20240906T160000
DTEND;TZID=America/New_York:20240906T200000
DTSTAMP:20260421T214610
CREATED:20240523T155950Z
LAST-MODIFIED:20240829T181334Z
UID:10000400-1725638400-1725652800@squatch-brewing.com
SUMMARY:Let's Taco
DESCRIPTION:https://www.facebook.com/mytacofoodtruckpgh
URL:https://squatch-brewing.com/event/let/2024-09-06/
LOCATION:Squatch Brewing\, 203 Townsend Drive\, Monroeville\, PA\, 15146\, United States
CATEGORIES:Food Truck
ATTACH;FMTTYPE=image/jpeg:https://squatch-brewing.com/wp-content/uploads/2024/05/logo-3.jpg
END:VEVENT
BEGIN:VEVENT
DTSTART;TZID=America/New_York:20240907T150000
DTEND;TZID=America/New_York:20240907T200000
DTSTAMP:20260421T214610
CREATED:20240321T120105Z
LAST-MODIFIED:20240829T164759Z
UID:10000027-1725721200-1725739200@squatch-brewing.com
SUMMARY:Billu's Indian Grill
DESCRIPTION:https://www.facebook.com/BillusIndianGrill/
URL:https://squatch-brewing.com/event/billus-indian-grill/
LOCATION:Squatch Brewing\, 203 Townsend Drive\, Monroeville\, PA\, 15146\, United States
CATEGORIES:Food Truck
ATTACH;FMTTYPE=image/jpeg:https://squatch-brewing.com/wp-content/uploads/2024/03/404476502_1053600672279187_4855806363256002705_n.jpg
END:VEVENT
BEGIN:VEVENT
DTSTART;TZID=America/New_York:20240907T150000
DTEND;TZID=America/New_York:20240907T200000
DTSTAMP:20260421T214610
CREATED:20241011T161022Z
LAST-MODIFIED:20250825T180119Z
UID:10000452-1725721200-1725739200@squatch-brewing.com
SUMMARY:Billu's Indian Grill
DESCRIPTION:Serving up rich flavors\, and authentic Indian delights you’ll crave again and again! \nhttps://www.facebook.com/BillusIndianGrill/
URL:https://squatch-brewing.com/event/billus-indian-grill-2/2024-09-07/
LOCATION:Squatch Brewing\, 203 Townsend Drive\, Monroeville\, PA\, 15146\, United States
CATEGORIES:Food Truck
ATTACH;FMTTYPE=image/png:https://squatch-brewing.com/wp-content/uploads/2024/10/Untitled-design-11-2.png
END:VEVENT
BEGIN:VEVENT
DTSTART;TZID=America/New_York:20240913T160000
DTEND;TZID=America/New_York:20240913T210000
DTSTAMP:20260421T214610
CREATED:20240321T120556Z
LAST-MODIFIED:20240321T120556Z
UID:10000028-1726243200-1726261200@squatch-brewing.com
SUMMARY:Just Roll'd Up Street Sushi & Poke
DESCRIPTION:https://www.facebook.com/justrolldup/ \nhttps://justrolldup.com/
URL:https://squatch-brewing.com/event/just-rolld-up-street-sushi-poke/
LOCATION:Squatch Brewing\, 203 Townsend Drive\, Monroeville\, PA\, 15146\, United States
CATEGORIES:Food Truck
ATTACH;FMTTYPE=image/png:https://squatch-brewing.com/wp-content/uploads/2024/03/just-rolled-up-truck-V2.png
END:VEVENT
BEGIN:VEVENT
DTSTART;TZID=America/New_York:20240919T160000
DTEND;TZID=America/New_York:20240919T200000
DTSTAMP:20260421T214610
CREATED:20240501T131449Z
LAST-MODIFIED:20241106T191621Z
UID:10000317-1726761600-1726776000@squatch-brewing.com
SUMMARY:Affordable Elegance International Cafe
DESCRIPTION:
URL:https://squatch-brewing.com/event/affordable-elegance-international-cafe/2024-09-19/
LOCATION:Squatch Brewing\, 203 Townsend Drive\, Monroeville\, PA\, 15146\, United States
CATEGORIES:Food Truck
ATTACH;FMTTYPE=image/png:https://squatch-brewing.com/wp-content/uploads/2024/05/Logo-e1730920571140.png
END:VEVENT
BEGIN:VEVENT
DTSTART;TZID=America/New_York:20240920T160000
DTEND;TZID=America/New_York:20240920T210000
DTSTAMP:20260421T214610
CREATED:20240326T134201Z
LAST-MODIFIED:20240724T172556Z
UID:10000098-1726848000-1726866000@squatch-brewing.com
SUMMARY:Benvenuti's Pizza Factory
DESCRIPTION:https://www.benvenutispizzafactory.com/onlinemenu-pittsburgh/
URL:https://squatch-brewing.com/event/benvenutis-pizza-factory-2/2024-09-20/
LOCATION:Squatch Brewing\, 203 Townsend Drive\, Monroeville\, PA\, 15146\, United States
CATEGORIES:Food Truck
ATTACH;FMTTYPE=image/jpeg:https://squatch-brewing.com/wp-content/uploads/2024/03/logo-4.jpg
END:VEVENT
BEGIN:VEVENT
DTSTART;TZID=America/New_York:20240921T160000
DTEND;TZID=America/New_York:20240921T210000
DTSTAMP:20260421T214610
CREATED:20240319T115628Z
LAST-MODIFIED:20241106T183534Z
UID:10000407-1726934400-1726952400@squatch-brewing.com
SUMMARY:Franken-Fried Food Truck
DESCRIPTION:www.facebook.com/Franken-Fried
URL:https://squatch-brewing.com/event/franken-fried-food-truck/2024-09-21/
LOCATION:Squatch Brewing\, 203 Townsend Drive\, Monroeville\, PA\, 15146\, United States
CATEGORIES:Food Truck
ATTACH;FMTTYPE=image/png:https://squatch-brewing.com/wp-content/uploads/2024/03/FF-Logo-e1730918119485.png
END:VEVENT
BEGIN:VEVENT
DTSTART;TZID=America/New_York:20240922T130000
DTEND;TZID=America/New_York:20240922T170000
DTSTAMP:20260421T214610
CREATED:20240430T165001Z
LAST-MODIFIED:20241106T183809Z
UID:10000254-1727010000-1727024400@squatch-brewing.com
SUMMARY:Rockin' Dogs and Spuds
DESCRIPTION:rockindogsandspuds@gmail.com \nhttps://www.facebook.com/RockinDogsandSpuds/
URL:https://squatch-brewing.com/event/rockin-dogs-and-spuds/2024-09-22/
LOCATION:Squatch Brewing\, 203 Townsend Drive\, Monroeville\, PA\, 15146\, United States
CATEGORIES:Food Truck
ATTACH;FMTTYPE=image/png:https://squatch-brewing.com/wp-content/uploads/2024/04/Logo2-e1730918281605.png
END:VEVENT
BEGIN:VEVENT
DTSTART;TZID=America/New_York:20240927T160000
DTEND;TZID=America/New_York:20240927T200000
DTSTAMP:20260421T214610
CREATED:20240311T131933Z
LAST-MODIFIED:20240731T152912Z
UID:10000204-1727452800-1727467200@squatch-brewing.com
SUMMARY:Hibachi Lou Food Truck
DESCRIPTION:www.facebook.com/hibachlou412/
URL:https://squatch-brewing.com/event/hibachi-lou-food-truck/2024-09-27/
LOCATION:Squatch Brewing\, 203 Townsend Drive\, Monroeville\, PA\, 15146\, United States
CATEGORIES:Food Truck
ATTACH;FMTTYPE=image/jpeg:https://squatch-brewing.com/wp-content/uploads/2024/03/logo-e1730916923839.jpg
END:VEVENT
BEGIN:VEVENT
DTSTART;TZID=America/New_York:20240927T160000
DTEND;TZID=America/New_York:20240927T200000
DTSTAMP:20260421T214610
CREATED:20241011T164748Z
LAST-MODIFIED:20250825T181553Z
UID:10000467-1727452800-1727467200@squatch-brewing.com
SUMMARY:Hibachi Lou Food Truck
DESCRIPTION:🥩🍚🍺 Meat on the grill\, rice on the side\, and beer to wash it down—Hibachi Lou is here to feast! \nwww.facebook.com/hibachlou412/
URL:https://squatch-brewing.com/event/hibachi-lou-food-truck-2/2024-09-27/
LOCATION:Squatch Brewing\, 203 Townsend Drive\, Monroeville\, PA\, 15146\, United States
CATEGORIES:Food Truck
ATTACH;FMTTYPE=image/jpeg:https://squatch-brewing.com/wp-content/uploads/2024/03/logo-e1730916923839.jpg
END:VEVENT
BEGIN:VEVENT
DTSTART;TZID=America/New_York:20240929T140000
DTEND;TZID=America/New_York:20240929T180000
DTSTAMP:20260421T214610
CREATED:20240416T171140Z
LAST-MODIFIED:20240829T165253Z
UID:10000338-1727618400-1727632800@squatch-brewing.com
SUMMARY:Blazzin Hibachi on Wheels
DESCRIPTION:www.facebook.com/blazzinhibachionwheels
URL:https://squatch-brewing.com/event/blazzin-hibachi-on-wheels/2024-09-29/
LOCATION:Squatch Brewing\, 203 Townsend Drive\, Monroeville\, PA\, 15146\, United States
CATEGORIES:Food Truck
ATTACH;FMTTYPE=image/jpeg:https://squatch-brewing.com/wp-content/uploads/2024/04/Logo-4-e1713287578803.jpg
END:VEVENT
BEGIN:VEVENT
DTSTART;TZID=America/New_York:20240929T140000
DTEND;TZID=America/New_York:20240929T180000
DTSTAMP:20260421T214610
CREATED:20250821T174052Z
LAST-MODIFIED:20250825T183723Z
UID:10000922-1727618400-1727632800@squatch-brewing.com
SUMMARY:Blazzin Hibachi on Wheels
DESCRIPTION:🥢🍤🍺 Grill\, chill\, repeat: Blazzin Hibachi is bringing flavor and fun to your plate! \nwww.facebook.com/blazzinhibachionwheels
URL:https://squatch-brewing.com/event/blazzin-hibachi-on-wheels-3/2024-09-29/
LOCATION:Squatch Brewing\, 203 Townsend Drive\, Monroeville\, PA\, 15146\, United States
CATEGORIES:Food Truck
ATTACH;FMTTYPE=image/jpeg:https://squatch-brewing.com/wp-content/uploads/2024/04/Logo-4-e1713287578803.jpg
END:VEVENT
BEGIN:VEVENT
DTSTART;TZID=America/New_York:20241003T160000
DTEND;TZID=America/New_York:20241003T200000
DTSTAMP:20260421T214610
CREATED:20241011T164748Z
LAST-MODIFIED:20250825T181553Z
UID:10000468-1727971200-1727985600@squatch-brewing.com
SUMMARY:Hibachi Lou Food Truck
DESCRIPTION:🥩🍚🍺 Meat on the grill\, rice on the side\, and beer to wash it down—Hibachi Lou is here to feast! \nwww.facebook.com/hibachlou412/
URL:https://squatch-brewing.com/event/hibachi-lou-food-truck-2/2024-10-03/
LOCATION:Squatch Brewing\, 203 Townsend Drive\, Monroeville\, PA\, 15146\, United States
CATEGORIES:Food Truck
ATTACH;FMTTYPE=image/jpeg:https://squatch-brewing.com/wp-content/uploads/2024/03/logo-e1730916923839.jpg
END:VEVENT
END:VCALENDAR