BEGIN:VCALENDAR
VERSION:2.0
PRODID:-//Squatch Brewing - ECPv6.15.20//NONSGML v1.0//EN
CALSCALE:GREGORIAN
METHOD:PUBLISH
X-ORIGINAL-URL:https://squatch-brewing.com
X-WR-CALDESC:Events for Squatch Brewing
REFRESH-INTERVAL;VALUE=DURATION:PT1H
X-Robots-Tag:noindex
X-PUBLISHED-TTL:PT1H
BEGIN:VTIMEZONE
TZID:America/New_York
BEGIN:DAYLIGHT
TZOFFSETFROM:-0500
TZOFFSETTO:-0400
TZNAME:EDT
DTSTART:20230312T070000
END:DAYLIGHT
BEGIN:STANDARD
TZOFFSETFROM:-0400
TZOFFSETTO:-0500
TZNAME:EST
DTSTART:20231105T060000
END:STANDARD
BEGIN:DAYLIGHT
TZOFFSETFROM:-0500
TZOFFSETTO:-0400
TZNAME:EDT
DTSTART:20240310T070000
END:DAYLIGHT
BEGIN:STANDARD
TZOFFSETFROM:-0400
TZOFFSETTO:-0500
TZNAME:EST
DTSTART:20241103T060000
END:STANDARD
BEGIN:DAYLIGHT
TZOFFSETFROM:-0500
TZOFFSETTO:-0400
TZNAME:EDT
DTSTART:20250309T070000
END:DAYLIGHT
BEGIN:STANDARD
TZOFFSETFROM:-0400
TZOFFSETTO:-0500
TZNAME:EST
DTSTART:20251102T060000
END:STANDARD
END:VTIMEZONE
BEGIN:VEVENT
DTSTART;TZID=America/New_York:20240925T180000
DTEND;TZID=America/New_York:20240925T200000
DTSTAMP:20260422T190423
CREATED:20240826T123755Z
LAST-MODIFIED:20240826T123903Z
UID:10000334-1727287200-1727294400@squatch-brewing.com
SUMMARY:Sunflower at Night Canvas Painting with Basket Full of Posies
DESCRIPTION:Come join us for a magical evening under the stars at Squatch Brewing! You don’t have to paint like Van Gogh\, you just need to want to have fun! Looking for a fun night out? This event is perfect for everyone. All materials including canvas\, paints\, brushes and aids to help you create this beautiful picture. \n$35 + processing fee \nPre-registration required: https://www.eventbrite.com/e/sunflowers-at-night-tickets-1001624404557?utm-campaign=social&utm-content=attendeeshare&utm-medium=discovery&utm-term=listing&utm-source=cp&aff=ebdsshcopyurl \n 
URL:https://squatch-brewing.com/event/sunflower-at-night-canvas-painting-with-basket-full-of-posies/
LOCATION:Squatch Brewing\, 203 Townsend Drive\, Monroeville\, PA\, 15146\, United States
CATEGORIES:Other
ATTACH;FMTTYPE=image/jpeg:https://squatch-brewing.com/wp-content/uploads/2024/08/IMG_9637.jpeg
END:VEVENT
BEGIN:VEVENT
DTSTART;TZID=America/New_York:20240928T130000
DTEND;TZID=America/New_York:20240928T170000
DTSTAMP:20260422T190423
CREATED:20240813T120300Z
LAST-MODIFIED:20240906T124703Z
UID:10000327-1727528400-1727542800@squatch-brewing.com
SUMMARY:Squatch Autumn Market
DESCRIPTION:Free to attend! Event is Rain or Shine. \n This will be the perfect event to celebrate Fall and look forward to the holidays! \n Great Shopping with Local Vendors Food Truck Local Brews & Pa Spirits Bake Sale & More!\n And be sure to stay afterward for Live Music following the market!\n\nVendors interested in participating should contact: stefani@sightlineconsulting.net or HelloHandmadePa@gmail.com \n\nMore Event Info: https://www.facebook.com/events/421270510928895
URL:https://squatch-brewing.com/event/squatch-autumn-market/
LOCATION:Squatch Brewing\, 203 Townsend Drive\, Monroeville\, PA\, 15146\, United States
CATEGORIES:Other
ATTACH;FMTTYPE=image/png:https://squatch-brewing.com/wp-content/uploads/2024/08/Autumn-Market.png
END:VEVENT
END:VCALENDAR