BEGIN:VCALENDAR
VERSION:2.0
PRODID:-//Squatch Brewing - ECPv6.15.20//NONSGML v1.0//EN
CALSCALE:GREGORIAN
METHOD:PUBLISH
X-ORIGINAL-URL:https://squatch-brewing.com
X-WR-CALDESC:Events for Squatch Brewing
REFRESH-INTERVAL;VALUE=DURATION:PT1H
X-Robots-Tag:noindex
X-PUBLISHED-TTL:PT1H
BEGIN:VTIMEZONE
TZID:America/New_York
BEGIN:DAYLIGHT
TZOFFSETFROM:-0500
TZOFFSETTO:-0400
TZNAME:EDT
DTSTART:20240310T070000
END:DAYLIGHT
BEGIN:STANDARD
TZOFFSETFROM:-0400
TZOFFSETTO:-0500
TZNAME:EST
DTSTART:20241103T060000
END:STANDARD
BEGIN:DAYLIGHT
TZOFFSETFROM:-0500
TZOFFSETTO:-0400
TZNAME:EDT
DTSTART:20250309T070000
END:DAYLIGHT
BEGIN:STANDARD
TZOFFSETFROM:-0400
TZOFFSETTO:-0500
TZNAME:EST
DTSTART:20251102T060000
END:STANDARD
BEGIN:DAYLIGHT
TZOFFSETFROM:-0500
TZOFFSETTO:-0400
TZNAME:EDT
DTSTART:20260308T070000
END:DAYLIGHT
BEGIN:STANDARD
TZOFFSETFROM:-0400
TZOFFSETTO:-0500
TZNAME:EST
DTSTART:20261101T060000
END:STANDARD
END:VTIMEZONE
BEGIN:VEVENT
DTSTART;TZID=America/New_York:20250201T100000
DTEND;TZID=America/New_York:20250201T160000
DTSTAMP:20260422T095636
CREATED:20250117T161252Z
LAST-MODIFIED:20250117T161252Z
UID:10000769-1738404000-1738425600@squatch-brewing.com
SUMMARY:Hibernation Party | Helltown Taproom | Export
DESCRIPTION:Annual Hibernation Party! Ticket includes admission to Helltown Taproom Export [5578 Old William Penn Highway | Export] with UNLIMITED drink samples\, 5oz Souvenir Glass\, and Live Music!\n Hibernation Party – Saturday\, February 1 (10 AM – 4 PM) \nGet ready to cozy up and enjoy an amazing day with unlimited drink samples\, live music\, local vendors\, and delicious food trucks! \nTicket Price:\n$45 (online and at the door)Includes admission to the brewery\, a 5 oz. souvenir glass\, and unlimited drink samples \n$5 Designated Driver Ticket\n LIVE MUSIC:Endless Thirst – 11 AMGallitin Hall – 3 PMRight Turn Clyde – 7 PM
URL:https://squatch-brewing.com/event/hibernation-party-helltown-taproom-export/
LOCATION:PA
CATEGORIES:Other
ATTACH;FMTTYPE=image/png:https://squatch-brewing.com/wp-content/uploads/2025/01/250201-Hibernation-party.png
END:VEVENT
END:VCALENDAR