BEGIN:VCALENDAR
VERSION:2.0
PRODID:-//Squatch Brewing - ECPv6.15.20//NONSGML v1.0//EN
CALSCALE:GREGORIAN
METHOD:PUBLISH
X-WR-CALNAME:Squatch Brewing
X-ORIGINAL-URL:https://squatch-brewing.com
X-WR-CALDESC:Events for Squatch Brewing
REFRESH-INTERVAL;VALUE=DURATION:PT1H
X-Robots-Tag:noindex
X-PUBLISHED-TTL:PT1H
BEGIN:VTIMEZONE
TZID:America/New_York
BEGIN:DAYLIGHT
TZOFFSETFROM:-0500
TZOFFSETTO:-0400
TZNAME:EDT
DTSTART:20240310T070000
END:DAYLIGHT
BEGIN:STANDARD
TZOFFSETFROM:-0400
TZOFFSETTO:-0500
TZNAME:EST
DTSTART:20241103T060000
END:STANDARD
BEGIN:DAYLIGHT
TZOFFSETFROM:-0500
TZOFFSETTO:-0400
TZNAME:EDT
DTSTART:20250309T070000
END:DAYLIGHT
BEGIN:STANDARD
TZOFFSETFROM:-0400
TZOFFSETTO:-0500
TZNAME:EST
DTSTART:20251102T060000
END:STANDARD
BEGIN:DAYLIGHT
TZOFFSETFROM:-0500
TZOFFSETTO:-0400
TZNAME:EDT
DTSTART:20260308T070000
END:DAYLIGHT
BEGIN:STANDARD
TZOFFSETFROM:-0400
TZOFFSETTO:-0500
TZNAME:EST
DTSTART:20261101T060000
END:STANDARD
END:VTIMEZONE
BEGIN:VEVENT
DTSTART;TZID=America/New_York:20250420T130000
DTEND;TZID=America/New_York:20250420T190000
DTSTAMP:20260422T061555
CREATED:20250311T153542Z
LAST-MODIFIED:20250311T153629Z
UID:10000811-1745154000-1745175600@squatch-brewing.com
SUMMARY:Closed for Easter
DESCRIPTION:We will be closed on Sunday\, April 20\, 2025 in observance of Easter.
URL:https://squatch-brewing.com/event/closed-for-easter/
LOCATION:Squatch Brewing\, 203 Townsend Drive\, Monroeville\, PA\, 15146\, United States
CATEGORIES:Other
ATTACH;FMTTYPE=image/png:https://squatch-brewing.com/wp-content/uploads/2025/03/250420-closed-easter-website.png
END:VEVENT
BEGIN:VEVENT
DTSTART;TZID=America/New_York:20250423T160000
DTEND;TZID=America/New_York:20250423T183000
DTSTAMP:20260422T061555
CREATED:20250401T125047Z
LAST-MODIFIED:20250401T125047Z
UID:10000825-1745424000-1745433000@squatch-brewing.com
SUMMARY:Private Party
DESCRIPTION:The taproom will be closed until 630 for a private party.  Open to the public 630-9
URL:https://squatch-brewing.com/event/private-party/
LOCATION:Squatch Brewing\, 203 Townsend Drive\, Monroeville\, PA\, 15146\, United States
CATEGORIES:Other
ATTACH;FMTTYPE=image/png:https://squatch-brewing.com/wp-content/uploads/2025/04/250423-BPMI-website-1.png
END:VEVENT
END:VCALENDAR