BEGIN:VCALENDAR
VERSION:2.0
PRODID:-//Squatch Brewing - ECPv6.15.20//NONSGML v1.0//EN
CALSCALE:GREGORIAN
METHOD:PUBLISH
X-WR-CALNAME:Squatch Brewing
X-ORIGINAL-URL:https://squatch-brewing.com
X-WR-CALDESC:Events for Squatch Brewing
REFRESH-INTERVAL;VALUE=DURATION:PT1H
X-Robots-Tag:noindex
X-PUBLISHED-TTL:PT1H
BEGIN:VTIMEZONE
TZID:America/New_York
BEGIN:DAYLIGHT
TZOFFSETFROM:-0500
TZOFFSETTO:-0400
TZNAME:EDT
DTSTART:20240310T070000
END:DAYLIGHT
BEGIN:STANDARD
TZOFFSETFROM:-0400
TZOFFSETTO:-0500
TZNAME:EST
DTSTART:20241103T060000
END:STANDARD
BEGIN:DAYLIGHT
TZOFFSETFROM:-0500
TZOFFSETTO:-0400
TZNAME:EDT
DTSTART:20250309T070000
END:DAYLIGHT
BEGIN:STANDARD
TZOFFSETFROM:-0400
TZOFFSETTO:-0500
TZNAME:EST
DTSTART:20251102T060000
END:STANDARD
BEGIN:DAYLIGHT
TZOFFSETFROM:-0500
TZOFFSETTO:-0400
TZNAME:EDT
DTSTART:20260308T070000
END:DAYLIGHT
BEGIN:STANDARD
TZOFFSETFROM:-0400
TZOFFSETTO:-0500
TZNAME:EST
DTSTART:20261101T060000
END:STANDARD
END:VTIMEZONE
BEGIN:VEVENT
DTSTART;TZID=America/New_York:20250802T130000
DTEND;TZID=America/New_York:20250802T170000
DTSTAMP:20260419T232351
CREATED:20250617T163136Z
LAST-MODIFIED:20250617T164237Z
UID:10000875-1754139600-1754154000@squatch-brewing.com
SUMMARY:Squatch Summer Market
DESCRIPTION:Saturday\, August 2nd | 1–5 PM \nJoin us for an afternoon of local shopping\, summer vibes\, and cold brews at Squatch Brewing! \n🛒 Current Vendor Lineup:✨ Permanent Jewelry🕯️ Candles🎨 Clay Jewelry🏠 Home Decor & Gifts🥤 Tumblers🖐 Artisan Creations🌶️ Handcrafted Salsas & Jams🧶 Crochet Items🇺🇸 Americana Decor \nBillu’s Indian Grill Food Truck \nGrab a pint\, browse amazing local creations\, and support small businesses!
URL:https://squatch-brewing.com/event/squatch-summer-market-2/
LOCATION:Squatch Brewing\, 203 Townsend Drive\, Monroeville\, PA\, 15146\, United States
CATEGORIES:Other
ATTACH;FMTTYPE=image/png:https://squatch-brewing.com/wp-content/uploads/2025/06/250802-FB-website-1.png
END:VEVENT
BEGIN:VEVENT
DTSTART;TZID=America/New_York:20250802T130000
DTEND;TZID=America/New_York:20250802T170000
DTSTAMP:20260419T232351
CREATED:20250703T184335Z
LAST-MODIFIED:20250703T184335Z
UID:10000889-1754139600-1754154000@squatch-brewing.com
SUMMARY:North Country Brewfest
DESCRIPTION:Get ready for one of our favorite days of the year — Brewfest is BACK at North Country Brewing Co.’s Production Facility! \n📅 Date: Saturday\, August 2\, 2025\n🕐 Time: 1:00 PM – 5:00 PM (Mug Club Members get early access at Noon)\n📍 Location: 111 Arrowhead Drive\, Unit B\, Slippery Rock\, PA \n🎟️ Tickets: $50 (includes all beer samples\, catered food by North Country Brew Pub & The Harmony Inn\, and live music!)\n🎟️ Tickets go on sale June 1st online through our website or in person at The Brew Pub or The Harmony Inn. \nWhat to expect:\n🍺 Samples from your favorite local and regional breweries\n🍴 Delicious eats catered by North Country Brew Pub & The Harmony Inn\n🎶 Live music all day to keep the good vibes flowing from Greg Brady Orchestra (former members of Daddy Jones Kingdom)\, Grant Street Exit and Paul Joseph!\n🎉 A laid-back afternoon celebrating craft beer\, good friends\, and the spirit of Slippery Rock!
URL:https://squatch-brewing.com/event/north-country-brewfest/
LOCATION:Moon Park\, 1350 Joe DeNardo Way\, Coraopolis\, PA\, 15108\, United States
CATEGORIES:Other
ATTACH;FMTTYPE=image/png:https://squatch-brewing.com/wp-content/uploads/2025/07/FB_website.png
END:VEVENT
BEGIN:VEVENT
DTSTART;TZID=America/New_York:20250814T160000
DTEND;TZID=America/New_York:20250814T210000
DTSTAMP:20260419T232351
CREATED:20250115T171233Z
LAST-MODIFIED:20250703T162556Z
UID:10000764-1755187200-1755205200@squatch-brewing.com
SUMMARY:Dog Wash benefiting Shelter's Helpers of Pittsburgh
DESCRIPTION:We’re teaming up with Shelter’s Helpers of Pittsburgh for a Dog Wash Fundraiser—bring your pup out for a fresh scrub and help support local rescue efforts. 🐶💦 \n🔥 Pittsburgh Smokehouse will be onsite serving up their mouthwatering BBQ\, and we’ll have live entertainment to keep the good vibes rolling. 🎶🍖 \nSwing by for cold beer\, clean dogs\, and a whole lot of community fun. No appointment needed—just leash up and join us! \nLet’s raise the woof for a great cause! 🐕🍻
URL:https://squatch-brewing.com/event/dog-wash-benefiting-shelters-helpers-of-pittsburgh-2/
LOCATION:Squatch Brewing\, 203 Townsend Drive\, Monroeville\, PA\, 15146\, United States
CATEGORIES:Other
ATTACH;FMTTYPE=image/png:https://squatch-brewing.com/wp-content/uploads/2025/01/FB-website-.png
END:VEVENT
END:VCALENDAR