BEGIN:VCALENDAR
VERSION:2.0
PRODID:-//Squatch Brewing - ECPv6.15.20//NONSGML v1.0//EN
CALSCALE:GREGORIAN
METHOD:PUBLISH
X-WR-CALNAME:Squatch Brewing
X-ORIGINAL-URL:https://squatch-brewing.com
X-WR-CALDESC:Events for Squatch Brewing
REFRESH-INTERVAL;VALUE=DURATION:PT1H
X-Robots-Tag:noindex
X-PUBLISHED-TTL:PT1H
BEGIN:VTIMEZONE
TZID:America/New_York
BEGIN:DAYLIGHT
TZOFFSETFROM:-0500
TZOFFSETTO:-0400
TZNAME:EDT
DTSTART:20240310T070000
END:DAYLIGHT
BEGIN:STANDARD
TZOFFSETFROM:-0400
TZOFFSETTO:-0500
TZNAME:EST
DTSTART:20241103T060000
END:STANDARD
BEGIN:DAYLIGHT
TZOFFSETFROM:-0500
TZOFFSETTO:-0400
TZNAME:EDT
DTSTART:20250309T070000
END:DAYLIGHT
BEGIN:STANDARD
TZOFFSETFROM:-0400
TZOFFSETTO:-0500
TZNAME:EST
DTSTART:20251102T060000
END:STANDARD
BEGIN:DAYLIGHT
TZOFFSETFROM:-0500
TZOFFSETTO:-0400
TZNAME:EDT
DTSTART:20260308T070000
END:DAYLIGHT
BEGIN:STANDARD
TZOFFSETFROM:-0400
TZOFFSETTO:-0500
TZNAME:EST
DTSTART:20261101T060000
END:STANDARD
END:VTIMEZONE
BEGIN:VEVENT
DTSTART;TZID=America/New_York:20250927T130000
DTEND;TZID=America/New_York:20250927T170000
DTSTAMP:20260419T212618
CREATED:20250919T170305Z
LAST-MODIFIED:20250919T170305Z
UID:10000945-1758978000-1758992400@squatch-brewing.com
SUMMARY:Autumn Market
DESCRIPTION:Autumn Market \nOur Autumn Market will be packed it with cozy\, local goodness!\n\n\n Shop Local Makers:\nKnight\, Star & Maiden • Creations by Cat • Shelters Helpers of Pittsburgh • Extravagance by Heath • Picklepuss Goods • Knotty by Nature • Beyond the Blind • Grundy’s Goodies • Abers Creek Workshop • BronzeBlue • Lersch Designs\n\n\n Tasty Bites: El Rincon food truck will keep you warm and happy with delicious Mexican food!\n\n\n Sip\, Shop & Stroll: Grab a pint\, browse the booths\, and soak in the autumn vibes.
URL:https://squatch-brewing.com/event/autumn-market/
LOCATION:Squatch Brewing\, 203 Townsend Drive\, Monroeville\, PA\, 15146\, United States
CATEGORIES:Other
ATTACH;FMTTYPE=image/png:https://squatch-brewing.com/wp-content/uploads/2025/09/Copy-of-250927-FB_website.png
END:VEVENT
END:VCALENDAR