BEGIN:VCALENDAR
VERSION:2.0
PRODID:-//Squatch Brewing - ECPv6.15.20//NONSGML v1.0//EN
CALSCALE:GREGORIAN
METHOD:PUBLISH
X-ORIGINAL-URL:https://squatch-brewing.com
X-WR-CALDESC:Events for Squatch Brewing
REFRESH-INTERVAL;VALUE=DURATION:PT1H
X-Robots-Tag:noindex
X-PUBLISHED-TTL:PT1H
BEGIN:VTIMEZONE
TZID:America/New_York
BEGIN:DAYLIGHT
TZOFFSETFROM:-0500
TZOFFSETTO:-0400
TZNAME:EDT
DTSTART:20240310T070000
END:DAYLIGHT
BEGIN:STANDARD
TZOFFSETFROM:-0400
TZOFFSETTO:-0500
TZNAME:EST
DTSTART:20241103T060000
END:STANDARD
BEGIN:DAYLIGHT
TZOFFSETFROM:-0500
TZOFFSETTO:-0400
TZNAME:EDT
DTSTART:20250309T070000
END:DAYLIGHT
BEGIN:STANDARD
TZOFFSETFROM:-0400
TZOFFSETTO:-0500
TZNAME:EST
DTSTART:20251102T060000
END:STANDARD
BEGIN:DAYLIGHT
TZOFFSETFROM:-0500
TZOFFSETTO:-0400
TZNAME:EDT
DTSTART:20260308T070000
END:DAYLIGHT
BEGIN:STANDARD
TZOFFSETFROM:-0400
TZOFFSETTO:-0500
TZNAME:EST
DTSTART:20261101T060000
END:STANDARD
BEGIN:DAYLIGHT
TZOFFSETFROM:-0500
TZOFFSETTO:-0400
TZNAME:EDT
DTSTART:20270314T070000
END:DAYLIGHT
BEGIN:STANDARD
TZOFFSETFROM:-0400
TZOFFSETTO:-0500
TZNAME:EST
DTSTART:20271107T060000
END:STANDARD
END:VTIMEZONE
BEGIN:VEVENT
DTSTART;TZID=America/New_York:20251207T130000
DTEND;TZID=America/New_York:20251207T160000
DTSTAMP:20260420T030746
CREATED:20251023T173515Z
LAST-MODIFIED:20251119T140211Z
UID:10001025-1765112400-1765123200@squatch-brewing.com
SUMMARY:Steelers vs Ravens
DESCRIPTION:It’s rivalry time\, yinz! Steelers vs. Ravens at Squatch — bring yer Terrible Towels and get ready to make some noise!
URL:https://squatch-brewing.com/event/steelers-vs-ravens/
LOCATION:Squatch Brewing\, 203 Townsend Drive\, Monroeville\, PA\, 15146\, United States
CATEGORIES:Other
ATTACH;FMTTYPE=image/png:https://squatch-brewing.com/wp-content/uploads/2025/10/251207-v-Ravens-1.png
END:VEVENT
BEGIN:VEVENT
DTSTART;TZID=America/New_York:20251211T180000
DTEND;TZID=America/New_York:20251211T210000
DTSTAMP:20260420T030746
CREATED:20250403T170023Z
LAST-MODIFIED:20251210T150857Z
UID:10000835-1765476000-1765486800@squatch-brewing.com
SUMMARY:Puzzles & Pints
DESCRIPTION:Casually assemble your jigsaw puzzle or compete as a team to be the fastest to put it together! All while sampling and enjoying craft beer from Squatch Brewing. \n$10 per person. \nPizza will be provided. \nCheck-in and food service begins at 6:00 pm.\nRace starts at 6:30pm. \n– – – \nCompetition Details\n*Teams of up to 4 people can register to compete for speed assembling a jigsaw puzzle. Limited to 10 teams.\n* Events typically feature only one to three puzzle designs spread evenly across all teams.\n* Puzzles will be randomly drawn upon the start of the competition.\n* Prizes are awarded to the fastest finishing teams per design. Prizes include 60 Minute Missions gift cards\, beers and merchandise.\n– – –\nNo outside drink is permitted. \nPlayers must be at least 21 years old
URL:https://squatch-brewing.com/event/puzzles-pints-15/
LOCATION:Squatch Brewing\, 203 Townsend Drive\, Monroeville\, PA\, 15146\, United States
CATEGORIES:Other
ATTACH;FMTTYPE=image/png:https://squatch-brewing.com/wp-content/uploads/2025/04/Puzzles-Pints-event-cover-1-1.png
END:VEVENT
BEGIN:VEVENT
DTSTART;TZID=America/New_York:20251221T163000
DTEND;TZID=America/New_York:20251221T193000
DTSTAMP:20260420T030746
CREATED:20251029T125903Z
LAST-MODIFIED:20251119T140336Z
UID:10001037-1766334600-1766345400@squatch-brewing.com
SUMMARY:Steelers vs Lions
DESCRIPTION:Steelers vs Lions — yinz know the drill 🏈Grab yer crew and head dahn Squatch to watch the game! 🍻
URL:https://squatch-brewing.com/event/steelers-vs-lions/
LOCATION:Squatch Brewing\, 203 Townsend Drive\, Monroeville\, PA\, 15146\, United States
CATEGORIES:Other
ATTACH;FMTTYPE=image/png:https://squatch-brewing.com/wp-content/uploads/2025/10/251221-v-Lions-1.png
END:VEVENT
BEGIN:VEVENT
DTSTART;TZID=America/New_York:20251223T160000
DTEND;TZID=America/New_York:20251223T210000
DTSTAMP:20260420T030746
CREATED:20251031T165044Z
LAST-MODIFIED:20251031T165044Z
UID:10001042-1766505600-1766523600@squatch-brewing.com
SUMMARY:Festivus
DESCRIPTION:It’s a Festivus for the rest of us!Join us for our annual Festivus celebration.🪩 The Festivus Pole will be shining bright\, grievances will be aired\, and feats of strength will be encouraged.🍽 Pittsburgh Smokehouse is serving up smoked meatloaf with mashed potatoes and peas — plus all your usual favorites.Come for the beer\, stay for the laughs. Serenity now! 🍻
URL:https://squatch-brewing.com/event/festivus-2/
LOCATION:Squatch Brewing\, 203 Townsend Drive\, Monroeville\, PA\, 15146\, United States
CATEGORIES:Other
ATTACH;FMTTYPE=image/png:https://squatch-brewing.com/wp-content/uploads/2025/10/251223-FB_website-1.png
END:VEVENT
BEGIN:VEVENT
DTSTART;TZID=America/New_York:20251224T080000
DTEND;TZID=America/New_York:20251225T220000
DTSTAMP:20260420T030746
CREATED:20251201T170502Z
LAST-MODIFIED:20251201T170610Z
UID:10001107-1766563200-1766700000@squatch-brewing.com
SUMMARY:Closed Dec 24 & Dec 25
DESCRIPTION:🎄 Happy Holidays! 🎄We’ll be closed Dec 24 & 25 Wishing you joy\, laughter\, and holiday cheer!
URL:https://squatch-brewing.com/event/closed-12-24-25-and-12-31-1-1/
LOCATION:Squatch Brewing\, 203 Townsend Drive\, Monroeville\, PA\, 15146\, United States
CATEGORIES:Other
ATTACH;FMTTYPE=image/png:https://squatch-brewing.com/wp-content/uploads/2025/12/FB_website-251224_251225.png
END:VEVENT
BEGIN:VEVENT
DTSTART;TZID=America/New_York:20251228T130000
DTEND;TZID=America/New_York:20251228T160000
DTSTAMP:20260420T030746
CREATED:20251030T180611Z
LAST-MODIFIED:20251119T140458Z
UID:10001041-1766926800-1766937600@squatch-brewing.com
SUMMARY:Steelers v Browns
DESCRIPTION:Stillers vs. Browns! Come dahn Squatch to watch the game\, grab a cold one\, and cheer with the hometown crowd.
URL:https://squatch-brewing.com/event/steelers-v-browns/
LOCATION:Squatch Brewing\, 203 Townsend Drive\, Monroeville\, PA\, 15146\, United States
CATEGORIES:Other
ATTACH;FMTTYPE=image/png:https://squatch-brewing.com/wp-content/uploads/2025/10/251228-v-Browns-1.png
END:VEVENT
BEGIN:VEVENT
DTSTART;TZID=America/New_York:20260131T100000
DTEND;TZID=America/New_York:20260131T160000
DTSTAMP:20260420T030746
CREATED:20260105T193418Z
LAST-MODIFIED:20260114T145038Z
UID:10001131-1769853600-1769875200@squatch-brewing.com
SUMMARY:Hibernation Party
DESCRIPTION:🍻 Squatch is coming out of hibernation!\nJoin us at the Hibernation Party at Helltown Taproom Export on Saturday\, January 31st from 10am-4pm to sample some local brews.  Catch us there\, then swing by the taproom after for another round! \nYour ticket gets you a 5oz sample glass\, Hibernation Party T-shirt\, and unlimited samples from the following vendors! \nAbstract Realm\nAllusion Brewing\nArsenal Cider House\nDevout Brewing Co.\nLa Vigneta Winery\nPonfeigh Distillery\nRed Barn Winery\nSquatch Brewing\nTortured Souls Brewing\nUnity Brewing\nWye Brewing\nYellow Bridge Brewing\nYough River Brewing \nFood Trucks: *food not included in ticket price*\nWPF Concessions 11am-4pm\nSmash Pit 11am-? \nLive Music:\nEndless Thirst 12pm-4pm\nJeff Hartz 7pm-10pm
URL:https://squatch-brewing.com/event/hibernation-party/
LOCATION:Squatch Brewing\, 203 Townsend Drive\, Monroeville\, PA\, 15146\, United States
CATEGORIES:Other
ATTACH;FMTTYPE=image/jpeg:https://squatch-brewing.com/wp-content/uploads/2026/01/2026.jpg
END:VEVENT
BEGIN:VEVENT
DTSTART;TZID=America/New_York:20260314T090000
DTEND;TZID=America/New_York:20260314T220000
DTSTAMP:20260420T030746
CREATED:20260210T163205Z
LAST-MODIFIED:20260309T164408Z
UID:10001182-1773478800-1773525600@squatch-brewing.com
SUMMARY:St. Patrick's Day Party
DESCRIPTION:🍀 Get Shamrocked at Squatch! 🍀St. Patrick’s Day Party • Saturday\, March 14 | 9AM–10PM🔥 Blazzin Hibachi 2–8PM🎶 Live music with Michelle LoFaso 6–9PMCold beer\, hot hibachi\, and all-day shenanigans—don’t miss it! 🍻
URL:https://squatch-brewing.com/event/st-patricks-day-party-2/
LOCATION:Squatch Brewing\, 203 Townsend Drive\, Monroeville\, PA\, 15146\, United States
CATEGORIES:Other
ATTACH;FMTTYPE=image/png:https://squatch-brewing.com/wp-content/uploads/2026/02/260314-website_fb.png
END:VEVENT
BEGIN:VEVENT
DTSTART;TZID=America/New_York:20260320T110000
DTEND;TZID=America/New_York:20260320T170000
DTSTAMP:20260420T030746
CREATED:20260309T151633Z
LAST-MODIFIED:20260311T141454Z
UID:10001197-1774004400-1774026000@squatch-brewing.com
SUMMARY:College Basketball Blowout
DESCRIPTION:🏀 Tip-off the madness with us!Doors open 11AM for College Basketball Blowout🍻 Cold pints flowing🌯 Quick E Food Truck 11–8Grab your crew and claim your seat for the games.
URL:https://squatch-brewing.com/event/march-madness/
LOCATION:Squatch Brewing\, 203 Townsend Drive\, Monroeville\, PA\, 15146\, United States
CATEGORIES:Other
ATTACH;FMTTYPE=image/png:https://squatch-brewing.com/wp-content/uploads/2026/03/White-and-Orange-Modern-March-Madness-Championship-Instagram-Post-12.png
END:VEVENT
BEGIN:VEVENT
DTSTART;TZID=America/New_York:20260325T180000
DTEND;TZID=America/New_York:20260325T200000
DTSTAMP:20260420T030746
CREATED:20260220T145448Z
LAST-MODIFIED:20260317T133514Z
UID:10001188-1774461600-1774468800@squatch-brewing.com
SUMMARY:Plant Bingo
DESCRIPTION:Plant Bingo is an upbeat\, plant-filled evening. \nWe’ll play five fast-paced rounds with different winning patterns. \n\nMultiple plant prizes awarded each round\nA small take-home plant for every guest\n\nBetween rounds\, simple\, practical tips will be shared about the plants up for grabs.
URL:https://squatch-brewing.com/event/plant-bingo/
LOCATION:Squatch Brewing\, 203 Townsend Drive\, Monroeville\, PA\, 15146\, United States
CATEGORIES:Other
ATTACH;FMTTYPE=image/png:https://squatch-brewing.com/wp-content/uploads/2026/02/SOLD-OUT-FB_website.png
END:VEVENT
BEGIN:VEVENT
DTSTART;TZID=America/New_York:20260405T130000
DTEND;TZID=America/New_York:20260405T190000
DTSTAMP:20260420T030746
CREATED:20260325T164945Z
LAST-MODIFIED:20260325T164945Z
UID:10001209-1775394000-1775415600@squatch-brewing.com
SUMMARY:Closed Easter Sunday
DESCRIPTION:Hoppy Easter from all of us! 🐰🌸We’ll be closed for the holiday\, but we’ll be back pouring fresh pints on Wednesday\, April 8th 🍻
URL:https://squatch-brewing.com/event/closed-easter-sunday/
LOCATION:Squatch Brewing\, 203 Townsend Drive\, Monroeville\, PA\, 15146\, United States
CATEGORIES:Other
ATTACH;FMTTYPE=image/png:https://squatch-brewing.com/wp-content/uploads/2026/03/FB_website-3.png
END:VEVENT
BEGIN:VEVENT
DTSTART;TZID=America/New_York:20260509T130000
DTEND;TZID=America/New_York:20260509T160000
DTSTAMP:20260420T030746
CREATED:20260226T184023Z
LAST-MODIFIED:20260413T184842Z
UID:10001192-1778331600-1778342400@squatch-brewing.com
SUMMARY:Mother's Day Pop Up Market
DESCRIPTION:Celebrate the moms (and mother-figures!) in your life with a laid-back afternoon of shopping\, sipping\, and unique finds at the Mother’s Day Pop-Up Market at Squatch Brewing.\nBrowse a thoughtfully curated selection of local vendors featuring fresh flowers\, handcrafted jewelry\, Americana décor\, wooden home décor\, gluten free baked goods\, hand drawn works of art and one-of-a-kind gifts you won’t find in big box stores. It’s the perfect chance to pick up something meaningful and handmade while enjoying great craft beer and the cozy taproom vibe.\nCome early\, grab a drink\, and shop small for Mother’s Day — because the best gifts are the ones made with heart. 
URL:https://squatch-brewing.com/event/mothers-day-pop-up-market/
LOCATION:Squatch Brewing\, 203 Townsend Drive\, Monroeville\, PA\, 15146\, United States
CATEGORIES:Other
ATTACH;FMTTYPE=image/png:https://squatch-brewing.com/wp-content/uploads/2026/02/FB_Website-14.png
END:VEVENT
BEGIN:VEVENT
DTSTART;TZID=America/New_York:20260516T160000
DTEND;TZID=America/New_York:20260516T190000
DTSTAMP:20260420T030746
CREATED:20260323T172759Z
LAST-MODIFIED:20260323T172759Z
UID:10001208-1778947200-1778958000@squatch-brewing.com
SUMMARY:Barks & Brews
DESCRIPTION:Join Squatch Brewing at Barks & Brews! \nJoin us for the fourth annual Barks & Brews on Saturday\, May 16th\, from 4:00 PM – 7:00 PM at Humane Animal Rescue of Pittsburgh’s East Side! Get ready for an unforgettable afternoon filled with local craft brews\, delicious eats\, live entertainment\, and tail-wagging fun – all in support of HARP! \nYour $40 ticket donation includes:\nA commemorative sample cup\nSamples from 11 great local breweries including Squatch Brewing\nAccess to a variety of food trucks and vendors\nA chance to mingle with fellow animal lovers & HARP supporters \nDog-friendly? You bet! Bring your furry friend along (dog tickets purchased separately) and enjoy a paws-itively good time. \nMeet HARP shelter staff and Junior Advisory Council members to learn more about HARP’s programs and how you can make a difference. \nPlease note: This is a 21+ event. Valid ID required for entry. \nGreat beer\, great company\, and a great cause – what’s not to love? Save the date and get ready to buy your tickets. Then\, let’s raise a glass (or a paw!) to helping animals in need!
URL:https://squatch-brewing.com/event/barks-brews/
LOCATION:Humane Animal Rescue of Pittsburgh\, 6926 Hamilton Ave\, Pittsburgh\, PA\, 15208\, United States
CATEGORIES:Other
ATTACH;FMTTYPE=image/png:https://squatch-brewing.com/wp-content/uploads/2026/03/FB_Website-1.png
END:VEVENT
BEGIN:VEVENT
DTSTART;TZID=America/New_York:20260530T133000
DTEND;TZID=America/New_York:20260530T153000
DTSTAMP:20260420T030746
CREATED:20260416T173801Z
LAST-MODIFIED:20260416T173801Z
UID:10001220-1780147800-1780155000@squatch-brewing.com
SUMMARY:Plant Bingo
DESCRIPTION:Plant Bingo is an upbeat\, plant-filled afternoon. \nFive fast-paced rounds with different winning patterns will be played. \n\nMultiple plant prizes awarded each round\nA small take-home plant for every guest\n\nBetween rounds\, simple\, practical tips will be shared about the plants up for grabs.
URL:https://squatch-brewing.com/event/plant-bingo-2/
LOCATION:Squatch Brewing\, 203 Townsend Drive\, Monroeville\, PA\, 15146\, United States
CATEGORIES:Other
ATTACH;FMTTYPE=image/png:https://squatch-brewing.com/wp-content/uploads/2026/02/FB_website-6.png
END:VEVENT
END:VCALENDAR