BEGIN:VCALENDAR
VERSION:2.0
PRODID:-//Squatch Brewing - ECPv6.15.20//NONSGML v1.0//EN
CALSCALE:GREGORIAN
METHOD:PUBLISH
X-WR-CALNAME:Squatch Brewing
X-ORIGINAL-URL:https://squatch-brewing.com
X-WR-CALDESC:Events for Squatch Brewing
REFRESH-INTERVAL;VALUE=DURATION:PT1H
X-Robots-Tag:noindex
X-PUBLISHED-TTL:PT1H
BEGIN:VTIMEZONE
TZID:America/New_York
BEGIN:DAYLIGHT
TZOFFSETFROM:-0500
TZOFFSETTO:-0400
TZNAME:EDT
DTSTART:20230312T070000
END:DAYLIGHT
BEGIN:STANDARD
TZOFFSETFROM:-0400
TZOFFSETTO:-0500
TZNAME:EST
DTSTART:20231105T060000
END:STANDARD
BEGIN:DAYLIGHT
TZOFFSETFROM:-0500
TZOFFSETTO:-0400
TZNAME:EDT
DTSTART:20240310T070000
END:DAYLIGHT
BEGIN:STANDARD
TZOFFSETFROM:-0400
TZOFFSETTO:-0500
TZNAME:EST
DTSTART:20241103T060000
END:STANDARD
BEGIN:DAYLIGHT
TZOFFSETFROM:-0500
TZOFFSETTO:-0400
TZNAME:EDT
DTSTART:20250309T070000
END:DAYLIGHT
BEGIN:STANDARD
TZOFFSETFROM:-0400
TZOFFSETTO:-0500
TZNAME:EST
DTSTART:20251102T060000
END:STANDARD
END:VTIMEZONE
BEGIN:VEVENT
DTSTART;TZID=America/New_York:20240503T170000
DTEND;TZID=America/New_York:20240503T200000
DTSTAMP:20260422T095153
CREATED:20240415T131230Z
LAST-MODIFIED:20240723T111301Z
UID:10000083-1714755600-1714766400@squatch-brewing.com
SUMMARY:Music By Mark Anthony
DESCRIPTION:https://www.facebook.com/theOriginalMarkAnthony?mibextid=ZbWKwL
URL:https://squatch-brewing.com/event/music-by-mark-anthony/2024-05-03/
LOCATION:Squatch Brewing\, 203 Townsend Drive\, Monroeville\, PA\, 15146\, United States
CATEGORIES:Entertainment
ATTACH;FMTTYPE=image/jpeg:https://squatch-brewing.com/wp-content/uploads/2024/04/photo-1.jpg
END:VEVENT
BEGIN:VEVENT
DTSTART;TZID=America/New_York:20240503T160000
DTEND;TZID=America/New_York:20240503T200000
DTSTAMP:20260422T095153
CREATED:20240404T184047Z
LAST-MODIFIED:20240624T111037Z
UID:10000085-1714752000-1714766400@squatch-brewing.com
SUMMARY:Pittsburgers Food Truck
DESCRIPTION:https://www.pghburgers.com/
URL:https://squatch-brewing.com/event/pittsburgers-food-truck/
LOCATION:Squatch Brewing\, 203 Townsend Drive\, Monroeville\, PA\, 15146\, United States
CATEGORIES:Food Truck
ATTACH;FMTTYPE=image/png:https://squatch-brewing.com/wp-content/uploads/2024/04/Logo.png
END:VEVENT
BEGIN:VEVENT
DTSTART;TZID=America/New_York:20240502T160000
DTEND;TZID=America/New_York:20240502T200000
DTSTAMP:20260422T095153
CREATED:20241011T164748Z
LAST-MODIFIED:20250825T181553Z
UID:10000465-1714665600-1714680000@squatch-brewing.com
SUMMARY:Hibachi Lou Food Truck
DESCRIPTION:🥩🍚🍺 Meat on the grill\, rice on the side\, and beer to wash it down—Hibachi Lou is here to feast! \nwww.facebook.com/hibachlou412/
URL:https://squatch-brewing.com/event/hibachi-lou-food-truck-2/2024-05-02/
LOCATION:Squatch Brewing\, 203 Townsend Drive\, Monroeville\, PA\, 15146\, United States
CATEGORIES:Food Truck
ATTACH;FMTTYPE=image/jpeg:https://squatch-brewing.com/wp-content/uploads/2024/03/logo-e1730916923839.jpg
END:VEVENT
BEGIN:VEVENT
DTSTART;TZID=America/New_York:20240502T160000
DTEND;TZID=America/New_York:20240502T200000
DTSTAMP:20260422T095154
CREATED:20240311T131933Z
LAST-MODIFIED:20240731T152912Z
UID:10000087-1714665600-1714680000@squatch-brewing.com
SUMMARY:Hibachi Lou Food Truck
DESCRIPTION:www.facebook.com/hibachlou412/
URL:https://squatch-brewing.com/event/hibachi-lou-food-truck/2024-05-02/
LOCATION:Squatch Brewing\, 203 Townsend Drive\, Monroeville\, PA\, 15146\, United States
CATEGORIES:Food Truck
ATTACH;FMTTYPE=image/jpeg:https://squatch-brewing.com/wp-content/uploads/2024/03/logo-e1730916923839.jpg
END:VEVENT
BEGIN:VEVENT
DTSTART;TZID=America/New_York:20240427T173000
DTEND;TZID=America/New_York:20240427T210000
DTSTAMP:20260422T095154
CREATED:20240516T162537Z
LAST-MODIFIED:20240809T132417Z
UID:10000169-1714239000-1714251600@squatch-brewing.com
SUMMARY:Greg Riordan Music
DESCRIPTION:https://www.facebook.com/jgriordan
URL:https://squatch-brewing.com/event/greg-riordan-music-2/2024-04-27/
LOCATION:Squatch Brewing\, 203 Townsend Drive\, Monroeville\, PA\, 15146\, United States
CATEGORIES:Entertainment
ATTACH;FMTTYPE=image/png:https://squatch-brewing.com/wp-content/uploads/2024/02/tr.png
END:VEVENT
BEGIN:VEVENT
DTSTART;TZID=America/New_York:20240427T140000
DTEND;TZID=America/New_York:20240427T200000
DTSTAMP:20260422T095154
CREATED:20240320T180001Z
LAST-MODIFIED:20240320T180028Z
UID:10000026-1714226400-1714248000@squatch-brewing.com
SUMMARY:Super Dawgs Food Truck
DESCRIPTION:https://www.facebook.com/SuperDawgs
URL:https://squatch-brewing.com/event/super-dawg-food-truck/
LOCATION:Squatch Brewing\, 203 Townsend Drive\, Monroeville\, PA\, 15146\, United States
CATEGORIES:Food Truck
ATTACH;FMTTYPE=image/jpeg:https://squatch-brewing.com/wp-content/uploads/2024/03/Logo-2-e1710957585536.jpg
END:VEVENT
BEGIN:VEVENT
DTSTART;TZID=America/New_York:20240426T173000
DTEND;TZID=America/New_York:20240426T210000
DTSTAMP:20260422T095154
CREATED:20240516T162537Z
LAST-MODIFIED:20240809T132417Z
UID:10000168-1714152600-1714165200@squatch-brewing.com
SUMMARY:Greg Riordan Music
DESCRIPTION:https://www.facebook.com/jgriordan
URL:https://squatch-brewing.com/event/greg-riordan-music-2/2024-04-26/
LOCATION:Squatch Brewing\, 203 Townsend Drive\, Monroeville\, PA\, 15146\, United States
CATEGORIES:Entertainment
ATTACH;FMTTYPE=image/png:https://squatch-brewing.com/wp-content/uploads/2024/02/tr.png
END:VEVENT
BEGIN:VEVENT
DTSTART;TZID=America/New_York:20240420T140000
DTEND;TZID=America/New_York:20240420T200000
DTSTAMP:20260422T095154
CREATED:20240229T195308Z
LAST-MODIFIED:20240828T173836Z
UID:10000061-1713621600-1713643200@squatch-brewing.com
SUMMARY:Ash & Kris Kitchen Mediterranean
DESCRIPTION:http://www.ashkris.com
URL:https://squatch-brewing.com/event/ash-kris-kitchen-mediterranean/2024-04-20/
LOCATION:Squatch Brewing\, 203 Townsend Drive\, Monroeville\, PA\, 15146\, United States
CATEGORIES:Food Truck
ATTACH;FMTTYPE=image/png:https://squatch-brewing.com/wp-content/uploads/2024/02/AKK_Logo.png
END:VEVENT
BEGIN:VEVENT
DTSTART;TZID=America/New_York:20240419T170000
DTEND;TZID=America/New_York:20240419T200000
DTSTAMP:20260422T095154
CREATED:20240304T194537Z
LAST-MODIFIED:20241107T193711Z
UID:10000077-1713546000-1713556800@squatch-brewing.com
SUMMARY:Bill Young Acoustic Sounds
DESCRIPTION:
URL:https://squatch-brewing.com/event/bill-young-acoustic-sounds/2024-04-19/
LOCATION:Squatch Brewing\, 203 Townsend Drive\, Monroeville\, PA\, 15146\, United States
CATEGORIES:Entertainment
END:VEVENT
BEGIN:VEVENT
DTSTART;TZID=America/New_York:20240419T160000
DTEND;TZID=America/New_York:20240419T210000
DTSTAMP:20260422T095154
CREATED:20240410T174247Z
LAST-MODIFIED:20240410T174247Z
UID:10000075-1713542400-1713560400@squatch-brewing.com
SUMMARY:Notorious BLT
DESCRIPTION:https://notoriousblt.com/
URL:https://squatch-brewing.com/event/notorious-blt-2/2024-04-19/
LOCATION:Squatch Brewing\, 203 Townsend Drive\, Monroeville\, PA\, 15146\, United States
CATEGORIES:Food Truck
ATTACH;FMTTYPE=image/png:https://squatch-brewing.com/wp-content/uploads/2024/04/logo-removebg-preview.png
END:VEVENT
BEGIN:VEVENT
DTSTART;TZID=America/New_York:20240414T120000
DTEND;TZID=America/New_York:20240414T170000
DTSTAMP:20260422T095154
CREATED:20240326T134201Z
LAST-MODIFIED:20240724T172556Z
UID:10000033-1713096000-1713114000@squatch-brewing.com
SUMMARY:Benvenuti's Pizza Factory
DESCRIPTION:https://www.benvenutispizzafactory.com/onlinemenu-pittsburgh/
URL:https://squatch-brewing.com/event/benvenutis-pizza-factory-2/2024-04-14/
LOCATION:Squatch Brewing\, 203 Townsend Drive\, Monroeville\, PA\, 15146\, United States
CATEGORIES:Food Truck
ATTACH;FMTTYPE=image/jpeg:https://squatch-brewing.com/wp-content/uploads/2024/03/logo-4.jpg
END:VEVENT
BEGIN:VEVENT
DTSTART;TZID=America/New_York:20240413T150000
DTEND;TZID=America/New_York:20240413T210000
DTSTAMP:20260422T095154
CREATED:20240319T115628Z
LAST-MODIFIED:20241106T183534Z
UID:10000023-1713020400-1713042000@squatch-brewing.com
SUMMARY:Franken-Fried Food Truck
DESCRIPTION:www.facebook.com/Franken-Fried
URL:https://squatch-brewing.com/event/franken-fried-food-truck/2024-04-13/
LOCATION:Squatch Brewing\, 203 Townsend Drive\, Monroeville\, PA\, 15146\, United States
CATEGORIES:Food Truck
ATTACH;FMTTYPE=image/png:https://squatch-brewing.com/wp-content/uploads/2024/03/FF-Logo-e1730918119485.png
END:VEVENT
BEGIN:VEVENT
DTSTART;TZID=America/New_York:20240412T160000
DTEND;TZID=America/New_York:20240412T210000
DTSTAMP:20260422T095154
CREATED:20241011T164748Z
LAST-MODIFIED:20250825T181553Z
UID:10000464-1712937600-1712955600@squatch-brewing.com
SUMMARY:Hibachi Lou Food Truck
DESCRIPTION:🥩🍚🍺 Meat on the grill\, rice on the side\, and beer to wash it down—Hibachi Lou is here to feast! \nwww.facebook.com/hibachlou412/
URL:https://squatch-brewing.com/event/hibachi-lou-food-truck-2/2024-04-12/
LOCATION:Squatch Brewing\, 203 Townsend Drive\, Monroeville\, PA\, 15146\, United States
CATEGORIES:Food Truck
ATTACH;FMTTYPE=image/jpeg:https://squatch-brewing.com/wp-content/uploads/2024/03/logo-e1730916923839.jpg
END:VEVENT
BEGIN:VEVENT
DTSTART;TZID=America/New_York:20240412T160000
DTEND;TZID=America/New_York:20240412T210000
DTSTAMP:20260422T095154
CREATED:20240311T131933Z
LAST-MODIFIED:20240731T152912Z
UID:10000086-1712937600-1712955600@squatch-brewing.com
SUMMARY:Hibachi Lou Food Truck
DESCRIPTION:www.facebook.com/hibachlou412/
URL:https://squatch-brewing.com/event/hibachi-lou-food-truck/2024-04-12/
LOCATION:Squatch Brewing\, 203 Townsend Drive\, Monroeville\, PA\, 15146\, United States
CATEGORIES:Food Truck
ATTACH;FMTTYPE=image/jpeg:https://squatch-brewing.com/wp-content/uploads/2024/03/logo-e1730916923839.jpg
END:VEVENT
BEGIN:VEVENT
DTSTART;TZID=America/New_York:20240406T140000
DTEND;TZID=America/New_York:20240406T200000
DTSTAMP:20260422T095154
CREATED:20240319T150919Z
LAST-MODIFIED:20240321T115646Z
UID:10000025-1712412000-1712433600@squatch-brewing.com
SUMMARY:Pittsburgh Smokehouse
DESCRIPTION:https://www.facebook.com/pittsburgh.smokehouse
URL:https://squatch-brewing.com/event/pittsburgh-smokehouse-2/
LOCATION:Squatch Brewing\, 203 Townsend Drive\, Monroeville\, PA\, 15146\, United States
CATEGORIES:Food Truck
ATTACH;FMTTYPE=image/png:https://squatch-brewing.com/wp-content/uploads/2024/03/logo-e1730920153602.png
END:VEVENT
BEGIN:VEVENT
DTSTART;TZID=America/New_York:20240405T160000
DTEND;TZID=America/New_York:20240405T200000
DTSTAMP:20260422T095154
CREATED:20240326T142029Z
LAST-MODIFIED:20240327T122912Z
UID:10000042-1712332800-1712347200@squatch-brewing.com
SUMMARY:L and I's Food Truck
DESCRIPTION:www.facebook.com/LandIsfoodtruck
URL:https://squatch-brewing.com/event/l-and-is/
LOCATION:Squatch Brewing\, 203 Townsend Drive\, Monroeville\, PA\, 15146\, United States
CATEGORIES:Food Truck
ATTACH;FMTTYPE=image/png:https://squatch-brewing.com/wp-content/uploads/2024/03/Picture1-removebg-preview-1.png
END:VEVENT
BEGIN:VEVENT
DTSTART;TZID=America/New_York:20240330T140000
DTEND;TZID=America/New_York:20240330T210000
DTSTAMP:20260422T095154
CREATED:20240326T130838Z
LAST-MODIFIED:20241106T172243Z
UID:10000032-1711807200-1711832400@squatch-brewing.com
SUMMARY:WPF Concessions
DESCRIPTION:http://www.wingspizzafries.com
URL:https://squatch-brewing.com/event/wpf-concessions/2024-03-30/
LOCATION:Squatch Brewing\, 203 Townsend Drive\, Monroeville\, PA\, 15146\, United States
CATEGORIES:Food Truck
ATTACH;FMTTYPE=image/png:https://squatch-brewing.com/wp-content/uploads/2024/03/WPF_Concessions_Logo-removebg-preview-e1730913749508.png
END:VEVENT
BEGIN:VEVENT
DTSTART;TZID=America/New_York:20240329T180000
DTEND;TZID=America/New_York:20240329T210000
DTSTAMP:20260422T095154
CREATED:20240229T195516Z
LAST-MODIFIED:20240530T181052Z
UID:10000008-1711735200-1711746000@squatch-brewing.com
SUMMARY:The Licks Acoustic Duo
DESCRIPTION:https://www.thelickspgh.com/
URL:https://squatch-brewing.com/event/licks-acoustick/2024-03-29/
LOCATION:Squatch Brewing\, 203 Townsend Drive\, Monroeville\, PA\, 15146\, United States
CATEGORIES:Entertainment
ATTACH;FMTTYPE=image/jpeg:https://squatch-brewing.com/wp-content/uploads/2024/03/420419038_122126636690219128_4728999699578990858_n.jpg
END:VEVENT
BEGIN:VEVENT
DTSTART;TZID=America/New_York:20240329T160000
DTEND;TZID=America/New_York:20240329T210000
DTSTAMP:20260422T095154
CREATED:20240229T195426Z
LAST-MODIFIED:20240905T182502Z
UID:10000007-1711728000-1711746000@squatch-brewing.com
SUMMARY:Cousins Maine Lobster
DESCRIPTION:https://www.cousinsmainelobster.com/locations/pittsburgh-pa/
URL:https://squatch-brewing.com/event/cousins-maine-lobster/2024-03-29/
LOCATION:Squatch Brewing\, 203 Townsend Drive\, Monroeville\, PA\, 15146\, United States
CATEGORIES:Food Truck
ATTACH;FMTTYPE=image/png:https://squatch-brewing.com/wp-content/uploads/2024/02/CML_Logo_RedBlack-copy-9.png
END:VEVENT
BEGIN:VEVENT
DTSTART;TZID=America/New_York:20240323T140000
DTEND;TZID=America/New_York:20240323T200000
DTSTAMP:20260422T095154
CREATED:20240229T195308Z
LAST-MODIFIED:20240828T173836Z
UID:10000006-1711202400-1711224000@squatch-brewing.com
SUMMARY:Ash & Kris Kitchen Mediterranean
DESCRIPTION:http://www.ashkris.com
URL:https://squatch-brewing.com/event/ash-kris-kitchen-mediterranean/2024-03-23/
LOCATION:Squatch Brewing\, 203 Townsend Drive\, Monroeville\, PA\, 15146\, United States
CATEGORIES:Food Truck
ATTACH;FMTTYPE=image/png:https://squatch-brewing.com/wp-content/uploads/2024/02/AKK_Logo.png
END:VEVENT
BEGIN:VEVENT
DTSTART;TZID=America/New_York:20240322T120000
DTEND;TZID=America/New_York:20240322T210000
DTSTAMP:20260422T095154
CREATED:20240311T132841Z
LAST-MODIFIED:20240318T180052Z
UID:10000019-1711108800-1711141200@squatch-brewing.com
SUMMARY:March Madness!!! Opening early at Noon!
DESCRIPTION:
URL:https://squatch-brewing.com/event/march-madness-opening-early-at-noon/
LOCATION:Squatch Brewing\, 203 Townsend Drive\, Monroeville\, PA\, 15146\, United States
CATEGORIES:Entertainment
ATTACH;FMTTYPE=image/jpeg:https://squatch-brewing.com/wp-content/uploads/2024/03/430715449_383749924502801_4251495742228851824_n.jpg
END:VEVENT
BEGIN:VEVENT
DTSTART;TZID=America/New_York:20240322T120000
DTEND;TZID=America/New_York:20240322T190000
DTSTAMP:20260422T095154
CREATED:20241011T164748Z
LAST-MODIFIED:20250825T181553Z
UID:10000463-1711108800-1711134000@squatch-brewing.com
SUMMARY:Hibachi Lou Food Truck
DESCRIPTION:🥩🍚🍺 Meat on the grill\, rice on the side\, and beer to wash it down—Hibachi Lou is here to feast! \nwww.facebook.com/hibachlou412/
URL:https://squatch-brewing.com/event/hibachi-lou-food-truck-2/2024-03-22/
LOCATION:Squatch Brewing\, 203 Townsend Drive\, Monroeville\, PA\, 15146\, United States
CATEGORIES:Food Truck
ATTACH;FMTTYPE=image/jpeg:https://squatch-brewing.com/wp-content/uploads/2024/03/logo-e1730916923839.jpg
END:VEVENT
BEGIN:VEVENT
DTSTART;TZID=America/New_York:20240322T120000
DTEND;TZID=America/New_York:20240322T190000
DTSTAMP:20260422T095154
CREATED:20240311T131933Z
LAST-MODIFIED:20240731T152912Z
UID:10000018-1711108800-1711134000@squatch-brewing.com
SUMMARY:Hibachi Lou Food Truck
DESCRIPTION:www.facebook.com/hibachlou412/
URL:https://squatch-brewing.com/event/hibachi-lou-food-truck/2024-03-22/
LOCATION:Squatch Brewing\, 203 Townsend Drive\, Monroeville\, PA\, 15146\, United States
CATEGORIES:Food Truck
ATTACH;FMTTYPE=image/jpeg:https://squatch-brewing.com/wp-content/uploads/2024/03/logo-e1730916923839.jpg
END:VEVENT
BEGIN:VEVENT
DTSTART;TZID=America/New_York:20240309T140000
DTEND;TZID=America/New_York:20240309T200000
DTSTAMP:20260422T095154
CREATED:20240304T194642Z
LAST-MODIFIED:20240317T170631Z
UID:10000017-1709992800-1710014400@squatch-brewing.com
SUMMARY:Benvenuti's Pizza Factory
DESCRIPTION:
URL:https://squatch-brewing.com/event/benvenutis-pizza-factory/
LOCATION:Squatch Brewing\, 203 Townsend Drive\, Monroeville\, PA\, 15146\, United States
CATEGORIES:Food Truck
END:VEVENT
BEGIN:VEVENT
DTSTART;TZID=America/New_York:20240308T180000
DTEND;TZID=America/New_York:20240308T210000
DTSTAMP:20260422T095154
CREATED:20240304T194537Z
LAST-MODIFIED:20241107T193711Z
UID:10000016-1709920800-1709931600@squatch-brewing.com
SUMMARY:Bill Young Acoustic Sounds
DESCRIPTION:
URL:https://squatch-brewing.com/event/bill-young-acoustic-sounds/2024-03-08/
LOCATION:Squatch Brewing\, 203 Townsend Drive\, Monroeville\, PA\, 15146\, United States
CATEGORIES:Entertainment
END:VEVENT
BEGIN:VEVENT
DTSTART;TZID=America/New_York:20240302T170000
DTEND;TZID=America/New_York:20240302T200000
DTSTAMP:20260422T095154
CREATED:20240229T185930Z
LAST-MODIFIED:20250611T161045Z
UID:10000002-1709398800-1709409600@squatch-brewing.com
SUMMARY:Pittsburgh Smokehouse
DESCRIPTION:https://www.facebook.com/pittsburgh.smokehouse/
URL:https://squatch-brewing.com/event/pittsburgh-smokehouse/2024-03-02/
LOCATION:Squatch Brewing\, 203 Townsend Drive\, Monroeville\, PA\, 15146\, United States
CATEGORIES:Food Truck
ATTACH;FMTTYPE=image/png:https://squatch-brewing.com/wp-content/uploads/2024/03/logo-e1730920153602.png
END:VEVENT
END:VCALENDAR